Workbook

Sheet Rank2026
B1: 2026 Week 07
B2: Name | C2: Correct | D2: Total | E2: % | F2: Tiebreak | H2: W01 | I2: W02 | J2: W03 | K2: W04 | L2: W05 | M2: W06 | N2: W07 | O2: W08 | P2: W09 | Q2: W10 | R2: W11 | S2: W12 | T2: W13 | U2: W14 | V2: W15 | W2: W16 | X2: W17 | Y2: W18 | Z2: W19 | AA2: Total | AC2: G01 | AD2: G02 | AE2: G03 | AF2: G04 | AG2: G05 | AH2: G06 | AI2: G07 | AJ2: G08 | AK2: G09 | AL2: G10 | AM2: G11 | AN2: G12 | AO2: G13 | AP2: G14 | AQ2: G15 | AR2: G16 | AS2: G17 | AT2: G18 | AU2: G19 | AV2: Total | AX2: No <50% Wks
A3: 1 | B3: Seamands, Jorden | C3: =AA3 -> 68.5 | D3: =$AA$90 -> 107 | E3: =C3/D3 -> 0.64018692 | F3: =AV3 -> 10 | H3: =VLOOKUP(B3,'W01'!$B$4:$X$100,22, FALSE) -> 11 | I3: =VLOOKUP(B3,'W02'!$B$4:$X$100,22, FALSE) -> 11 | J3: =VLOOKUP(B3,'W03'!$B$4:$X$100,22, FALSE) -> 9 | K3: =VLOOKUP(B3,'W04'!$B$4:$X$100,22, FALSE) -> 11 | L3: =VLOOKUP(B3,'W05'!$B$4:$X$100,22, FALSE) -> 9.5 | M3: =VLOOKUP(B3,'W06'!$B$4:$X$100,22, FALSE) -> 8 | N3: =VLOOKUP(B3,'W07'!$B$4:$X$100,22, FALSE) -> 9 | AA3: =SUM(H3:Z3) -> 68.5 | AC3: =VLOOKUP(B3,'W01'!$B$4:$X$100,23, FALSE) -> 1 | AD3: =VLOOKUP(B3,'W02'!$B$4:$X$100,23, FALSE) -> 2 | AE3: =VLOOKUP(B3,'W03'!$B$4:$X$100,23, FALSE) -> 2 | AF3: =VLOOKUP(B3,'W04'!$B$4:$X$100,23, FALSE) -> 1 | AG3: =VLOOKUP(B3,'W05'!$B$4:$X$100,23, FALSE) -> 2 | AH3: =VLOOKUP(B3,'W06'!$B$4:$X$100,23, FALSE) -> 1 | AI3: =VLOOKUP(B3,'W07'!$B$4:$X$100,23, FALSE) -> 1 | AV3: =SUM(AC3:AU3) -> 10 | AX3: Y
A4: 2 | B4: Seamands, Natalie | C4: =AA4 -> 68.5 | D4: =$AA$90 -> 107 | E4: =C4/D4 -> 0.64018692 | F4: =AV4 -> 10 | H4: =VLOOKUP(B4,'W01'!$B$4:$X$100,22, FALSE) -> 12 | I4: =VLOOKUP(B4,'W02'!$B$4:$X$100,22, FALSE) -> 10 | J4: =VLOOKUP(B4,'W03'!$B$4:$X$100,22, FALSE) -> 9 | K4: =VLOOKUP(B4,'W04'!$B$4:$X$100,22, FALSE) -> 9 | L4: =VLOOKUP(B4,'W05'!$B$4:$X$100,22, FALSE) -> 10.5 | M4: =VLOOKUP(B4,'W06'!$B$4:$X$100,22, FALSE) -> 8 | N4: =VLOOKUP(B4,'W07'!$B$4:$X$100,22, FALSE) -> 10 | AA4: =SUM(H4:Z4) -> 68.5 | AC4: =VLOOKUP(B4,'W01'!$B$4:$X$100,23, FALSE) -> 2 | AD4: =VLOOKUP(B4,'W02'!$B$4:$X$100,23, FALSE) -> 1 | AE4: =VLOOKUP(B4,'W03'!$B$4:$X$100,23, FALSE) -> 1 | AF4: =VLOOKUP(B4,'W04'!$B$4:$X$100,23, FALSE) -> 2 | AG4: =VLOOKUP(B4,'W05'!$B$4:$X$100,23, FALSE) -> 2 | AH4: =VLOOKUP(B4,'W06'!$B$4:$X$100,23, FALSE) -> 1 | AI4: =VLOOKUP(B4,'W07'!$B$4:$X$100,23, FALSE) -> 1 | AV4: =SUM(AC4:AU4) -> 10 | AX4: Y
A5: 3 | B5: Seamands, Nathan | C5: =AA5 -> 67.5 | D5: =$AA$90 -> 107 | E5: =C5/D5 -> 0.63084112 | F5: =AV5 -> 11 | H5: =VLOOKUP(B5,'W01'!$B$4:$X$100,22, FALSE) -> 12 | I5: =VLOOKUP(B5,'W02'!$B$4:$X$100,22, FALSE) -> 10 | J5: =VLOOKUP(B5,'W03'!$B$4:$X$100,22, FALSE) -> 8 | K5: =VLOOKUP(B5,'W04'!$B$4:$X$100,22, FALSE) -> 11 | L5: =VLOOKUP(B5,'W05'!$B$4:$X$100,22, FALSE) -> 9.5 | M5: =VLOOKUP(B5,'W06'!$B$4:$X$100,22, FALSE) -> 9 | N5: =VLOOKUP(B5,'W07'!$B$4:$X$100,22, FALSE) -> 8 | AA5: =SUM(H5:Z5) -> 67.5 | AC5: =VLOOKUP(B5,'W01'!$B$4:$X$100,23, FALSE) -> 1 | AD5: =VLOOKUP(B5,'W02'!$B$4:$X$100,23, FALSE) -> 2 | AE5: =VLOOKUP(B5,'W03'!$B$4:$X$100,23, FALSE) -> 2 | AF5: =VLOOKUP(B5,'W04'!$B$4:$X$100,23, FALSE) -> 2 | AG5: =VLOOKUP(B5,'W05'!$B$4:$X$100,23, FALSE) -> 2 | AH5: =VLOOKUP(B5,'W06'!$B$4:$X$100,23, FALSE) -> 1 | AI5: =VLOOKUP(B5,'W07'!$B$4:$X$100,23, FALSE) -> 1 | AV5: =SUM(AC5:AU5) -> 11 | AX5: Y
A6: 4 | B6: Howard, Bill | C6: =AA6 -> 67.5 | D6: =$AA$90 -> 107 | E6: =C6/D6 -> 0.63084112 | F6: =AV6 -> 10 | H6: =VLOOKUP(B6,'W01'!$B$4:$X$100,22, FALSE) -> 11 | I6: =VLOOKUP(B6,'W02'!$B$4:$X$100,22, FALSE) -> 11 | J6: =VLOOKUP(B6,'W03'!$B$4:$X$100,22, FALSE) -> 6 | K6: =VLOOKUP(B6,'W04'!$B$4:$X$100,22, FALSE) -> 12 | L6: =VLOOKUP(B6,'W05'!$B$4:$X$100,22, FALSE) -> 11.5 | M6: =VLOOKUP(B6,'W06'!$B$4:$X$100,22, FALSE) -> 7 | N6: =VLOOKUP(B6,'W07'!$B$4:$X$100,22, FALSE) -> 9 | AA6: =SUM(H6:Z6) -> 67.5 | AC6: =VLOOKUP(B6,'W01'!$B$4:$X$100,23, FALSE) -> 1 | AD6: =VLOOKUP(B6,'W02'!$B$4:$X$100,23, FALSE) -> 2 | AE6: =VLOOKUP(B6,'W03'!$B$4:$X$100,23, FALSE) -> 2 | AF6: =VLOOKUP(B6,'W04'!$B$4:$X$100,23, FALSE) -> 1 | AG6: =VLOOKUP(B6,'W05'!$B$4:$X$100,23, FALSE) -> 1 | AH6: =VLOOKUP(B6,'W06'!$B$4:$X$100,23, FALSE) -> 2 | AI6: =VLOOKUP(B6,'W07'!$B$4:$X$100,23, FALSE) -> 1 | AV6: =SUM(AC6:AU6) -> 10
A7: 5 | B7: Meyer, Pat | C7: =AA7 -> 67.5 | D7: =$AA$90 -> 107 | E7: =C7/D7 -> 0.63084112 | F7: =AV7 -> 10 | H7: =VLOOKUP(B7,'W01'!$B$4:$X$100,22, FALSE) -> 11 | I7: =VLOOKUP(B7,'W02'!$B$4:$X$100,22, FALSE) -> 10 | J7: =VLOOKUP(B7,'W03'!$B$4:$X$100,22, FALSE) -> 9 | K7: =VLOOKUP(B7,'W04'!$B$4:$X$100,22, FALSE) -> 10 | L7: =VLOOKUP(B7,'W05'!$B$4:$X$100,22, FALSE) -> 9.5 | M7: =VLOOKUP(B7,'W06'!$B$4:$X$100,22, FALSE) -> 8 | N7: =VLOOKUP(B7,'W07'!$B$4:$X$100,22, FALSE) -> 10 | AA7: =SUM(H7:Z7) -> 67.5 | AC7: =VLOOKUP(B7,'W01'!$B$4:$X$100,23, FALSE) -> 1 | AD7: =VLOOKUP(B7,'W02'!$B$4:$X$100,23, FALSE) -> 2 | AE7: =VLOOKUP(B7,'W03'!$B$4:$X$100,23, FALSE) -> 2 | AF7: =VLOOKUP(B7,'W04'!$B$4:$X$100,23, FALSE) -> 2 | AG7: =VLOOKUP(B7,'W05'!$B$4:$X$100,23, FALSE) -> 1 | AH7: =VLOOKUP(B7,'W06'!$B$4:$X$100,23, FALSE) -> 1 | AI7: =VLOOKUP(B7,'W07'!$B$4:$X$100,23, FALSE) -> 1 | AV7: =SUM(AC7:AU7) -> 10 | AX7: Y
A8: 6 | B8: Carrasco, Marsha | C8: =AA8 -> 65.5 | D8: =$AA$90 -> 107 | E8: =C8/D8 -> 0.61214953 | F8: =AV8 -> 10 | H8: =VLOOKUP(B8,'W01'!$B$4:$X$100,22, FALSE) -> 10 | I8: =VLOOKUP(B8,'W02'!$B$4:$X$100,22, FALSE) -> 11 | J8: =VLOOKUP(B8,'W03'!$B$4:$X$100,22, FALSE) -> 8 | K8: =VLOOKUP(B8,'W04'!$B$4:$X$100,22, FALSE) -> 11 | L8: =VLOOKUP(B8,'W05'!$B$4:$X$100,22, FALSE) -> 8.5 | M8: =VLOOKUP(B8,'W06'!$B$4:$X$100,22, FALSE) -> 8 | N8: =VLOOKUP(B8,'W07'!$B$4:$X$100,22, FALSE) -> 9 | AA8: =SUM(H8:Z8) -> 65.5 | AC8: =VLOOKUP(B8,'W01'!$B$4:$X$100,23, FALSE) -> 1 | AD8: =VLOOKUP(B8,'W02'!$B$4:$X$100,23, FALSE) -> 1 | AE8: =VLOOKUP(B8,'W03'!$B$4:$X$100,23, FALSE) -> 2 | AF8: =VLOOKUP(B8,'W04'!$B$4:$X$100,23, FALSE) -> 2 | AG8: =VLOOKUP(B8,'W05'!$B$4:$X$100,23, FALSE) -> 2 | AH8: =VLOOKUP(B8,'W06'!$B$4:$X$100,23, FALSE) -> 1 | AI8: =VLOOKUP(B8,'W07'!$B$4:$X$100,23, FALSE) -> 1 | AV8: =SUM(AC8:AU8) -> 10 | AX8: Y
A9: 7 | B9: Curran, Kevin | C9: =AA9 -> 65.5 | D9: =$AA$90 -> 107 | E9: =C9/D9 -> 0.61214953 | F9: =AV9 -> 10 | H9: =VLOOKUP(B9,'W01'!$B$4:$X$100,22, FALSE) -> 11 | I9: =VLOOKUP(B9,'W02'!$B$4:$X$100,22, FALSE) -> 11 | J9: =VLOOKUP(B9,'W03'!$B$4:$X$100,22, FALSE) -> 7 | K9: =VLOOKUP(B9,'W04'!$B$4:$X$100,22, FALSE) -> 8 | L9: =VLOOKUP(B9,'W05'!$B$4:$X$100,22, FALSE) -> 11.5 | M9: =VLOOKUP(B9,'W06'!$B$4:$X$100,22, FALSE) -> 8 | N9: =VLOOKUP(B9,'W07'!$B$4:$X$100,22, FALSE) -> 9 | AA9: =SUM(H9:Z9) -> 65.5 | AC9: =VLOOKUP(B9,'W01'!$B$4:$X$100,23, FALSE) -> 1 | AD9: =VLOOKUP(B9,'W02'!$B$4:$X$100,23, FALSE) -> 1 | AE9: =VLOOKUP(B9,'W03'!$B$4:$X$100,23, FALSE) -> 1 | AF9: =VLOOKUP(B9,'W04'!$B$4:$X$100,23, FALSE) -> 2 | AG9: =VLOOKUP(B9,'W05'!$B$4:$X$100,23, FALSE) -> 2 | AH9: =VLOOKUP(B9,'W06'!$B$4:$X$100,23, FALSE) -> 2 | AI9: =VLOOKUP(B9,'W07'!$B$4:$X$100,23, FALSE) -> 1 | AV9: =SUM(AC9:AU9) -> 10
A10: 8 | B10: Honeycutt, Wanda | C10: =AA10 -> 65.5 | D10: =$AA$90 -> 107 | E10: =C10/D10 -> 0.61214953 | F10: =AV10 -> 9 | H10: =VLOOKUP(B10,'W01'!$B$4:$X$100,22, FALSE) -> 11 | I10: =VLOOKUP(B10,'W02'!$B$4:$X$100,22, FALSE) -> 11 | J10: =VLOOKUP(B10,'W03'!$B$4:$X$100,22, FALSE) -> 8 | K10: =VLOOKUP(B10,'W04'!$B$4:$X$100,22, FALSE) -> 9 | L10: =VLOOKUP(B10,'W05'!$B$4:$X$100,22, FALSE) -> 9.5 | M10: =VLOOKUP(B10,'W06'!$B$4:$X$100,22, FALSE) -> 8 | N10: =VLOOKUP(B10,'W07'!$B$4:$X$100,22, FALSE) -> 9 | AA10: =SUM(H10:Z10) -> 65.5 | AC10: =VLOOKUP(B10,'W01'!$B$4:$X$100,23, FALSE) -> 2 | AD10: =VLOOKUP(B10,'W02'!$B$4:$X$100,23, FALSE) -> 1 | AE10: =VLOOKUP(B10,'W03'!$B$4:$X$100,23, FALSE) -> 1 | AF10: =VLOOKUP(B10,'W04'!$B$4:$X$100,23, FALSE) -> 1 | AG10: =VLOOKUP(B10,'W05'!$B$4:$X$100,23, FALSE) -> 2 | AH10: =VLOOKUP(B10,'W06'!$B$4:$X$100,23, FALSE) -> 1 | AI10: =VLOOKUP(B10,'W07'!$B$4:$X$100,23, FALSE) -> 1 | AV10: =SUM(AC10:AU10) -> 9 | AX10: Y
A11: 9 | B11: Honeycutt, Terry | C11: =AA11 -> 65.5 | D11: =$AA$90 -> 107 | E11: =C11/D11 -> 0.61214953 | F11: =AV11 -> 8 | H11: =VLOOKUP(B11,'W01'!$B$4:$X$100,22, FALSE) -> 12 | I11: =VLOOKUP(B11,'W02'!$B$4:$X$100,22, FALSE) -> 10 | J11: =VLOOKUP(B11,'W03'!$B$4:$X$100,22, FALSE) -> 8 | K11: =VLOOKUP(B11,'W04'!$B$4:$X$100,22, FALSE) -> 10 | L11: =VLOOKUP(B11,'W05'!$B$4:$X$100,22, FALSE) -> 10.5 | M11: =VLOOKUP(B11,'W06'!$B$4:$X$100,22, FALSE) -> 7 | N11: =VLOOKUP(B11,'W07'!$B$4:$X$100,22, FALSE) -> 8 | AA11: =SUM(H11:Z11) -> 65.5 | AC11: =VLOOKUP(B11,'W01'!$B$4:$X$100,23, FALSE) -> 1 | AD11: =VLOOKUP(B11,'W02'!$B$4:$X$100,23, FALSE) -> 2 | AE11: =VLOOKUP(B11,'W03'!$B$4:$X$100,23, FALSE) -> 1 | AF11: =VLOOKUP(B11,'W04'!$B$4:$X$100,23, FALSE) -> 2 | AG11: =VLOOKUP(B11,'W05'!$B$4:$X$100,23, FALSE) -> 1 | AH11: =VLOOKUP(B11,'W06'!$B$4:$X$100,23, FALSE) -> 1 | AI11: =VLOOKUP(B11,'W07'!$B$4:$X$100,23, FALSE) -> 0 | AV11: =SUM(AC11:AU11) -> 8 | AX11: Y
A12: 10 | B12: Smith, Brad | C12: =AA12 -> 65.5 | D12: =$AA$90 -> 107 | E12: =C12/D12 -> 0.61214953 | F12: =AV12 -> 8 | H12: =VLOOKUP(B12,'W01'!$B$4:$X$100,22, FALSE) -> 12 | I12: =VLOOKUP(B12,'W02'!$B$4:$X$100,22, FALSE) -> 11 | J12: =VLOOKUP(B12,'W03'!$B$4:$X$100,22, FALSE) -> 10 | K12: =VLOOKUP(B12,'W04'!$B$4:$X$100,22, FALSE) -> 10 | L12: =VLOOKUP(B12,'W05'!$B$4:$X$100,22, FALSE) -> 9.5 | M12: =VLOOKUP(B12,'W06'!$B$4:$X$100,22, FALSE) -> 5 | N12: =VLOOKUP(B12,'W07'!$B$4:$X$100,22, FALSE) -> 8 | AA12: =SUM(H12:Z12) -> 65.5 | AC12: =VLOOKUP(B12,'W01'!$B$4:$X$100,23, FALSE) -> 1 | AD12: =VLOOKUP(B12,'W02'!$B$4:$X$100,23, FALSE) -> 2 | AE12: =VLOOKUP(B12,'W03'!$B$4:$X$100,23, FALSE) -> 1 | AF12: =VLOOKUP(B12,'W04'!$B$4:$X$100,23, FALSE) -> 2 | AG12: =VLOOKUP(B12,'W05'!$B$4:$X$100,23, FALSE) -> 1 | AH12: =VLOOKUP(B12,'W06'!$B$4:$X$100,23, FALSE) -> 0 | AI12: =VLOOKUP(B12,'W07'!$B$4:$X$100,23, FALSE) -> 1 | AV12: =SUM(AC12:AU12) -> 8
A13: 11 | B13: Ray, Bobby | C13: =AA13 -> 65.5 | D13: =$AA$90 -> 107 | E13: =C13/D13 -> 0.61214953 | F13: =AV13 -> 7 | H13: =VLOOKUP(B13,'W01'!$B$4:$X$100,22, FALSE) -> 11 | I13: =VLOOKUP(B13,'W02'!$B$4:$X$100,22, FALSE) -> 10 | J13: =VLOOKUP(B13,'W03'!$B$4:$X$100,22, FALSE) -> 9 | K13: =VLOOKUP(B13,'W04'!$B$4:$X$100,22, FALSE) -> 9 | L13: =VLOOKUP(B13,'W05'!$B$4:$X$100,22, FALSE) -> 6.5 | M13: =VLOOKUP(B13,'W06'!$B$4:$X$100,22, FALSE) -> 10 | N13: =VLOOKUP(B13,'W07'!$B$4:$X$100,22, FALSE) -> 10 | AA13: =SUM(H13:Z13) -> 65.5 | AC13: =VLOOKUP(B13,'W01'!$B$4:$X$100,23, FALSE) -> 0 | AD13: =VLOOKUP(B13,'W02'!$B$4:$X$100,23, FALSE) -> 1 | AE13: =VLOOKUP(B13,'W03'!$B$4:$X$100,23, FALSE) -> 1 | AF13: =VLOOKUP(B13,'W04'!$B$4:$X$100,23, FALSE) -> 2 | AG13: =VLOOKUP(B13,'W05'!$B$4:$X$100,23, FALSE) -> 2 | AH13: =VLOOKUP(B13,'W06'!$B$4:$X$100,23, FALSE) -> 1 | AI13: =VLOOKUP(B13,'W07'!$B$4:$X$100,23, FALSE) -> 0 | AV13: =SUM(AC13:AU13) -> 7
A14: 12 | B14: Baker, Ruben | C14: =AA14 -> 64.5 | D14: =$AA$90 -> 107 | E14: =C14/D14 -> 0.60280374 | F14: =AV14 -> 12 | H14: =VLOOKUP(B14,'W01'!$B$4:$X$100,22, FALSE) -> 11 | I14: =VLOOKUP(B14,'W02'!$B$4:$X$100,22, FALSE) -> 10 | J14: =VLOOKUP(B14,'W03'!$B$4:$X$100,22, FALSE) -> 6 | K14: =VLOOKUP(B14,'W04'!$B$4:$X$100,22, FALSE) -> 12 | L14: =VLOOKUP(B14,'W05'!$B$4:$X$100,22, FALSE) -> 9.5 | M14: =VLOOKUP(B14,'W06'!$B$4:$X$100,22, FALSE) -> 7 | N14: =VLOOKUP(B14,'W07'!$B$4:$X$100,22, FALSE) -> 9 | AA14: =SUM(H14:Z14) -> 64.5 | AC14: =VLOOKUP(B14,'W01'!$B$4:$X$100,23, FALSE) -> 1 | AD14: =VLOOKUP(B14,'W02'!$B$4:$X$100,23, FALSE) -> 2 | AE14: =VLOOKUP(B14,'W03'!$B$4:$X$100,23, FALSE) -> 2 | AF14: =VLOOKUP(B14,'W04'!$B$4:$X$100,23, FALSE) -> 1 | AG14: =VLOOKUP(B14,'W05'!$B$4:$X$100,23, FALSE) -> 2 | AH14: =VLOOKUP(B14,'W06'!$B$4:$X$100,23, FALSE) -> 2 | AI14: =VLOOKUP(B14,'W07'!$B$4:$X$100,23, FALSE) -> 2 | AV14: =SUM(AC14:AU14) -> 12
A15: 13 | B15: Greenwood, Douglas | C15: =AA15 -> 64.5 | D15: =$AA$90 -> 107 | E15: =C15/D15 -> 0.60280374 | F15: =AV15 -> 10 | H15: =VLOOKUP(B15,'W01'!$B$4:$X$100,22, FALSE) -> 11 | I15: =VLOOKUP(B15,'W02'!$B$4:$X$100,22, FALSE) -> 11 | J15: =VLOOKUP(B15,'W03'!$B$4:$X$100,22, FALSE) -> 8 | K15: =VLOOKUP(B15,'W04'!$B$4:$X$100,22, FALSE) -> 12 | L15: =VLOOKUP(B15,'W05'!$B$4:$X$100,22, FALSE) -> 8.5 | M15: =VLOOKUP(B15,'W06'!$B$4:$X$100,22, FALSE) -> 8 | N15: =VLOOKUP(B15,'W07'!$B$4:$X$100,22, FALSE) -> 6 | AA15: =SUM(H15:Z15) -> 64.5 | AC15: =VLOOKUP(B15,'W01'!$B$4:$X$100,23, FALSE) -> 1 | AD15: =VLOOKUP(B15,'W02'!$B$4:$X$100,23, FALSE) -> 1 | AE15: =VLOOKUP(B15,'W03'!$B$4:$X$100,23, FALSE) -> 2 | AF15: =VLOOKUP(B15,'W04'!$B$4:$X$100,23, FALSE) -> 1 | AG15: =VLOOKUP(B15,'W05'!$B$4:$X$100,23, FALSE) -> 2 | AH15: =VLOOKUP(B15,'W06'!$B$4:$X$100,23, FALSE) -> 2 | AI15: =VLOOKUP(B15,'W07'!$B$4:$X$100,23, FALSE) -> 1 | AV15: =SUM(AC15:AU15) -> 10
A16: 14 | B16: Seamands, Byron | C16: =AA16 -> 64.5 | D16: =$AA$90 -> 107 | E16: =C16/D16 -> 0.60280374 | F16: =AV16 -> 9 | H16: =VLOOKUP(B16,'W01'!$B$4:$X$100,22, FALSE) -> 12 | I16: =VLOOKUP(B16,'W02'!$B$4:$X$100,22, FALSE) -> 11 | J16: =VLOOKUP(B16,'W03'!$B$4:$X$100,22, FALSE) -> 7 | K16: =VLOOKUP(B16,'W04'!$B$4:$X$100,22, FALSE) -> 11 | L16: =VLOOKUP(B16,'W05'!$B$4:$X$100,22, FALSE) -> 9.5 | M16: =VLOOKUP(B16,'W06'!$B$4:$X$100,22, FALSE) -> 6 | N16: =VLOOKUP(B16,'W07'!$B$4:$X$100,22, FALSE) -> 8 | AA16: =SUM(H16:Z16) -> 64.5 | AC16: =VLOOKUP(B16,'W01'!$B$4:$X$100,23, FALSE) -> 1 | AD16: =VLOOKUP(B16,'W02'!$B$4:$X$100,23, FALSE) -> 1 | AE16: =VLOOKUP(B16,'W03'!$B$4:$X$100,23, FALSE) -> 2 | AF16: =VLOOKUP(B16,'W04'!$B$4:$X$100,23, FALSE) -> 2 | AG16: =VLOOKUP(B16,'W05'!$B$4:$X$100,23, FALSE) -> 1 | AH16: =VLOOKUP(B16,'W06'!$B$4:$X$100,23, FALSE) -> 1 | AI16: =VLOOKUP(B16,'W07'!$B$4:$X$100,23, FALSE) -> 1 | AV16: =SUM(AC16:AU16) -> 9
A17: 15 | B17: Rushing, Luke | C17: =AA17 -> 64.5 | D17: =$AA$90 -> 107 | E17: =C17/D17 -> 0.60280374 | F17: =AV17 -> 8 | H17: =VLOOKUP(B17,'W01'!$B$4:$X$100,22, FALSE) -> 10 | I17: =VLOOKUP(B17,'W02'!$B$4:$X$100,22, FALSE) -> 13 | J17: =VLOOKUP(B17,'W03'!$B$4:$X$100,22, FALSE) -> 7 | K17: =VLOOKUP(B17,'W04'!$B$4:$X$100,22, FALSE) -> 9 | L17: =VLOOKUP(B17,'W05'!$B$4:$X$100,22, FALSE) -> 7.5 | M17: =VLOOKUP(B17,'W06'!$B$4:$X$100,22, FALSE) -> 9 | N17: =VLOOKUP(B17,'W07'!$B$4:$X$100,22, FALSE) -> 9 | AA17: =SUM(H17:Z17) -> 64.5 | AC17: =VLOOKUP(B17,'W01'!$B$4:$X$100,23, FALSE) -> 1 | AD17: =VLOOKUP(B17,'W02'!$B$4:$X$100,23, FALSE) -> 2 | AE17: =VLOOKUP(B17,'W03'!$B$4:$X$100,23, FALSE) -> 1 | AF17: =VLOOKUP(B17,'W04'!$B$4:$X$100,23, FALSE) -> 0 | AG17: =VLOOKUP(B17,'W05'!$B$4:$X$100,23, FALSE) -> 2 | AH17: =VLOOKUP(B17,'W06'!$B$4:$X$100,23, FALSE) -> 2 | AI17: =VLOOKUP(B17,'W07'!$B$4:$X$100,23, FALSE) -> 0 | AV17: =SUM(AC17:AU17) -> 8
A18: 16 | B18: Seamands, Mike | C18: =AA18 -> 64.5 | D18: =$AA$90 -> 107 | E18: =C18/D18 -> 0.60280374 | F18: =AV18 -> 8 | H18: =VLOOKUP(B18,'W01'!$B$4:$X$100,22, FALSE) -> 9 | I18: =VLOOKUP(B18,'W02'!$B$4:$X$100,22, FALSE) -> 11 | J18: =VLOOKUP(B18,'W03'!$B$4:$X$100,22, FALSE) -> 8 | K18: =VLOOKUP(B18,'W04'!$B$4:$X$100,22, FALSE) -> 11 | L18: =VLOOKUP(B18,'W05'!$B$4:$X$100,22, FALSE) -> 9.5 | M18: =VLOOKUP(B18,'W06'!$B$4:$X$100,22, FALSE) -> 7 | N18: =VLOOKUP(B18,'W07'!$B$4:$X$100,22, FALSE) -> 9 | AA18: =SUM(H18:Z18) -> 64.5 | AC18: =VLOOKUP(B18,'W01'!$B$4:$X$100,23, FALSE) -> 1 | AD18: =VLOOKUP(B18,'W02'!$B$4:$X$100,23, FALSE) -> 2 | AE18: =VLOOKUP(B18,'W03'!$B$4:$X$100,23, FALSE) -> 2 | AF18: =VLOOKUP(B18,'W04'!$B$4:$X$100,23, FALSE) -> 2 | AG18: =VLOOKUP(B18,'W05'!$B$4:$X$100,23, FALSE) -> 0 | AH18: =VLOOKUP(B18,'W06'!$B$4:$X$100,23, FALSE) -> 1 | AI18: =VLOOKUP(B18,'W07'!$B$4:$X$100,23, FALSE) -> 0 | AV18: =SUM(AC18:AU18) -> 8 | AX18: Y
A19: 17 | B19: Smith, Payton | C19: =AA19 -> 64.5 | D19: =$AA$90 -> 107 | E19: =C19/D19 -> 0.60280374 | F19: =AV19 -> 8 | H19: =VLOOKUP(B19,'W01'!$B$4:$X$100,22, FALSE) -> 10 | I19: =VLOOKUP(B19,'W02'!$B$4:$X$100,22, FALSE) -> 12 | J19: =VLOOKUP(B19,'W03'!$B$4:$X$100,22, FALSE) -> 8 | K19: =VLOOKUP(B19,'W04'!$B$4:$X$100,22, FALSE) -> 10 | L19: =VLOOKUP(B19,'W05'!$B$4:$X$100,22, FALSE) -> 11.5 | M19: =VLOOKUP(B19,'W06'!$B$4:$X$100,22, FALSE) -> 7 | N19: =VLOOKUP(B19,'W07'!$B$4:$X$100,22, FALSE) -> 6 | AA19: =SUM(H19:Z19) -> 64.5 | AC19: =VLOOKUP(B19,'W01'!$B$4:$X$100,23, FALSE) -> 2 | AD19: =VLOOKUP(B19,'W02'!$B$4:$X$100,23, FALSE) -> 1 | AE19: =VLOOKUP(B19,'W03'!$B$4:$X$100,23, FALSE) -> 1 | AF19: =VLOOKUP(B19,'W04'!$B$4:$X$100,23, FALSE) -> 2 | AG19: =VLOOKUP(B19,'W05'!$B$4:$X$100,23, FALSE) -> 2 | AH19: =VLOOKUP(B19,'W06'!$B$4:$X$100,23, FALSE) -> 0 | AI19: =VLOOKUP(B19,'W07'!$B$4:$X$100,23, FALSE) -> 0 | AV19: =SUM(AC19:AU19) -> 8
A20: 18 | B20: Manzala, Jerome | C20: =AA20 -> 64.5 | D20: =$AA$90 -> 107 | E20: =C20/D20 -> 0.60280374 | F20: =AV20 -> 7 | H20: =VLOOKUP(B20,'W01'!$B$4:$X$100,22, FALSE) -> 6 | I20: =VLOOKUP(B20,'W02'!$B$4:$X$100,22, FALSE) -> 12 | J20: =VLOOKUP(B20,'W03'!$B$4:$X$100,22, FALSE) -> 10 | K20: =VLOOKUP(B20,'W04'!$B$4:$X$100,22, FALSE) -> 12 | L20: =VLOOKUP(B20,'W05'!$B$4:$X$100,22, FALSE) -> 9.5 | M20: =VLOOKUP(B20,'W06'!$B$4:$X$100,22, FALSE) -> 7 | N20: =VLOOKUP(B20,'W07'!$B$4:$X$100,22, FALSE) -> 8 | AA20: =SUM(H20:Z20) -> 64.5 | AC20: =VLOOKUP(B20,'W01'!$B$4:$X$100,23, FALSE) -> 0 | AD20: =VLOOKUP(B20,'W02'!$B$4:$X$100,23, FALSE) -> 2 | AE20: =VLOOKUP(B20,'W03'!$B$4:$X$100,23, FALSE) -> 1 | AF20: =VLOOKUP(B20,'W04'!$B$4:$X$100,23, FALSE) -> 1 | AG20: =VLOOKUP(B20,'W05'!$B$4:$X$100,23, FALSE) -> 1 | AH20: =VLOOKUP(B20,'W06'!$B$4:$X$100,23, FALSE) -> 1 | AI20: =VLOOKUP(B20,'W07'!$B$4:$X$100,23, FALSE) -> 1 | AV20: =SUM(AC20:AU20) -> 7 | AX20: Y
A21: 19 | B21: Greenwood, Nathan | C21: =AA21 -> 63.5 | D21: =$AA$90 -> 107 | E21: =C21/D21 -> 0.59345794 | F21: =AV21 -> 11 | H21: =VLOOKUP(B21,'W01'!$B$4:$X$100,22, FALSE) -> 9 | I21: =VLOOKUP(B21,'W02'!$B$4:$X$100,22, FALSE) -> 12 | J21: =VLOOKUP(B21,'W03'!$B$4:$X$100,22, FALSE) -> 8 | K21: =VLOOKUP(B21,'W04'!$B$4:$X$100,22, FALSE) -> 10 | L21: =VLOOKUP(B21,'W05'!$B$4:$X$100,22, FALSE) -> 8.5 | M21: =VLOOKUP(B21,'W06'!$B$4:$X$100,22, FALSE) -> 8 | N21: =VLOOKUP(B21,'W07'!$B$4:$X$100,22, FALSE) -> 8 | AA21: =SUM(H21:Z21) -> 63.5 | AC21: =VLOOKUP(B21,'W01'!$B$4:$X$100,23, FALSE) -> 1 | AD21: =VLOOKUP(B21,'W02'!$B$4:$X$100,23, FALSE) -> 2 | AE21: =VLOOKUP(B21,'W03'!$B$4:$X$100,23, FALSE) -> 1 | AF21: =VLOOKUP(B21,'W04'!$B$4:$X$100,23, FALSE) -> 2 | AG21: =VLOOKUP(B21,'W05'!$B$4:$X$100,23, FALSE) -> 2 | AH21: =VLOOKUP(B21,'W06'!$B$4:$X$100,23, FALSE) -> 2 | AI21: =VLOOKUP(B21,'W07'!$B$4:$X$100,23, FALSE) -> 1 | AV21: =SUM(AC21:AU21) -> 11 | AX21: Y
A22: 20 | B22: Southerland, Brett | C22: =AA22 -> 63.5 | D22: =$AA$90 -> 107 | E22: =C22/D22 -> 0.59345794 | F22: =AV22 -> 11 | H22: =VLOOKUP(B22,'W01'!$B$4:$X$100,22, FALSE) -> 10 | I22: =VLOOKUP(B22,'W02'!$B$4:$X$100,22, FALSE) -> 10 | J22: =VLOOKUP(B22,'W03'!$B$4:$X$100,22, FALSE) -> 8 | K22: =VLOOKUP(B22,'W04'!$B$4:$X$100,22, FALSE) -> 10 | L22: =VLOOKUP(B22,'W05'!$B$4:$X$100,22, FALSE) -> 10.5 | M22: =VLOOKUP(B22,'W06'!$B$4:$X$100,22, FALSE) -> 9 | N22: =VLOOKUP(B22,'W07'!$B$4:$X$100,22, FALSE) -> 6 | AA22: =SUM(H22:Z22) -> 63.5 | AC22: =VLOOKUP(B22,'W01'!$B$4:$X$100,23, FALSE) -> 1 | AD22: =VLOOKUP(B22,'W02'!$B$4:$X$100,23, FALSE) -> 2 | AE22: =VLOOKUP(B22,'W03'!$B$4:$X$100,23, FALSE) -> 1 | AF22: =VLOOKUP(B22,'W04'!$B$4:$X$100,23, FALSE) -> 2 | AG22: =VLOOKUP(B22,'W05'!$B$4:$X$100,23, FALSE) -> 2 | AH22: =VLOOKUP(B22,'W06'!$B$4:$X$100,23, FALSE) -> 2 | AI22: =VLOOKUP(B22,'W07'!$B$4:$X$100,23, FALSE) -> 1 | AV22: =SUM(AC22:AU22) -> 11
A23: 21 | B23: Carrasco, Eli | C23: =AA23 -> 63.5 | D23: =$AA$90 -> 107 | E23: =C23/D23 -> 0.59345794 | F23: =AV23 -> 10 | H23: =VLOOKUP(B23,'W01'!$B$4:$X$100,22, FALSE) -> 10 | I23: =VLOOKUP(B23,'W02'!$B$4:$X$100,22, FALSE) -> 12 | J23: =VLOOKUP(B23,'W03'!$B$4:$X$100,22, FALSE) -> 7 | K23: =VLOOKUP(B23,'W04'!$B$4:$X$100,22, FALSE) -> 11 | L23: =VLOOKUP(B23,'W05'!$B$4:$X$100,22, FALSE) -> 9.5 | M23: =VLOOKUP(B23,'W06'!$B$4:$X$100,22, FALSE) -> 6 | N23: =VLOOKUP(B23,'W07'!$B$4:$X$100,22, FALSE) -> 8 | AA23: =SUM(H23:Z23) -> 63.5 | AC23: =VLOOKUP(B23,'W01'!$B$4:$X$100,23, FALSE) -> 1 | AD23: =VLOOKUP(B23,'W02'!$B$4:$X$100,23, FALSE) -> 1 | AE23: =VLOOKUP(B23,'W03'!$B$4:$X$100,23, FALSE) -> 2 | AF23: =VLOOKUP(B23,'W04'!$B$4:$X$100,23, FALSE) -> 2 | AG23: =VLOOKUP(B23,'W05'!$B$4:$X$100,23, FALSE) -> 1 | AH23: =VLOOKUP(B23,'W06'!$B$4:$X$100,23, FALSE) -> 2 | AI23: =VLOOKUP(B23,'W07'!$B$4:$X$100,23, FALSE) -> 1 | AV23: =SUM(AC23:AU23) -> 10
A24: 22 | B24: Skipper, Eric | C24: =AA24 -> 63.5 | D24: =$AA$90 -> 107 | E24: =C24/D24 -> 0.59345794 | F24: =AV24 -> 9 | H24: =VLOOKUP(B24,'W01'!$B$4:$X$100,22, FALSE) -> 10 | I24: =VLOOKUP(B24,'W02'!$B$4:$X$100,22, FALSE) -> 9 | J24: =VLOOKUP(B24,'W03'!$B$4:$X$100,22, FALSE) -> 7 | K24: =VLOOKUP(B24,'W04'!$B$4:$X$100,22, FALSE) -> 12 | L24: =VLOOKUP(B24,'W05'!$B$4:$X$100,22, FALSE) -> 9.5 | M24: =VLOOKUP(B24,'W06'!$B$4:$X$100,22, FALSE) -> 8 | N24: =VLOOKUP(B24,'W07'!$B$4:$X$100,22, FALSE) -> 8 | AA24: =SUM(H24:Z24) -> 63.5 | AC24: =VLOOKUP(B24,'W01'!$B$4:$X$100,23, FALSE) -> 2 | AD24: =VLOOKUP(B24,'W02'!$B$4:$X$100,23, FALSE) -> 1 | AE24: =VLOOKUP(B24,'W03'!$B$4:$X$100,23, FALSE) -> 2 | AF24: =VLOOKUP(B24,'W04'!$B$4:$X$100,23, FALSE) -> 1 | AG24: =VLOOKUP(B24,'W05'!$B$4:$X$100,23, FALSE) -> 1 | AH24: =VLOOKUP(B24,'W06'!$B$4:$X$100,23, FALSE) -> 1 | AI24: =VLOOKUP(B24,'W07'!$B$4:$X$100,23, FALSE) -> 1 | AV24: =SUM(AC24:AU24) -> 9
A25: 23 | B25: Trant, Amon | C25: =AA25 -> 63.5 | D25: =$AA$90 -> 107 | E25: =C25/D25 -> 0.59345794 | F25: =AV25 -> 9 | H25: =VLOOKUP(B25,'W01'!$B$4:$X$100,22, FALSE) -> 7 | I25: =VLOOKUP(B25,'W02'!$B$4:$X$100,22, FALSE) -> 8 | J25: =VLOOKUP(B25,'W03'!$B$4:$X$100,22, FALSE) -> 10 | K25: =VLOOKUP(B25,'W04'!$B$4:$X$100,22, FALSE) -> 11 | L25: =VLOOKUP(B25,'W05'!$B$4:$X$100,22, FALSE) -> 10.5 | M25: =VLOOKUP(B25,'W06'!$B$4:$X$100,22, FALSE) -> 8 | N25: =VLOOKUP(B25,'W07'!$B$4:$X$100,22, FALSE) -> 9 | AA25: =SUM(H25:Z25) -> 63.5 | AC25: =VLOOKUP(B25,'W01'!$B$4:$X$100,23, FALSE) -> 1 | AD25: =VLOOKUP(B25,'W02'!$B$4:$X$100,23, FALSE) -> 1 | AE25: =VLOOKUP(B25,'W03'!$B$4:$X$100,23, FALSE) -> 2 | AF25: =VLOOKUP(B25,'W04'!$B$4:$X$100,23, FALSE) -> 2 | AG25: =VLOOKUP(B25,'W05'!$B$4:$X$100,23, FALSE) -> 1 | AH25: =VLOOKUP(B25,'W06'!$B$4:$X$100,23, FALSE) -> 2 | AI25: =VLOOKUP(B25,'W07'!$B$4:$X$100,23, FALSE) -> 0 | AV25: =SUM(AC25:AU25) -> 9
A26: 24 | B26: White, Shawn | C26: =AA26 -> 63.5 | D26: =$AA$90 -> 107 | E26: =C26/D26 -> 0.59345794 | F26: =AV26 -> 9 | H26: =VLOOKUP(B26,'W01'!$B$4:$X$100,22, FALSE) -> 12 | I26: =VLOOKUP(B26,'W02'!$B$4:$X$100,22, FALSE) -> 11 | J26: =VLOOKUP(B26,'W03'!$B$4:$X$100,22, FALSE) -> 7 | K26: =VLOOKUP(B26,'W04'!$B$4:$X$100,22, FALSE) -> 9 | L26: =VLOOKUP(B26,'W05'!$B$4:$X$100,22, FALSE) -> 8.5 | M26: =VLOOKUP(B26,'W06'!$B$4:$X$100,22, FALSE) -> 8 | N26: =VLOOKUP(B26,'W07'!$B$4:$X$100,22, FALSE) -> 8 | AA26: =SUM(H26:Z26) -> 63.5 | AC26: =VLOOKUP(B26,'W01'!$B$4:$X$100,23, FALSE) -> 1 | AD26: =VLOOKUP(B26,'W02'!$B$4:$X$100,23, FALSE) -> 1 | AE26: =VLOOKUP(B26,'W03'!$B$4:$X$100,23, FALSE) -> 2 | AF26: =VLOOKUP(B26,'W04'!$B$4:$X$100,23, FALSE) -> 2 | AG26: =VLOOKUP(B26,'W05'!$B$4:$X$100,23, FALSE) -> 1 | AH26: =VLOOKUP(B26,'W06'!$B$4:$X$100,23, FALSE) -> 1 | AI26: =VLOOKUP(B26,'W07'!$B$4:$X$100,23, FALSE) -> 1 | AV26: =SUM(AC26:AU26) -> 9
A27: 25 | B27: Meyer, Brennan | C27: =AA27 -> 63.5 | D27: =$AA$90 -> 107 | E27: =C27/D27 -> 0.59345794 | F27: =AV27 -> 5 | H27: =VLOOKUP(B27,'W01'!$B$4:$X$100,22, FALSE) -> 11 | I27: =VLOOKUP(B27,'W02'!$B$4:$X$100,22, FALSE) -> 12 | J27: =VLOOKUP(B27,'W03'!$B$4:$X$100,22, FALSE) -> 9 | K27: =VLOOKUP(B27,'W04'!$B$4:$X$100,22, FALSE) -> 5 | L27: =VLOOKUP(B27,'W05'!$B$4:$X$100,22, FALSE) -> 10.5 | M27: =VLOOKUP(B27,'W06'!$B$4:$X$100,22, FALSE) -> 7 | N27: =VLOOKUP(B27,'W07'!$B$4:$X$100,22, FALSE) -> 9 | AA27: =SUM(H27:Z27) -> 63.5 | AC27: =VLOOKUP(B27,'W01'!$B$4:$X$100,23, FALSE) -> 0 | AD27: =VLOOKUP(B27,'W02'!$B$4:$X$100,23, FALSE) -> 1 | AE27: =VLOOKUP(B27,'W03'!$B$4:$X$100,23, FALSE) -> 0 | AF27: =VLOOKUP(B27,'W04'!$B$4:$X$100,23, FALSE) -> 0 | AG27: =VLOOKUP(B27,'W05'!$B$4:$X$100,23, FALSE) -> 2 | AH27: =VLOOKUP(B27,'W06'!$B$4:$X$100,23, FALSE) -> 2 | AI27: =VLOOKUP(B27,'W07'!$B$4:$X$100,23, FALSE) -> 0 | AV27: =SUM(AC27:AU27) -> 5
A28: 26 | B28: Curran, Taylor | C28: =AA28 -> 62.5 | D28: =$AA$90 -> 107 | E28: =C28/D28 -> 0.58411215 | F28: =AV28 -> 11 | H28: =VLOOKUP(B28,'W01'!$B$4:$X$100,22, FALSE) -> 10 | I28: =VLOOKUP(B28,'W02'!$B$4:$X$100,22, FALSE) -> 12 | J28: =VLOOKUP(B28,'W03'!$B$4:$X$100,22, FALSE) -> 7 | K28: =VLOOKUP(B28,'W04'!$B$4:$X$100,22, FALSE) -> 9 | L28: =VLOOKUP(B28,'W05'!$B$4:$X$100,22, FALSE) -> 8.5 | M28: =VLOOKUP(B28,'W06'!$B$4:$X$100,22, FALSE) -> 8 | N28: =VLOOKUP(B28,'W07'!$B$4:$X$100,22, FALSE) -> 8 | AA28: =SUM(H28:Z28) -> 62.5 | AC28: =VLOOKUP(B28,'W01'!$B$4:$X$100,23, FALSE) -> 1 | AD28: =VLOOKUP(B28,'W02'!$B$4:$X$100,23, FALSE) -> 2 | AE28: =VLOOKUP(B28,'W03'!$B$4:$X$100,23, FALSE) -> 1 | AF28: =VLOOKUP(B28,'W04'!$B$4:$X$100,23, FALSE) -> 2 | AG28: =VLOOKUP(B28,'W05'!$B$4:$X$100,23, FALSE) -> 2 | AH28: =VLOOKUP(B28,'W06'!$B$4:$X$100,23, FALSE) -> 2 | AI28: =VLOOKUP(B28,'W07'!$B$4:$X$100,23, FALSE) -> 1 | AV28: =SUM(AC28:AU28) -> 11
A29: 27 | B29: Meyer, Dave | C29: =AA29 -> 62.5 | D29: =$AA$90 -> 107 | E29: =C29/D29 -> 0.58411215 | F29: =AV29 -> 11 | H29: =VLOOKUP(B29,'W01'!$B$4:$X$100,22, FALSE) -> 10 | I29: =VLOOKUP(B29,'W02'!$B$4:$X$100,22, FALSE) -> 11 | J29: =VLOOKUP(B29,'W03'!$B$4:$X$100,22, FALSE) -> 7 | K29: =VLOOKUP(B29,'W04'!$B$4:$X$100,22, FALSE) -> 11 | L29: =VLOOKUP(B29,'W05'!$B$4:$X$100,22, FALSE) -> 7.5 | M29: =VLOOKUP(B29,'W06'!$B$4:$X$100,22, FALSE) -> 8 | N29: =VLOOKUP(B29,'W07'!$B$4:$X$100,22, FALSE) -> 8 | AA29: =SUM(H29:Z29) -> 62.5 | AC29: =VLOOKUP(B29,'W01'!$B$4:$X$100,23, FALSE) -> 2 | AD29: =VLOOKUP(B29,'W02'!$B$4:$X$100,23, FALSE) -> 1 | AE29: =VLOOKUP(B29,'W03'!$B$4:$X$100,23, FALSE) -> 1 | AF29: =VLOOKUP(B29,'W04'!$B$4:$X$100,23, FALSE) -> 1 | AG29: =VLOOKUP(B29,'W05'!$B$4:$X$100,23, FALSE) -> 2 | AH29: =VLOOKUP(B29,'W06'!$B$4:$X$100,23, FALSE) -> 2 | AI29: =VLOOKUP(B29,'W07'!$B$4:$X$100,23, FALSE) -> 2 | AV29: =SUM(AC29:AU29) -> 11
A30: 28 | B30: Prothro, Tom | C30: =AA30 -> 62.5 | D30: =$AA$90 -> 107 | E30: =C30/D30 -> 0.58411215 | F30: =AV30 -> 11 | H30: =VLOOKUP(B30,'W01'!$B$4:$X$100,22, FALSE) -> 11 | I30: =VLOOKUP(B30,'W02'!$B$4:$X$100,22, FALSE) -> 10 | J30: =VLOOKUP(B30,'W03'!$B$4:$X$100,22, FALSE) -> 8 | K30: =VLOOKUP(B30,'W04'!$B$4:$X$100,22, FALSE) -> 9 | L30: =VLOOKUP(B30,'W05'!$B$4:$X$100,22, FALSE) -> 9.5 | M30: =VLOOKUP(B30,'W06'!$B$4:$X$100,22, FALSE) -> 8 | N30: =VLOOKUP(B30,'W07'!$B$4:$X$100,22, FALSE) -> 7 | AA30: =SUM(H30:Z30) -> 62.5 | AC30: =VLOOKUP(B30,'W01'!$B$4:$X$100,23, FALSE) -> 1 | AD30: =VLOOKUP(B30,'W02'!$B$4:$X$100,23, FALSE) -> 2 | AE30: =VLOOKUP(B30,'W03'!$B$4:$X$100,23, FALSE) -> 1 | AF30: =VLOOKUP(B30,'W04'!$B$4:$X$100,23, FALSE) -> 2 | AG30: =VLOOKUP(B30,'W05'!$B$4:$X$100,23, FALSE) -> 2 | AH30: =VLOOKUP(B30,'W06'!$B$4:$X$100,23, FALSE) -> 2 | AI30: =VLOOKUP(B30,'W07'!$B$4:$X$100,23, FALSE) -> 1 | AV30: =SUM(AC30:AU30) -> 11 | AX30: Y
A31: 29 | B31: Baze, Drew | C31: =AA31 -> 62.5 | D31: =$AA$90 -> 107 | E31: =C31/D31 -> 0.58411215 | F31: =AV31 -> 10 | H31: =VLOOKUP(B31,'W01'!$B$4:$X$100,22, FALSE) -> 12 | I31: =VLOOKUP(B31,'W02'!$B$4:$X$100,22, FALSE) -> 9 | J31: =VLOOKUP(B31,'W03'!$B$4:$X$100,22, FALSE) -> 7 | K31: =VLOOKUP(B31,'W04'!$B$4:$X$100,22, FALSE) -> 10 | L31: =VLOOKUP(B31,'W05'!$B$4:$X$100,22, FALSE) -> 11.5 | M31: =VLOOKUP(B31,'W06'!$B$4:$X$100,22, FALSE) -> 5 | N31: =VLOOKUP(B31,'W07'!$B$4:$X$100,22, FALSE) -> 8 | AA31: =SUM(H31:Z31) -> 62.5 | AC31: =VLOOKUP(B31,'W01'!$B$4:$X$100,23, FALSE) -> 1 | AD31: =VLOOKUP(B31,'W02'!$B$4:$X$100,23, FALSE) -> 2 | AE31: =VLOOKUP(B31,'W03'!$B$4:$X$100,23, FALSE) -> 1 | AF31: =VLOOKUP(B31,'W04'!$B$4:$X$100,23, FALSE) -> 2 | AG31: =VLOOKUP(B31,'W05'!$B$4:$X$100,23, FALSE) -> 1 | AH31: =VLOOKUP(B31,'W06'!$B$4:$X$100,23, FALSE) -> 2 | AI31: =VLOOKUP(B31,'W07'!$B$4:$X$100,23, FALSE) -> 1 | AV31: =SUM(AC31:AU31) -> 10
A32: 30 | B32: Mattson, Nick | C32: =AA32 -> 62.5 | D32: =$AA$90 -> 107 | E32: =C32/D32 -> 0.58411215 | F32: =AV32 -> 10 | H32: =VLOOKUP(B32,'W01'!$B$4:$X$100,22, FALSE) -> 11 | I32: =VLOOKUP(B32,'W02'!$B$4:$X$100,22, FALSE) -> 11 | J32: =VLOOKUP(B32,'W03'!$B$4:$X$100,22, FALSE) -> 9 | K32: =VLOOKUP(B32,'W04'!$B$4:$X$100,22, FALSE) -> 8 | L32: =VLOOKUP(B32,'W05'!$B$4:$X$100,22, FALSE) -> 8.5 | M32: =VLOOKUP(B32,'W06'!$B$4:$X$100,22, FALSE) -> 9 | N32: =VLOOKUP(B32,'W07'!$B$4:$X$100,22, FALSE) -> 6 | AA32: =SUM(H32:Z32) -> 62.5 | AC32: =VLOOKUP(B32,'W01'!$B$4:$X$100,23, FALSE) -> 0 | AD32: =VLOOKUP(B32,'W02'!$B$4:$X$100,23, FALSE) -> 1 | AE32: =VLOOKUP(B32,'W03'!$B$4:$X$100,23, FALSE) -> 2 | AF32: =VLOOKUP(B32,'W04'!$B$4:$X$100,23, FALSE) -> 2 | AG32: =VLOOKUP(B32,'W05'!$B$4:$X$100,23, FALSE) -> 2 | AH32: =VLOOKUP(B32,'W06'!$B$4:$X$100,23, FALSE) -> 1 | AI32: =VLOOKUP(B32,'W07'!$B$4:$X$100,23, FALSE) -> 2 | AV32: =SUM(AC32:AU32) -> 10
A33: 31 | B33: Purschwitz, Dan | C33: =AA33 -> 62.5 | D33: =$AA$90 -> 107 | E33: =C33/D33 -> 0.58411215 | F33: =AV33 -> 10 | H33: =VLOOKUP(B33,'W01'!$B$4:$X$100,22, FALSE) -> 10 | I33: =VLOOKUP(B33,'W02'!$B$4:$X$100,22, FALSE) -> 11 | J33: =VLOOKUP(B33,'W03'!$B$4:$X$100,22, FALSE) -> 7 | K33: =VLOOKUP(B33,'W04'!$B$4:$X$100,22, FALSE) -> 12 | L33: =VLOOKUP(B33,'W05'!$B$4:$X$100,22, FALSE) -> 10.5 | M33: =VLOOKUP(B33,'W06'!$B$4:$X$100,22, FALSE) -> 8 | N33: =VLOOKUP(B33,'W07'!$B$4:$X$100,22, FALSE) -> 4 | AA33: =SUM(H33:Z33) -> 62.5 | AC33: =VLOOKUP(B33,'W01'!$B$4:$X$100,23, FALSE) -> 1 | AD33: =VLOOKUP(B33,'W02'!$B$4:$X$100,23, FALSE) -> 1 | AE33: =VLOOKUP(B33,'W03'!$B$4:$X$100,23, FALSE) -> 1 | AF33: =VLOOKUP(B33,'W04'!$B$4:$X$100,23, FALSE) -> 2 | AG33: =VLOOKUP(B33,'W05'!$B$4:$X$100,23, FALSE) -> 2 | AH33: =VLOOKUP(B33,'W06'!$B$4:$X$100,23, FALSE) -> 2 | AI33: =VLOOKUP(B33,'W07'!$B$4:$X$100,23, FALSE) -> 1 | AV33: =SUM(AC33:AU33) -> 10
A34: 32 | B34: Manzala, Jeremy | C34: =AA34 -> 62.5 | D34: =$AA$90 -> 107 | E34: =C34/D34 -> 0.58411215 | F34: =AV34 -> 9 | H34: =VLOOKUP(B34,'W01'!$B$4:$X$100,22, FALSE) -> 10 | I34: =VLOOKUP(B34,'W02'!$B$4:$X$100,22, FALSE) -> 11 | J34: =VLOOKUP(B34,'W03'!$B$4:$X$100,22, FALSE) -> 6 | K34: =VLOOKUP(B34,'W04'!$B$4:$X$100,22, FALSE) -> 11 | L34: =VLOOKUP(B34,'W05'!$B$4:$X$100,22, FALSE) -> 7.5 | M34: =VLOOKUP(B34,'W06'!$B$4:$X$100,22, FALSE) -> 9 | N34: =VLOOKUP(B34,'W07'!$B$4:$X$100,22, FALSE) -> 8 | AA34: =SUM(H34:Z34) -> 62.5 | AC34: =VLOOKUP(B34,'W01'!$B$4:$X$100,23, FALSE) -> 1 | AD34: =VLOOKUP(B34,'W02'!$B$4:$X$100,23, FALSE) -> 2 | AE34: =VLOOKUP(B34,'W03'!$B$4:$X$100,23, FALSE) -> 0 | AF34: =VLOOKUP(B34,'W04'!$B$4:$X$100,23, FALSE) -> 2 | AG34: =VLOOKUP(B34,'W05'!$B$4:$X$100,23, FALSE) -> 1 | AH34: =VLOOKUP(B34,'W06'!$B$4:$X$100,23, FALSE) -> 2 | AI34: =VLOOKUP(B34,'W07'!$B$4:$X$100,23, FALSE) -> 1 | AV34: =SUM(AC34:AU34) -> 9
A35: 33 | B35: Alsobrook, Luke | C35: =AA35 -> 61.5 | D35: =$AA$90 -> 107 | E35: =C35/D35 -> 0.57476636 | F35: =AV35 -> 9 | H35: =VLOOKUP(B35,'W01'!$B$4:$X$100,22, FALSE) -> 12 | I35: =VLOOKUP(B35,'W02'!$B$4:$X$100,22, FALSE) -> 11 | J35: =VLOOKUP(B35,'W03'!$B$4:$X$100,22, FALSE) -> 8 | K35: =VLOOKUP(B35,'W04'!$B$4:$X$100,22, FALSE) -> 10 | L35: =VLOOKUP(B35,'W05'!$B$4:$X$100,22, FALSE) -> 7.5 | M35: =VLOOKUP(B35,'W06'!$B$4:$X$100,22, FALSE) -> 6 | N35: =VLOOKUP(B35,'W07'!$B$4:$X$100,22, FALSE) -> 7 | AA35: =SUM(H35:Z35) -> 61.5 | AC35: =VLOOKUP(B35,'W01'!$B$4:$X$100,23, FALSE) -> 1 | AD35: =VLOOKUP(B35,'W02'!$B$4:$X$100,23, FALSE) -> 1 | AE35: =VLOOKUP(B35,'W03'!$B$4:$X$100,23, FALSE) -> 1 | AF35: =VLOOKUP(B35,'W04'!$B$4:$X$100,23, FALSE) -> 2 | AG35: =VLOOKUP(B35,'W05'!$B$4:$X$100,23, FALSE) -> 1 | AH35: =VLOOKUP(B35,'W06'!$B$4:$X$100,23, FALSE) -> 1 | AI35: =VLOOKUP(B35,'W07'!$B$4:$X$100,23, FALSE) -> 2 | AV35: =SUM(AC35:AU35) -> 9
A36: 34 | B36: Ardill, Scott | C36: =AA36 -> 61.5 | D36: =$AA$90 -> 107 | E36: =C36/D36 -> 0.57476636 | F36: =AV36 -> 9 | H36: =VLOOKUP(B36,'W01'!$B$4:$X$100,22, FALSE) -> 11 | I36: =VLOOKUP(B36,'W02'!$B$4:$X$100,22, FALSE) -> 8 | J36: =VLOOKUP(B36,'W03'!$B$4:$X$100,22, FALSE) -> 7 | K36: =VLOOKUP(B36,'W04'!$B$4:$X$100,22, FALSE) -> 9 | L36: =VLOOKUP(B36,'W05'!$B$4:$X$100,22, FALSE) -> 9.5 | M36: =VLOOKUP(B36,'W06'!$B$4:$X$100,22, FALSE) -> 8 | N36: =VLOOKUP(B36,'W07'!$B$4:$X$100,22, FALSE) -> 9 | AA36: =SUM(H36:Z36) -> 61.5 | AC36: =VLOOKUP(B36,'W01'!$B$4:$X$100,23, FALSE) -> 1 | AD36: =VLOOKUP(B36,'W02'!$B$4:$X$100,23, FALSE) -> 1 | AE36: =VLOOKUP(B36,'W03'!$B$4:$X$100,23, FALSE) -> 2 | AF36: =VLOOKUP(B36,'W04'!$B$4:$X$100,23, FALSE) -> 2 | AG36: =VLOOKUP(B36,'W05'!$B$4:$X$100,23, FALSE) -> 1 | AH36: =VLOOKUP(B36,'W06'!$B$4:$X$100,23, FALSE) -> 1 | AI36: =VLOOKUP(B36,'W07'!$B$4:$X$100,23, FALSE) -> 1 | AV36: =SUM(AC36:AU36) -> 9
A37: 35 | B37: Rapisand, Ryan | C37: =AA37 -> 61.5 | D37: =$AA$90 -> 107 | E37: =C37/D37 -> 0.57476636 | F37: =AV37 -> 9 | H37: =VLOOKUP(B37,'W01'!$B$4:$X$100,22, FALSE) -> 11 | I37: =VLOOKUP(B37,'W02'!$B$4:$X$100,22, FALSE) -> 8 | J37: =VLOOKUP(B37,'W03'!$B$4:$X$100,22, FALSE) -> 8 | K37: =VLOOKUP(B37,'W04'!$B$4:$X$100,22, FALSE) -> 10 | L37: =VLOOKUP(B37,'W05'!$B$4:$X$100,22, FALSE) -> 10.5 | M37: =VLOOKUP(B37,'W06'!$B$4:$X$100,22, FALSE) -> 8 | N37: =VLOOKUP(B37,'W07'!$B$4:$X$100,22, FALSE) -> 6 | AA37: =SUM(H37:Z37) -> 61.5 | AC37: =VLOOKUP(B37,'W01'!$B$4:$X$100,23, FALSE) -> 1 | AD37: =VLOOKUP(B37,'W02'!$B$4:$X$100,23, FALSE) -> 1 | AE37: =VLOOKUP(B37,'W03'!$B$4:$X$100,23, FALSE) -> 2 | AF37: =VLOOKUP(B37,'W04'!$B$4:$X$100,23, FALSE) -> 2 | AG37: =VLOOKUP(B37,'W05'!$B$4:$X$100,23, FALSE) -> 1 | AH37: =VLOOKUP(B37,'W06'!$B$4:$X$100,23, FALSE) -> 1 | AI37: =VLOOKUP(B37,'W07'!$B$4:$X$100,23, FALSE) -> 1 | AV37: =SUM(AC37:AU37) -> 9
A38: 36 | B38: Seamands, Sarah | C38: =AA38 -> 61.5 | D38: =$AA$90 -> 107 | E38: =C38/D38 -> 0.57476636 | F38: =AV38 -> 9 | H38: =VLOOKUP(B38,'W01'!$B$4:$X$100,22, FALSE) -> 12 | I38: =VLOOKUP(B38,'W02'!$B$4:$X$100,22, FALSE) -> 9 | J38: =VLOOKUP(B38,'W03'!$B$4:$X$100,22, FALSE) -> 8 | K38: =VLOOKUP(B38,'W04'!$B$4:$X$100,22, FALSE) -> 6 | L38: =VLOOKUP(B38,'W05'!$B$4:$X$100,22, FALSE) -> 9.5 | M38: =VLOOKUP(B38,'W06'!$B$4:$X$100,22, FALSE) -> 9 | N38: =VLOOKUP(B38,'W07'!$B$4:$X$100,22, FALSE) -> 8 | AA38: =SUM(H38:Z38) -> 61.5 | AC38: =VLOOKUP(B38,'W01'!$B$4:$X$100,23, FALSE) -> 1 | AD38: =VLOOKUP(B38,'W02'!$B$4:$X$100,23, FALSE) -> 1 | AE38: =VLOOKUP(B38,'W03'!$B$4:$X$100,23, FALSE) -> 2 | AF38: =VLOOKUP(B38,'W04'!$B$4:$X$100,23, FALSE) -> 2 | AG38: =VLOOKUP(B38,'W05'!$B$4:$X$100,23, FALSE) -> 1 | AH38: =VLOOKUP(B38,'W06'!$B$4:$X$100,23, FALSE) -> 1 | AI38: =VLOOKUP(B38,'W07'!$B$4:$X$100,23, FALSE) -> 1 | AV38: =SUM(AC38:AU38) -> 9
A39: 37 | B39: Young, Michael | C39: =AA39 -> 61.5 | D39: =$AA$90 -> 107 | E39: =C39/D39 -> 0.57476636 | F39: =AV39 -> 9 | H39: =VLOOKUP(B39,'W01'!$B$4:$X$100,22, FALSE) -> 13 | I39: =VLOOKUP(B39,'W02'!$B$4:$X$100,22, FALSE) -> 9 | J39: =VLOOKUP(B39,'W03'!$B$4:$X$100,22, FALSE) -> 7 | K39: =VLOOKUP(B39,'W04'!$B$4:$X$100,22, FALSE) -> 12 | L39: =VLOOKUP(B39,'W05'!$B$4:$X$100,22, FALSE) -> 7.5 | M39: =VLOOKUP(B39,'W06'!$B$4:$X$100,22, FALSE) -> 5 | N39: =VLOOKUP(B39,'W07'!$B$4:$X$100,22, FALSE) -> 8 | AA39: =SUM(H39:Z39) -> 61.5 | AC39: =VLOOKUP(B39,'W01'!$B$4:$X$100,23, FALSE) -> 2 | AD39: =VLOOKUP(B39,'W02'!$B$4:$X$100,23, FALSE) -> 1 | AE39: =VLOOKUP(B39,'W03'!$B$4:$X$100,23, FALSE) -> 1 | AF39: =VLOOKUP(B39,'W04'!$B$4:$X$100,23, FALSE) -> 2 | AG39: =VLOOKUP(B39,'W05'!$B$4:$X$100,23, FALSE) -> 1 | AH39: =VLOOKUP(B39,'W06'!$B$4:$X$100,23, FALSE) -> 1 | AI39: =VLOOKUP(B39,'W07'!$B$4:$X$100,23, FALSE) -> 1 | AV39: =SUM(AC39:AU39) -> 9
A40: 38 | B40: Hyde, Todd | C40: =AA40 -> 61.5 | D40: =$AA$90 -> 107 | E40: =C40/D40 -> 0.57476636 | F40: =AV40 -> 8 | H40: =VLOOKUP(B40,'W01'!$B$4:$X$100,22, FALSE) -> 8 | I40: =VLOOKUP(B40,'W02'!$B$4:$X$100,22, FALSE) -> 11 | J40: =VLOOKUP(B40,'W03'!$B$4:$X$100,22, FALSE) -> 7 | K40: =VLOOKUP(B40,'W04'!$B$4:$X$100,22, FALSE) -> 11 | L40: =VLOOKUP(B40,'W05'!$B$4:$X$100,22, FALSE) -> 9.5 | M40: =VLOOKUP(B40,'W06'!$B$4:$X$100,22, FALSE) -> 7 | N40: =VLOOKUP(B40,'W07'!$B$4:$X$100,22, FALSE) -> 8 | AA40: =SUM(H40:Z40) -> 61.5 | AC40: =VLOOKUP(B40,'W01'!$B$4:$X$100,23, FALSE) -> 0 | AD40: =VLOOKUP(B40,'W02'!$B$4:$X$100,23, FALSE) -> 1 | AE40: =VLOOKUP(B40,'W03'!$B$4:$X$100,23, FALSE) -> 1 | AF40: =VLOOKUP(B40,'W04'!$B$4:$X$100,23, FALSE) -> 1 | AG40: =VLOOKUP(B40,'W05'!$B$4:$X$100,23, FALSE) -> 2 | AH40: =VLOOKUP(B40,'W06'!$B$4:$X$100,23, FALSE) -> 2 | AI40: =VLOOKUP(B40,'W07'!$B$4:$X$100,23, FALSE) -> 1 | AV40: =SUM(AC40:AU40) -> 8
A41: 39 | B41: Anthis, Lincoln | C41: =AA41 -> 61.5 | D41: =$AA$90 -> 107 | E41: =C41/D41 -> 0.57476636 | F41: =AV41 -> 7 | H41: =VLOOKUP(B41,'W01'!$B$4:$X$100,22, FALSE) -> 9 | I41: =VLOOKUP(B41,'W02'!$B$4:$X$100,22, FALSE) -> 12 | J41: =VLOOKUP(B41,'W03'!$B$4:$X$100,22, FALSE) -> 9 | K41: =VLOOKUP(B41,'W04'!$B$4:$X$100,22, FALSE) -> 9 | L41: =VLOOKUP(B41,'W05'!$B$4:$X$100,22, FALSE) -> 9.5 | M41: =VLOOKUP(B41,'W06'!$B$4:$X$100,22, FALSE) -> 4 | N41: =VLOOKUP(B41,'W07'!$B$4:$X$100,22, FALSE) -> 9 | AA41: =SUM(H41:Z41) -> 61.5 | AC41: =VLOOKUP(B41,'W01'!$B$4:$X$100,23, FALSE) -> 2 | AD41: =VLOOKUP(B41,'W02'!$B$4:$X$100,23, FALSE) -> 1 | AE41: =VLOOKUP(B41,'W03'!$B$4:$X$100,23, FALSE) -> 1 | AF41: =VLOOKUP(B41,'W04'!$B$4:$X$100,23, FALSE) -> 1 | AG41: =VLOOKUP(B41,'W05'!$B$4:$X$100,23, FALSE) -> 1 | AH41: =VLOOKUP(B41,'W06'!$B$4:$X$100,23, FALSE) -> 1 | AI41: =VLOOKUP(B41,'W07'!$B$4:$X$100,23, FALSE) -> 0 | AV41: =SUM(AC41:AU41) -> 7
A42: 40 | B42: Anthis, Michael | C42: =AA42 -> 61.5 | D42: =$AA$90 -> 107 | E42: =C42/D42 -> 0.57476636 | F42: =AV42 -> 7 | H42: =VLOOKUP(B42,'W01'!$B$4:$X$100,22, FALSE) -> 9 | I42: =VLOOKUP(B42,'W02'!$B$4:$X$100,22, FALSE) -> 11 | J42: =VLOOKUP(B42,'W03'!$B$4:$X$100,22, FALSE) -> 9 | K42: =VLOOKUP(B42,'W04'!$B$4:$X$100,22, FALSE) -> 9 | L42: =VLOOKUP(B42,'W05'!$B$4:$X$100,22, FALSE) -> 8.5 | M42: =VLOOKUP(B42,'W06'!$B$4:$X$100,22, FALSE) -> 6 | N42: =VLOOKUP(B42,'W07'!$B$4:$X$100,22, FALSE) -> 9 | AA42: =SUM(H42:Z42) -> 61.5 | AC42: =VLOOKUP(B42,'W01'!$B$4:$X$100,23, FALSE) -> 2 | AD42: =VLOOKUP(B42,'W02'!$B$4:$X$100,23, FALSE) -> 1 | AE42: =VLOOKUP(B42,'W03'!$B$4:$X$100,23, FALSE) -> 2 | AF42: =VLOOKUP(B42,'W04'!$B$4:$X$100,23, FALSE) -> 1 | AG42: =VLOOKUP(B42,'W05'!$B$4:$X$100,23, FALSE) -> 1 | AH42: =VLOOKUP(B42,'W06'!$B$4:$X$100,23, FALSE) -> 0 | AI42: =VLOOKUP(B42,'W07'!$B$4:$X$100,23, FALSE) -> 0 | AV42: =SUM(AC42:AU42) -> 7
... A51: 49 | B51: John, Thunder | C51: =AA51 -> 59.5 | D51: =$AA$90 -> 107 | E51: =C51/D51 -> 0.55607477 | F51: =AV51 -> 9 | H51: =VLOOKUP(B51,'W01'!$B$4:$X$100,22, FALSE) -> 9 | I51: =VLOOKUP(B51,'W02'!$B$4:$X$100,22, FALSE) -> 11 | J51: =VLOOKUP(B51,'W03'!$B$4:$X$100,22, FALSE) -> 7 | K51: =VLOOKUP(B51,'W04'!$B$4:$X$100,22, FALSE) -> 11 | L51: =VLOOKUP(B51,'W05'!$B$4:$X$100,22, FALSE) -> 7.5 | M51: =VLOOKUP(B51,'W06'!$B$4:$X$100,22, FALSE) -> 8 | N51: =VLOOKUP(B51,'W07'!$B$4:$X$100,22, FALSE) -> 6 | AA51: =SUM(H51:Z51) -> 59.5 | AC51: =VLOOKUP(B51,'W01'!$B$4:$X$100,23, FALSE) -> 2 | AD51: =VLOOKUP(B51,'W02'!$B$4:$X$100,23, FALSE) -> 1 | AE51: =VLOOKUP(B51,'W03'!$B$4:$X$100,23, FALSE) -> 2 | AF51: =VLOOKUP(B51,'W04'!$B$4:$X$100,23, FALSE) -> 1 | AG51: =VLOOKUP(B51,'W05'!$B$4:$X$100,23, FALSE) -> 1 | AH51: =VLOOKUP(B51,'W06'!$B$4:$X$100,23, FALSE) -> 1 | AI51: =VLOOKUP(B51,'W07'!$B$4:$X$100,23, FALSE) -> 1 | AV51: =SUM(AC51:AU51) -> 9
A52: 50 | B52: Prothro, John | C52: =AA52 -> 59.5 | D52: =$AA$90 -> 107 | E52: =C52/D52 -> 0.55607477 | F52: =AV52 -> 9 | H52: =VLOOKUP(B52,'W01'!$B$4:$X$100,22, FALSE) -> 9 | I52: =VLOOKUP(B52,'W02'!$B$4:$X$100,22, FALSE) -> 9 | J52: =VLOOKUP(B52,'W03'!$B$4:$X$100,22, FALSE) -> 8 | K52: =VLOOKUP(B52,'W04'!$B$4:$X$100,22, FALSE) -> 10 | L52: =VLOOKUP(B52,'W05'!$B$4:$X$100,22, FALSE) -> 8.5 | M52: =VLOOKUP(B52,'W06'!$B$4:$X$100,22, FALSE) -> 7 | N52: =VLOOKUP(B52,'W07'!$B$4:$X$100,22, FALSE) -> 8 | AA52: =SUM(H52:Z52) -> 59.5 | AC52: =VLOOKUP(B52,'W01'!$B$4:$X$100,23, FALSE) -> 1 | AD52: =VLOOKUP(B52,'W02'!$B$4:$X$100,23, FALSE) -> 1 | AE52: =VLOOKUP(B52,'W03'!$B$4:$X$100,23, FALSE) -> 2 | AF52: =VLOOKUP(B52,'W04'!$B$4:$X$100,23, FALSE) -> 2 | AG52: =VLOOKUP(B52,'W05'!$B$4:$X$100,23, FALSE) -> 1 | AH52: =VLOOKUP(B52,'W06'!$B$4:$X$100,23, FALSE) -> 1 | AI52: =VLOOKUP(B52,'W07'!$B$4:$X$100,23, FALSE) -> 1 | AV52: =SUM(AC52:AU52) -> 9 | AX52: Y
A53: 51 | B53: Buck, Darrell | C53: =AA53 -> 58.5 | D53: =$AA$90 -> 107 | E53: =C53/D53 -> 0.54672897 | F53: =AV53 -> 11 | H53: =VLOOKUP(B53,'W01'!$B$4:$X$100,22, FALSE) -> 12 | I53: =VLOOKUP(B53,'W02'!$B$4:$X$100,22, FALSE) -> 9 | J53: =VLOOKUP(B53,'W03'!$B$4:$X$100,22, FALSE) -> 6 | K53: =VLOOKUP(B53,'W04'!$B$4:$X$100,22, FALSE) -> 9 | L53: =VLOOKUP(B53,'W05'!$B$4:$X$100,22, FALSE) -> 6.5 | M53: =VLOOKUP(B53,'W06'!$B$4:$X$100,22, FALSE) -> 7 | N53: =VLOOKUP(B53,'W07'!$B$4:$X$100,22, FALSE) -> 9 | AA53: =SUM(H53:Z53) -> 58.5 | AC53: =VLOOKUP(B53,'W01'!$B$4:$X$100,23, FALSE) -> 2 | AD53: =VLOOKUP(B53,'W02'!$B$4:$X$100,23, FALSE) -> 2 | AE53: =VLOOKUP(B53,'W03'!$B$4:$X$100,23, FALSE) -> 1 | AF53: =VLOOKUP(B53,'W04'!$B$4:$X$100,23, FALSE) -> 2 | AG53: =VLOOKUP(B53,'W05'!$B$4:$X$100,23, FALSE) -> 2 | AH53: =VLOOKUP(B53,'W06'!$B$4:$X$100,23, FALSE) -> 1 | AI53: =VLOOKUP(B53,'W07'!$B$4:$X$100,23, FALSE) -> 1 | AV53: =SUM(AC53:AU53) -> 11
A54: 52 | B54: Baker, Joel | C54: =AA54 -> 57.5 | D54: =$AA$90 -> 107 | E54: =C54/D54 -> 0.53738318 | F54: =AV54 -> 9 | H54: =VLOOKUP(B54,'W01'!$B$4:$X$100,22, FALSE) -> 10 | I54: =VLOOKUP(B54,'W02'!$B$4:$X$100,22, FALSE) -> 8 | J54: =VLOOKUP(B54,'W03'!$B$4:$X$100,22, FALSE) -> 8 | K54: =VLOOKUP(B54,'W04'!$B$4:$X$100,22, FALSE) -> 10 | L54: =VLOOKUP(B54,'W05'!$B$4:$X$100,22, FALSE) -> 10.5 | M54: =VLOOKUP(B54,'W06'!$B$4:$X$100,22, FALSE) -> 8 | N54: =VLOOKUP(B54,'W07'!$B$4:$X$100,22, FALSE) -> 3 | AA54: =SUM(H54:Z54) -> 57.5 | AC54: =VLOOKUP(B54,'W01'!$B$4:$X$100,23, FALSE) -> 1 | AD54: =VLOOKUP(B54,'W02'!$B$4:$X$100,23, FALSE) -> 2 | AE54: =VLOOKUP(B54,'W03'!$B$4:$X$100,23, FALSE) -> 1 | AF54: =VLOOKUP(B54,'W04'!$B$4:$X$100,23, FALSE) -> 1 | AG54: =VLOOKUP(B54,'W05'!$B$4:$X$100,23, FALSE) -> 2 | AH54: =VLOOKUP(B54,'W06'!$B$4:$X$100,23, FALSE) -> 2 | AI54: =VLOOKUP(B54,'W07'!$B$4:$X$100,23, FALSE) -> 0 | AV54: =SUM(AC54:AU54) -> 9
A55: 53 | B55: Manzala, Jason | C55: =AA55 -> 57.5 | D55: =$AA$90 -> 107 | E55: =C55/D55 -> 0.53738318 | F55: =AV55 -> 9 | H55: =VLOOKUP(B55,'W01'!$B$4:$X$100,22, FALSE) -> 10 | I55: =VLOOKUP(B55,'W02'!$B$4:$X$100,22, FALSE) -> 9 | J55: =VLOOKUP(B55,'W03'!$B$4:$X$100,22, FALSE) -> 9 | K55: =VLOOKUP(B55,'W04'!$B$4:$X$100,22, FALSE) -> 11 | L55: =VLOOKUP(B55,'W05'!$B$4:$X$100,22, FALSE) -> 6.5 | M55: =VLOOKUP(B55,'W06'!$B$4:$X$100,22, FALSE) -> 6 | N55: =VLOOKUP(B55,'W07'!$B$4:$X$100,22, FALSE) -> 6 | AA55: =SUM(H55:Z55) -> 57.5 | AC55: =VLOOKUP(B55,'W01'!$B$4:$X$100,23, FALSE) -> 1 | AD55: =VLOOKUP(B55,'W02'!$B$4:$X$100,23, FALSE) -> 1 | AE55: =VLOOKUP(B55,'W03'!$B$4:$X$100,23, FALSE) -> 2 | AF55: =VLOOKUP(B55,'W04'!$B$4:$X$100,23, FALSE) -> 1 | AG55: =VLOOKUP(B55,'W05'!$B$4:$X$100,23, FALSE) -> 1 | AH55: =VLOOKUP(B55,'W06'!$B$4:$X$100,23, FALSE) -> 2 | AI55: =VLOOKUP(B55,'W07'!$B$4:$X$100,23, FALSE) -> 1 | AV55: =SUM(AC55:AU55) -> 9
A56: 54 | B56: Fortner, Jason | C56: =AA56 -> 57.5 | D56: =$AA$90 -> 107 | E56: =C56/D56 -> 0.53738318 | F56: =AV56 -> 8 | H56: =VLOOKUP(B56,'W01'!$B$4:$X$100,22, FALSE) -> 10 | I56: =VLOOKUP(B56,'W02'!$B$4:$X$100,22, FALSE) -> 8 | J56: =VLOOKUP(B56,'W03'!$B$4:$X$100,22, FALSE) -> 7 | K56: =VLOOKUP(B56,'W04'!$B$4:$X$100,22, FALSE) -> 12 | L56: =VLOOKUP(B56,'W05'!$B$4:$X$100,22, FALSE) -> 8.5 | M56: =VLOOKUP(B56,'W06'!$B$4:$X$100,22, FALSE) -> 6 | N56: =VLOOKUP(B56,'W07'!$B$4:$X$100,22, FALSE) -> 6 | AA56: =SUM(H56:Z56) -> 57.5 | AC56: =VLOOKUP(B56,'W01'!$B$4:$X$100,23, FALSE) -> 1 | AD56: =VLOOKUP(B56,'W02'!$B$4:$X$100,23, FALSE) -> 1 | AE56: =VLOOKUP(B56,'W03'!$B$4:$X$100,23, FALSE) -> 2 | AF56: =VLOOKUP(B56,'W04'!$B$4:$X$100,23, FALSE) -> 2 | AG56: =VLOOKUP(B56,'W05'!$B$4:$X$100,23, FALSE) -> 1 | AH56: =VLOOKUP(B56,'W06'!$B$4:$X$100,23, FALSE) -> 1 | AI56: =VLOOKUP(B56,'W07'!$B$4:$X$100,23, FALSE) -> 0 | AV56: =SUM(AC56:AU56) -> 8
A57: 55 | B57: Frias, Adan | C57: =AA57 -> 57.5 | D57: =$AA$90 -> 107 | E57: =C57/D57 -> 0.53738318 | F57: =AV57 -> 8 | H57: =VLOOKUP(B57,'W01'!$B$4:$X$100,22, FALSE) -> 10 | I57: =VLOOKUP(B57,'W02'!$B$4:$X$100,22, FALSE) -> 11 | J57: =VLOOKUP(B57,'W03'!$B$4:$X$100,22, FALSE) -> 9 | K57: =VLOOKUP(B57,'W04'!$B$4:$X$100,22, FALSE) -> 11 | L57: =VLOOKUP(B57,'W05'!$B$4:$X$100,22, FALSE) -> 4.5 | M57: =VLOOKUP(B57,'W06'!$B$4:$X$100,22, FALSE) -> 6 | N57: =VLOOKUP(B57,'W07'!$B$4:$X$100,22, FALSE) -> 6 | AA57: =SUM(H57:Z57) -> 57.5 | AC57: =VLOOKUP(B57,'W01'!$B$4:$X$100,23, FALSE) -> 1 | AD57: =VLOOKUP(B57,'W02'!$B$4:$X$100,23, FALSE) -> 1 | AE57: =VLOOKUP(B57,'W03'!$B$4:$X$100,23, FALSE) -> 1 | AF57: =VLOOKUP(B57,'W04'!$B$4:$X$100,23, FALSE) -> 2 | AG57: =VLOOKUP(B57,'W05'!$B$4:$X$100,23, FALSE) -> 1 | AH57: =VLOOKUP(B57,'W06'!$B$4:$X$100,23, FALSE) -> 1 | AI57: =VLOOKUP(B57,'W07'!$B$4:$X$100,23, FALSE) -> 1 | AV57: =SUM(AC57:AU57) -> 8
A58: 56 | B58: Kraus, Lloyd | C58: =AA58 -> 57.5 | D58: =$AA$90 -> 107 | E58: =C58/D58 -> 0.53738318 | F58: =AV58 -> 8 | H58: =VLOOKUP(B58,'W01'!$B$4:$X$100,22, FALSE) -> 9 | I58: =VLOOKUP(B58,'W02'!$B$4:$X$100,22, FALSE) -> 8 | J58: =VLOOKUP(B58,'W03'!$B$4:$X$100,22, FALSE) -> 7 | K58: =VLOOKUP(B58,'W04'!$B$4:$X$100,22, FALSE) -> 10 | L58: =VLOOKUP(B58,'W05'!$B$4:$X$100,22, FALSE) -> 9.5 | M58: =VLOOKUP(B58,'W06'!$B$4:$X$100,22, FALSE) -> 9 | N58: =VLOOKUP(B58,'W07'!$B$4:$X$100,22, FALSE) -> 5 | AA58: =SUM(H58:Z58) -> 57.5 | AC58: =VLOOKUP(B58,'W01'!$B$4:$X$100,23, FALSE) -> 1 | AD58: =VLOOKUP(B58,'W02'!$B$4:$X$100,23, FALSE) -> 1 | AE58: =VLOOKUP(B58,'W03'!$B$4:$X$100,23, FALSE) -> 1 | AF58: =VLOOKUP(B58,'W04'!$B$4:$X$100,23, FALSE) -> 2 | AG58: =VLOOKUP(B58,'W05'!$B$4:$X$100,23, FALSE) -> 1 | AH58: =VLOOKUP(B58,'W06'!$B$4:$X$100,23, FALSE) -> 1 | AI58: =VLOOKUP(B58,'W07'!$B$4:$X$100,23, FALSE) -> 1 | AV58: =SUM(AC58:AU58) -> 8
A59: 57 | B59: Miller, Chris | C59: =AA59 -> 57.5 | D59: =$AA$90 -> 107 | E59: =C59/D59 -> 0.53738318 | F59: =AV59 -> 8 | H59: =VLOOKUP(B59,'W01'!$B$4:$X$100,22, FALSE) -> 10 | I59: =VLOOKUP(B59,'W02'!$B$4:$X$100,22, FALSE) -> 11 | J59: =VLOOKUP(B59,'W03'!$B$4:$X$100,22, FALSE) -> 7 | K59: =VLOOKUP(B59,'W04'!$B$4:$X$100,22, FALSE) -> 9 | L59: =VLOOKUP(B59,'W05'!$B$4:$X$100,22, FALSE) -> 5.5 | M59: =VLOOKUP(B59,'W06'!$B$4:$X$100,22, FALSE) -> 6 | N59: =VLOOKUP(B59,'W07'!$B$4:$X$100,22, FALSE) -> 9 | AA59: =SUM(H59:Z59) -> 57.5 | AC59: =VLOOKUP(B59,'W01'!$B$4:$X$100,23, FALSE) -> 1 | AD59: =VLOOKUP(B59,'W02'!$B$4:$X$100,23, FALSE) -> 1 | AE59: =VLOOKUP(B59,'W03'!$B$4:$X$100,23, FALSE) -> 1 | AF59: =VLOOKUP(B59,'W04'!$B$4:$X$100,23, FALSE) -> 2 | AG59: =VLOOKUP(B59,'W05'!$B$4:$X$100,23, FALSE) -> 0 | AH59: =VLOOKUP(B59,'W06'!$B$4:$X$100,23, FALSE) -> 2 | AI59: =VLOOKUP(B59,'W07'!$B$4:$X$100,23, FALSE) -> 1 | AV59: =SUM(AC59:AU59) -> 8
A60: 58 | B60: Folmar, James | C60: =AA60 -> 56.5 | D60: =$AA$90 -> 107 | E60: =C60/D60 -> 0.52803738 | F60: =AV60 -> 10 | H60: =VLOOKUP(B60,'W01'!$B$4:$X$100,22, FALSE) -> 8 | I60: =VLOOKUP(B60,'W02'!$B$4:$X$100,22, FALSE) -> 12 | J60: =VLOOKUP(B60,'W03'!$B$4:$X$100,22, FALSE) -> 7 | K60: =VLOOKUP(B60,'W04'!$B$4:$X$100,22, FALSE) -> 10 | L60: =VLOOKUP(B60,'W05'!$B$4:$X$100,22, FALSE) -> 9.5 | M60: =VLOOKUP(B60,'W06'!$B$4:$X$100,22, FALSE) -> 3 | N60: =VLOOKUP(B60,'W07'!$B$4:$X$100,22, FALSE) -> 7 | AA60: =SUM(H60:Z60) -> 56.5 | AC60: =VLOOKUP(B60,'W01'!$B$4:$X$100,23, FALSE) -> 1 | AD60: =VLOOKUP(B60,'W02'!$B$4:$X$100,23, FALSE) -> 2 | AE60: =VLOOKUP(B60,'W03'!$B$4:$X$100,23, FALSE) -> 2 | AF60: =VLOOKUP(B60,'W04'!$B$4:$X$100,23, FALSE) -> 2 | AG60: =VLOOKUP(B60,'W05'!$B$4:$X$100,23, FALSE) -> 2 | AH60: =VLOOKUP(B60,'W06'!$B$4:$X$100,23, FALSE) -> 0 | AI60: =VLOOKUP(B60,'W07'!$B$4:$X$100,23, FALSE) -> 1 | AV60: =SUM(AC60:AU60) -> 10
A61: 59 | B61: Meyer, Austen | C61: =AA61 -> 56.5 | D61: =$AA$90 -> 107 | E61: =C61/D61 -> 0.52803738 | F61: =AV61 -> 9 | H61: =VLOOKUP(B61,'W01'!$B$4:$X$100,22, FALSE) -> 11 | I61: =VLOOKUP(B61,'W02'!$B$4:$X$100,22, FALSE) -> 9 | J61: =VLOOKUP(B61,'W03'!$B$4:$X$100,22, FALSE) -> 8 | K61: =VLOOKUP(B61,'W04'!$B$4:$X$100,22, FALSE) -> 7 | L61: =VLOOKUP(B61,'W05'!$B$4:$X$100,22, FALSE) -> 6.5 | M61: =VLOOKUP(B61,'W06'!$B$4:$X$100,22, FALSE) -> 8 | N61: =VLOOKUP(B61,'W07'!$B$4:$X$100,22, FALSE) -> 7 | AA61: =SUM(H61:Z61) -> 56.5 | AC61: =VLOOKUP(B61,'W01'!$B$4:$X$100,23, FALSE) -> 2 | AD61: =VLOOKUP(B61,'W02'!$B$4:$X$100,23, FALSE) -> 1 | AE61: =VLOOKUP(B61,'W03'!$B$4:$X$100,23, FALSE) -> 1 | AF61: =VLOOKUP(B61,'W04'!$B$4:$X$100,23, FALSE) -> 2 | AG61: =VLOOKUP(B61,'W05'!$B$4:$X$100,23, FALSE) -> 1 | AH61: =VLOOKUP(B61,'W06'!$B$4:$X$100,23, FALSE) -> 1 | AI61: =VLOOKUP(B61,'W07'!$B$4:$X$100,23, FALSE) -> 1 | AV61: =SUM(AC61:AU61) -> 9
A62: 60 | B62: Roberts, Jeff | C62: =AA62 -> 56.5 | D62: =$AA$90 -> 107 | E62: =C62/D62 -> 0.52803738 | F62: =AV62 -> 9 | H62: =VLOOKUP(B62,'W01'!$B$4:$X$100,22, FALSE) -> 12 | I62: =VLOOKUP(B62,'W02'!$B$4:$X$100,22, FALSE) -> 11 | J62: =VLOOKUP(B62,'W03'!$B$4:$X$100,22, FALSE) -> 5 | K62: =VLOOKUP(B62,'W04'!$B$4:$X$100,22, FALSE) -> 7 | L62: =VLOOKUP(B62,'W05'!$B$4:$X$100,22, FALSE) -> 8.5 | M62: =VLOOKUP(B62,'W06'!$B$4:$X$100,22, FALSE) -> 7 | N62: =VLOOKUP(B62,'W07'!$B$4:$X$100,22, FALSE) -> 6 | AA62: =SUM(H62:Z62) -> 56.5 | AC62: =VLOOKUP(B62,'W01'!$B$4:$X$100,23, FALSE) -> 2 | AD62: =VLOOKUP(B62,'W02'!$B$4:$X$100,23, FALSE) -> 2 | AE62: =VLOOKUP(B62,'W03'!$B$4:$X$100,23, FALSE) -> 1 | AF62: =VLOOKUP(B62,'W04'!$B$4:$X$100,23, FALSE) -> 0 | AG62: =VLOOKUP(B62,'W05'!$B$4:$X$100,23, FALSE) -> 2 | AH62: =VLOOKUP(B62,'W06'!$B$4:$X$100,23, FALSE) -> 1 | AI62: =VLOOKUP(B62,'W07'!$B$4:$X$100,23, FALSE) -> 1 | AV62: =SUM(AC62:AU62) -> 9
A63: 61 | B63: Pearce, Matt | C63: =AA63 -> 56.5 | D63: =$AA$90 -> 107 | E63: =C63/D63 -> 0.52803738 | F63: =AV63 -> 8 | H63: =VLOOKUP(B63,'W01'!$B$4:$X$100,22, FALSE) -> 8 | I63: =VLOOKUP(B63,'W02'!$B$4:$X$100,22, FALSE) -> 13 | J63: =VLOOKUP(B63,'W03'!$B$4:$X$100,22, FALSE) -> 7 | K63: =VLOOKUP(B63,'W04'!$B$4:$X$100,22, FALSE) -> 8 | L63: =VLOOKUP(B63,'W05'!$B$4:$X$100,22, FALSE) -> 8.5 | M63: =VLOOKUP(B63,'W06'!$B$4:$X$100,22, FALSE) -> 8 | N63: =VLOOKUP(B63,'W07'!$B$4:$X$100,22, FALSE) -> 4 | AA63: =SUM(H63:Z63) -> 56.5 | AC63: =VLOOKUP(B63,'W01'!$B$4:$X$100,23, FALSE) -> 1 | AD63: =VLOOKUP(B63,'W02'!$B$4:$X$100,23, FALSE) -> 1 | AE63: =VLOOKUP(B63,'W03'!$B$4:$X$100,23, FALSE) -> 1 | AF63: =VLOOKUP(B63,'W04'!$B$4:$X$100,23, FALSE) -> 2 | AG63: =VLOOKUP(B63,'W05'!$B$4:$X$100,23, FALSE) -> 2 | AH63: =VLOOKUP(B63,'W06'!$B$4:$X$100,23, FALSE) -> 1 | AI63: =VLOOKUP(B63,'W07'!$B$4:$X$100,23, FALSE) -> 0 | AV63: =SUM(AC63:AU63) -> 8
A64: 62 | B64: Vance, Jeremy | C64: =AA64 -> 56.5 | D64: =$AA$90 -> 107 | E64: =C64/D64 -> 0.52803738 | F64: =AV64 -> 8 | H64: =VLOOKUP(B64,'W01'!$B$4:$X$100,22, FALSE) -> 7 | I64: =VLOOKUP(B64,'W02'!$B$4:$X$100,22, FALSE) -> 11 | J64: =VLOOKUP(B64,'W03'!$B$4:$X$100,22, FALSE) -> 7 | K64: =VLOOKUP(B64,'W04'!$B$4:$X$100,22, FALSE) -> 10 | L64: =VLOOKUP(B64,'W05'!$B$4:$X$100,22, FALSE) -> 8.5 | M64: =VLOOKUP(B64,'W06'!$B$4:$X$100,22, FALSE) -> 7 | N64: =VLOOKUP(B64,'W07'!$B$4:$X$100,22, FALSE) -> 6 | AA64: =SUM(H64:Z64) -> 56.5 | AC64: =VLOOKUP(B64,'W01'!$B$4:$X$100,23, FALSE) -> 1 | AD64: =VLOOKUP(B64,'W02'!$B$4:$X$100,23, FALSE) -> 1 | AE64: =VLOOKUP(B64,'W03'!$B$4:$X$100,23, FALSE) -> 2 | AF64: =VLOOKUP(B64,'W04'!$B$4:$X$100,23, FALSE) -> 1 | AG64: =VLOOKUP(B64,'W05'!$B$4:$X$100,23, FALSE) -> 1 | AH64: =VLOOKUP(B64,'W06'!$B$4:$X$100,23, FALSE) -> 1 | AI64: =VLOOKUP(B64,'W07'!$B$4:$X$100,23, FALSE) -> 1 | AV64: =SUM(AC64:AU64) -> 8
... A79: 77 | B79: Smith, Ashton | C79: =AA79 -> 47.5 | D79: =$AA$90 -> 107 | E79: =C79/D79 -> 0.44392523 | F79: =AV79 -> 5 | H79: =VLOOKUP(B79,'W01'!$B$4:$X$100,22, FALSE) -> 10 | I79: =VLOOKUP(B79,'W02'!$B$4:$X$100,22, FALSE) -> 10 | J79: =VLOOKUP(B79,'W03'!$B$4:$X$100,22, FALSE) -> 8 | K79: =VLOOKUP(B79,'W04'!$B$4:$X$100,22, FALSE) -> 5 | L79: =VLOOKUP(B79,'W05'!$B$4:$X$100,22, FALSE) -> 6.5 | M79: =VLOOKUP(B79,'W06'!$B$4:$X$100,22, FALSE) -> 5 | N79: =VLOOKUP(B79,'W07'!$B$4:$X$100,22, FALSE) -> 3 | AA79: =SUM(H79:Z79) -> 47.5 | AC79: =VLOOKUP(B79,'W01'!$B$4:$X$100,23, FALSE) -> 1 | AD79: =VLOOKUP(B79,'W02'!$B$4:$X$100,23, FALSE) -> 1 | AE79: =VLOOKUP(B79,'W03'!$B$4:$X$100,23, FALSE) -> 1 | AF79: =VLOOKUP(B79,'W04'!$B$4:$X$100,23, FALSE) -> 0 | AG79: =VLOOKUP(B79,'W05'!$B$4:$X$100,23, FALSE) -> 1 | AH79: =VLOOKUP(B79,'W06'!$B$4:$X$100,23, FALSE) -> 1 | AI79: =VLOOKUP(B79,'W07'!$B$4:$X$100,23, FALSE) -> 0 | AV79: =SUM(AC79:AU79) -> 5
A80: 78 | C80: =AA80 -> #N/A | D80: =$AA$90 -> 107 | E80: =C80/D80 -> #N/A | F80: =AV80 -> #N/A | H80: =VLOOKUP(B80,'W01'!$B$4:$X$100,22, FALSE) -> #N/A | I80: =VLOOKUP(B80,'W02'!$B$4:$X$100,22, FALSE) -> #N/A | J80: =VLOOKUP(B80,'W03'!$B$4:$X$100,22, FALSE) -> #N/A | K80: =VLOOKUP(B80,'W04'!$B$4:$X$100,22, FALSE) -> #N/A | L80: =VLOOKUP(B80,'W05'!$B$4:$X$100,22, FALSE) -> #N/A | M80: =VLOOKUP(B80,'W06'!$B$4:$X$100,22, FALSE) -> #N/A | N80: =VLOOKUP(B80,'W07'!$B$4:$X$100,22, FALSE) -> #N/A | AA80: =SUM(H80:Z80) -> #N/A | AC80: =VLOOKUP(B80,'W01'!$B$4:$X$100,23, FALSE) -> #N/A | AD80: =VLOOKUP(B80,'W02'!$B$4:$X$100,23, FALSE) -> #N/A | AE80: =VLOOKUP(B80,'W03'!$B$4:$X$100,23, FALSE) -> #N/A | AF80: =VLOOKUP(B80,'W04'!$B$4:$X$100,23, FALSE) -> #N/A | AG80: =VLOOKUP(B80,'W05'!$B$4:$X$100,23, FALSE) -> #N/A | AH80: =VLOOKUP(C80,'W05'!$B$4:$X$100,23, FALSE) -> #N/A | AI80: =VLOOKUP(B80,'W07'!$B$4:$X$100,23, FALSE) -> #N/A | AV80: =SUM(AC80:AU80) -> #N/A
A81: 79 | C81: =AA81 -> #N/A | D81: =$AA$90 -> 107 | E81: =C81/D81 -> #N/A | F81: =AV81 -> #N/A | H81: =VLOOKUP(B81,'W01'!$B$4:$X$100,22, FALSE) -> #N/A | I81: =VLOOKUP(B81,'W02'!$B$4:$X$100,22, FALSE) -> #N/A | J81: =VLOOKUP(B81,'W03'!$B$4:$X$100,22, FALSE) -> #N/A | K81: =VLOOKUP(B81,'W04'!$B$4:$X$100,22, FALSE) -> #N/A | L81: =VLOOKUP(B81,'W05'!$B$4:$X$100,22, FALSE) -> #N/A | M81: =VLOOKUP(B81,'W06'!$B$4:$X$100,22, FALSE) -> #N/A | N81: =VLOOKUP(B81,'W07'!$B$4:$X$100,22, FALSE) -> #N/A | AA81: =SUM(H81:Z81) -> #N/A | AC81: =VLOOKUP(B81,'W01'!$B$4:$X$100,23, FALSE) -> #N/A | AD81: =VLOOKUP(B81,'W02'!$B$4:$X$100,23, FALSE) -> #N/A | AE81: =VLOOKUP(B81,'W03'!$B$4:$X$100,23, FALSE) -> #N/A | AF81: =VLOOKUP(B81,'W04'!$B$4:$X$100,23, FALSE) -> #N/A | AG81: =VLOOKUP(B81,'W05'!$B$4:$X$100,23, FALSE) -> #N/A | AH81: =VLOOKUP(C81,'W05'!$B$4:$X$100,23, FALSE) -> #N/A | AI81: =VLOOKUP(B81,'W07'!$B$4:$X$100,23, FALSE) -> #N/A | AV81: =SUM(AC81:AU81) -> #N/A
A82: 80 | C82: =AA82 -> #N/A | D82: =$AA$90 -> 107 | E82: =C82/D82 -> #N/A | F82: =AV82 -> #N/A | H82: =VLOOKUP(B82,'W01'!$B$4:$X$100,22, FALSE) -> #N/A | I82: =VLOOKUP(B82,'W02'!$B$4:$X$100,22, FALSE) -> #N/A | J82: =VLOOKUP(B82,'W03'!$B$4:$X$100,22, FALSE) -> #N/A | K82: =VLOOKUP(B82,'W04'!$B$4:$X$100,22, FALSE) -> #N/A | L82: =VLOOKUP(B82,'W05'!$B$4:$X$100,22, FALSE) -> #N/A | M82: =VLOOKUP(B82,'W06'!$B$4:$X$100,22, FALSE) -> #N/A | N82: =VLOOKUP(B82,'W07'!$B$4:$X$100,22, FALSE) -> #N/A | AA82: =SUM(H82:Z82) -> #N/A | AC82: =VLOOKUP(B82,'W01'!$B$4:$X$100,23, FALSE) -> #N/A | AD82: =VLOOKUP(B82,'W02'!$B$4:$X$100,23, FALSE) -> #N/A | AE82: =VLOOKUP(B82,'W03'!$B$4:$X$100,23, FALSE) -> #N/A | AF82: =VLOOKUP(B82,'W04'!$B$4:$X$100,23, FALSE) -> #N/A | AG82: =VLOOKUP(B82,'W05'!$B$4:$X$100,23, FALSE) -> #N/A | AH82: =VLOOKUP(C82,'W05'!$B$4:$X$100,23, FALSE) -> #N/A | AI82: =VLOOKUP(B82,'W07'!$B$4:$X$100,23, FALSE) -> #N/A | AV82: =SUM(AC82:AU82) -> #N/A
A83: 81 | C83: =AA83 -> #N/A | D83: =$AA$90 -> 107 | E83: =C83/D83 -> #N/A | F83: =AV83 -> #N/A | H83: =VLOOKUP(B83,'W01'!$B$4:$X$100,22, FALSE) -> #N/A | I83: =VLOOKUP(B83,'W02'!$B$4:$X$100,22, FALSE) -> #N/A | J83: =VLOOKUP(B83,'W03'!$B$4:$X$100,22, FALSE) -> #N/A | K83: =VLOOKUP(B83,'W04'!$B$4:$X$100,22, FALSE) -> #N/A | L83: =VLOOKUP(B83,'W05'!$B$4:$X$100,22, FALSE) -> #N/A | M83: =VLOOKUP(B83,'W06'!$B$4:$X$100,22, FALSE) -> #N/A | N83: =VLOOKUP(B83,'W07'!$B$4:$X$100,22, FALSE) -> #N/A | AA83: =SUM(H83:Z83) -> #N/A | AC83: =VLOOKUP(B83,'W01'!$B$4:$X$100,23, FALSE) -> #N/A | AD83: =VLOOKUP(B83,'W02'!$B$4:$X$100,23, FALSE) -> #N/A | AE83: =VLOOKUP(B83,'W03'!$B$4:$X$100,23, FALSE) -> #N/A | AF83: =VLOOKUP(B83,'W04'!$B$4:$X$100,23, FALSE) -> #N/A | AG83: =VLOOKUP(B83,'W05'!$B$4:$X$100,23, FALSE) -> #N/A | AH83: =VLOOKUP(C83,'W05'!$B$4:$X$100,23, FALSE) -> #N/A | AI83: =VLOOKUP(B83,'W07'!$B$4:$X$100,23, FALSE) -> #N/A | AV83: =SUM(AC83:AU83) -> #N/A
A84: 82 | C84: =AA84 -> #N/A | D84: =$AA$90 -> 107 | E84: =C84/D84 -> #N/A | F84: =AV84 -> #N/A | H84: =VLOOKUP(B84,'W01'!$B$4:$X$100,22, FALSE) -> #N/A | I84: =VLOOKUP(B84,'W02'!$B$4:$X$100,22, FALSE) -> #N/A | J84: =VLOOKUP(B84,'W03'!$B$4:$X$100,22, FALSE) -> #N/A | K84: =VLOOKUP(B84,'W04'!$B$4:$X$100,22, FALSE) -> #N/A | L84: =VLOOKUP(B84,'W05'!$B$4:$X$100,22, FALSE) -> #N/A | M84: =VLOOKUP(B84,'W06'!$B$4:$X$100,22, FALSE) -> #N/A | N84: =VLOOKUP(B84,'W07'!$B$4:$X$100,22, FALSE) -> #N/A | AA84: =SUM(H84:Z84) -> #N/A | AC84: =VLOOKUP(B84,'W01'!$B$4:$X$100,23, FALSE) -> #N/A | AD84: =VLOOKUP(B84,'W02'!$B$4:$X$100,23, FALSE) -> #N/A | AE84: =VLOOKUP(B84,'W03'!$B$4:$X$100,23, FALSE) -> #N/A | AF84: =VLOOKUP(B84,'W04'!$B$4:$X$100,23, FALSE) -> #N/A | AG84: =VLOOKUP(B84,'W05'!$B$4:$X$100,23, FALSE) -> #N/A | AH84: =VLOOKUP(C84,'W05'!$B$4:$X$100,23, FALSE) -> #N/A | AI84: =VLOOKUP(B84,'W07'!$B$4:$X$100,23, FALSE) -> #N/A | AV84: =SUM(AC84:AU84) -> #N/A
A85: 83 | C85: =AA85 -> #N/A | D85: =$AA$90 -> 107 | E85: =C85/D85 -> #N/A | F85: =AV85 -> #N/A | H85: =VLOOKUP(B85,'W01'!$B$4:$X$100,22, FALSE) -> #N/A | I85: =VLOOKUP(B85,'W02'!$B$4:$X$100,22, FALSE) -> #N/A | J85: =VLOOKUP(B85,'W03'!$B$4:$X$100,22, FALSE) -> #N/A | K85: =VLOOKUP(B85,'W04'!$B$4:$X$100,22, FALSE) -> #N/A | L85: =VLOOKUP(B85,'W05'!$B$4:$X$100,22, FALSE) -> #N/A | M85: =VLOOKUP(B85,'W06'!$B$4:$X$100,22, FALSE) -> #N/A | N85: =VLOOKUP(B85,'W07'!$B$4:$X$100,22, FALSE) -> #N/A | AA85: =SUM(H85:Z85) -> #N/A | AC85: =VLOOKUP(B85,'W01'!$B$4:$X$100,23, FALSE) -> #N/A | AD85: =VLOOKUP(B85,'W02'!$B$4:$X$100,23, FALSE) -> #N/A | AE85: =VLOOKUP(B85,'W03'!$B$4:$X$100,23, FALSE) -> #N/A | AF85: =VLOOKUP(B85,'W04'!$B$4:$X$100,23, FALSE) -> #N/A | AG85: =VLOOKUP(B85,'W05'!$B$4:$X$100,23, FALSE) -> #N/A | AH85: =VLOOKUP(C85,'W05'!$B$4:$X$100,23, FALSE) -> #N/A | AI85: =VLOOKUP(B85,'W07'!$B$4:$X$100,23, FALSE) -> #N/A | AV85: =SUM(AC85:AU85) -> #N/A
A86: 84 | C86: =AA86 -> #N/A | D86: =$AA$90 -> 107 | E86: =C86/D86 -> #N/A | F86: =AV86 -> #N/A | H86: =VLOOKUP(B86,'W01'!$B$4:$X$100,22, FALSE) -> #N/A | I86: =VLOOKUP(B86,'W02'!$B$4:$X$100,22, FALSE) -> #N/A | J86: =VLOOKUP(B86,'W03'!$B$4:$X$100,22, FALSE) -> #N/A | K86: =VLOOKUP(B86,'W04'!$B$4:$X$100,22, FALSE) -> #N/A | L86: =VLOOKUP(B86,'W05'!$B$4:$X$100,22, FALSE) -> #N/A | M86: =VLOOKUP(B86,'W06'!$B$4:$X$100,22, FALSE) -> #N/A | N86: =VLOOKUP(B86,'W07'!$B$4:$X$100,22, FALSE) -> #N/A | AA86: =SUM(H86:Z86) -> #N/A | AC86: =VLOOKUP(B86,'W01'!$B$4:$X$100,23, FALSE) -> #N/A | AD86: =VLOOKUP(B86,'W02'!$B$4:$X$100,23, FALSE) -> #N/A | AE86: =VLOOKUP(B86,'W03'!$B$4:$X$100,23, FALSE) -> #N/A | AF86: =VLOOKUP(B86,'W04'!$B$4:$X$100,23, FALSE) -> #N/A | AG86: =VLOOKUP(B86,'W05'!$B$4:$X$100,23, FALSE) -> #N/A | AH86: =VLOOKUP(C86,'W05'!$B$4:$X$100,23, FALSE) -> #N/A | AI86: =VLOOKUP(B86,'W07'!$B$4:$X$100,23, FALSE) -> #N/A | AV86: =SUM(AC86:AU86) -> #N/A
A87: 85 | C87: =AA87 -> #N/A | D87: =$AA$90 -> 107 | E87: =C87/D87 -> #N/A | F87: =AV87 -> #N/A | H87: =VLOOKUP(B87,'W01'!$B$4:$X$100,22, FALSE) -> #N/A | I87: =VLOOKUP(B87,'W02'!$B$4:$X$100,22, FALSE) -> #N/A | J87: =VLOOKUP(B87,'W03'!$B$4:$X$100,22, FALSE) -> #N/A | K87: =VLOOKUP(B87,'W04'!$B$4:$X$100,22, FALSE) -> #N/A | L87: =VLOOKUP(B87,'W05'!$B$4:$X$100,22, FALSE) -> #N/A | M87: =VLOOKUP(B87,'W06'!$B$4:$X$100,22, FALSE) -> #N/A | N87: =VLOOKUP(B87,'W07'!$B$4:$X$100,22, FALSE) -> #N/A | AA87: =SUM(H87:Z87) -> #N/A | AC87: =VLOOKUP(B87,'W01'!$B$4:$X$100,23, FALSE) -> #N/A | AD87: =VLOOKUP(B87,'W02'!$B$4:$X$100,23, FALSE) -> #N/A | AE87: =VLOOKUP(B87,'W03'!$B$4:$X$100,23, FALSE) -> #N/A | AF87: =VLOOKUP(B87,'W04'!$B$4:$X$100,23, FALSE) -> #N/A | AG87: =VLOOKUP(B87,'W05'!$B$4:$X$100,23, FALSE) -> #N/A | AH87: =VLOOKUP(C87,'W05'!$B$4:$X$100,23, FALSE) -> #N/A | AI87: =VLOOKUP(B87,'W07'!$B$4:$X$100,23, FALSE) -> #N/A | AV87: =SUM(AC87:AU87) -> #N/A
B89: FPLeague | C89: =AA89 -> 64.5 | D89: =$AA$90 -> 107 | E89: =C89/D89 -> 0.60280374 | F89: =AV89 -> 11 | H89: =VLOOKUP(B89,'W01'!$B$4:$X$100,22, FALSE) -> 11 | I89: =VLOOKUP(B89,'W02'!$B$4:$X$100,22, FALSE) -> 11 | J89: =VLOOKUP(B89,'W03'!$B$4:$X$100,22, FALSE) -> 8 | K89: =VLOOKUP(B89,'W04'!$B$4:$X$100,22, FALSE) -> 10 | L89: =VLOOKUP(B89,'W05'!$B$4:$X$100,22, FALSE) -> 8.5 | M89: =VLOOKUP(B89,'W06'!$B$4:$X$100,22, FALSE) -> 7 | N89: =VLOOKUP(B89,'W07'!$B$4:$X$100,22, FALSE) -> 9 | AA89: =SUM(H89:Z89) -> 64.5 | AC89: =VLOOKUP(B89,'W01'!$B$4:$X$100,23, FALSE) -> 1 | AD89: =VLOOKUP(B89,'W02'!$B$4:$X$100,23, FALSE) -> 2 | AE89: =VLOOKUP(B89,'W03'!$B$4:$X$100,23, FALSE) -> 2 | AF89: =VLOOKUP(B89,'W04'!$B$4:$X$100,23, FALSE) -> 2 | AG89: =VLOOKUP(B89,'W05'!$B$4:$X$100,23, FALSE) -> 1 | AH89: =VLOOKUP(B89,'W06'!$B$4:$X$100,23, FALSE) -> 2 | AI89: =VLOOKUP(B89,'W07'!$B$4:$X$100,23, FALSE) -> 1 | AV89: =SUM(AC89:AU89) -> 11
F90: Games: | H90: 16 | I90: 16 | J90: 16 | K90: 16 | L90: 15 | M90: 14 | N90: 14 | AA90: =SUM(H90:Z90) -> 107
O91: 14 | P91: 15 | Q91: 14 | R91: 13 | S91: 16 | T91: 14 | U91: 15 | V91: 16 | W91: 16 | X91: 16 | Y91: 16 | Z91: 13

Sheet Weeks
B1: 2026 Week 01 | I1: 2026 Week 02 | P1: 2026 Week 03 | W1: 2026 Week 04 | AD1: 2026 Week 05 | AK1: 2026 Week 06 | AR1: 2026 Week 07
B2: Name | C2: Correct | D2: Total | E2: % | F2: Tiebreak | I2: Name | J2: Correct | K2: Total | L2: % | M2: Tiebreak | P2: Name | Q2: Correct | R2: Total | S2: % | T2: Tiebreak | W2: Name | X2: Correct | Y2: Total | Z2: % | AA2: Tiebreak | AD2: Name | AE2: Correct | AF2: Total | AG2: % | AH2: Tiebreak | AK2: Name | AL2: Correct | AM2: Total | AN2: % | AO2: Tiebreak | AR2: Name | AS2: Correct | AT2: Total | AU2: % | AV2: Tiebreak
B3: Young, Michael | C3: 13 | D3: 16 | E3: 0.8125 | F3: 2 | H3: 1 | I3: Roberts, Jeff | J3: 23 | K3: 32 | L3: 0.71875 | M3: 4 | O3: 1 | P3: Smith, Brad | Q3: 33 | R3: 48 | S3: 0.6875 | T3: 4 | V3: 1 | W3: Smith, Brad | X3: 43 | Y3: 64 | Z3: 0.671875 | AA3: 6 | AC3: 1 | AD3: Smith, Brad | AE3: 52.5 | AF3: 79 | AG3: 0.66455696 | AH3: 7 | AJ3: 1 | AK3: Seamands, Nathan | AL3: 59.5 | AM3: 93 | AN3: 0.63978495 | AO3: 10 | AQ3: 1-T | AR3: Seamands, Jorden | AS3: 68.5 | AT3: 107 | AU3: 0.64018692 | AV3: 10
B4: Buck, Darrell | C4: 12 | D4: 16 | E4: 0.75 | F4: 2 | H4: 2-T | I4: Smith, Brad | J4: 23 | K4: 32 | L4: 0.71875 | M4: 3 | O4: 2 | P4: Meyer, Brennan | Q4: 32 | R4: 48 | S4: 0.66666667 | T4: 1 | V4: 2 | W4: Seamands, Jorden | X4: 42 | Y4: 64 | Z4: 0.65625 | AA4: 6 | AC4: 2-T | AD4: Seamands, Jorden | AE4: 51.5 | AF4: 79 | AG4: 0.65189873 | AH4: 8 | AJ4: 2 | AK4: Seamands, Jorden | AL4: 59.5 | AM4: 93 | AN4: 0.63978495 | AO4: 9 | AQ4: 1-T | AR4: Seamands, Natalie | AS4: 68.5 | AT4: 107 | AU4: 0.64018692 | AV4: 10
B5: Lucido, Jordan | C5: 12 | D5: 16 | E5: 0.75 | F5: 2 | H5: 2-T | I5: Rushing, Luke | J5: 23 | K5: 32 | L5: 0.71875 | M5: 3 | O5: 3 | P5: Seamands, Jorden | Q5: 31 | R5: 48 | S5: 0.64583333 | T5: 5 | V5: 3 | W5: Greenwood, Douglas | X5: 42 | Y5: 64 | Z5: 0.65625 | AA5: 5 | AC5: 2-T | AD5: Smith, Payton | AE5: 51.5 | AF5: 79 | AG5: 0.65189873 | AH5: 8 | AJ5: 3-T | AK5: Greenwood, Douglas | AL5: 58.5 | AM5: 93 | AN5: 0.62903226 | AO5: 9 | AQ5: 3 | AR5: Seamands, Nathan | AS5: 67.5 | AT5: 107 | AU5: 0.63084112 | AV5: 11
B6: Roberts, Jeff | C6: 12 | D6: 16 | E6: 0.75 | F6: 2 | H6: 4-T | I6: Alsobrook, Luke | J6: 23 | K6: 32 | L6: 0.71875 | M6: 2 | O6: 4 | P6: Seamands, Natalie | Q6: 31 | R6: 48 | S6: 0.64583333 | T6: 4 | V6: 4 | W6: Seamands, Nathan | X6: 41 | Y6: 64 | Z6: 0.640625 | AA6: 7 | AC6: 4 | AD6: Howard, Bill | AE6: 51.5 | AF6: 79 | AG6: 0.65189873 | AH6: 7 | AJ6: 3-T | AK6: Howard, Bill | AL6: 58.5 | AM6: 93 | AN6: 0.62903226 | AO6: 9 | AQ6: 4-T | AR6: Howard, Bill | AS6: 67.5 | AT6: 107 | AU6: 0.63084112 | AV6: 10
B7: Seamands, Natalie | C7: 12 | D7: 16 | E7: 0.75 | F7: 2 | H7: 4-T | I7: Seamands, Byron | J7: 23 | K7: 32 | L7: 0.71875 | M7: 2 | O7: 5-T | P7: Alsobrook, Luke | Q7: 31 | R7: 48 | S7: 0.64583333 | T7: 3 | V7: 5-T | W7: Seamands, Byron | X7: 41 | Y7: 64 | Z7: 0.640625 | AA7: 6 | AC7: 5 | AD7: Seamands, Nathan | AE7: 50.5 | AF7: 79 | AG7: 0.63924051 | AH7: 9 | AJ7: 3-T | AK7: Purschwitz, Dan | AL7: 58.5 | AM7: 93 | AN7: 0.62903226 | AO7: 9 | AQ7: 4-T | AR7: Meyer, Pat | AS7: 67.5 | AT7: 107 | AU7: 0.63084112 | AV7: 10
B8: Alsobrook, Luke | C8: 12 | D8: 16 | E8: 0.75 | F8: 1 | H8: 4-T | I8: White, Shawn | J8: 23 | K8: 32 | L8: 0.71875 | M8: 2 | O8: 5-T | P8: Mattson, Nick | Q8: 31 | R8: 48 | S8: 0.64583333 | T8: 3 | V8: 5-T | W8: Young, Michael | X8: 41 | Y8: 64 | Z8: 0.640625 | AA8: 6 | AC8: 6 | AD8: Anthis, Micah | AE8: 50.5 | AF8: 79 | AG8: 0.63924051 | AH8: 8.5 | AJ8: 3-T | AK8: Seamands, Natalie | AL8: 58.5 | AM8: 93 | AN8: 0.62903226 | AO8: 9 | AQ8: 6-T | AR8: Carrasco, Marsha | AS8: 65.5 | AT8: 107 | AU8: 0.61214953 | AV8: 10
B9: Baze, Drew | C9: 12 | D9: 16 | E9: 0.75 | F9: 1 | H9: 7 | I9: Meyer, Brennan | J9: 23 | K9: 32 | L9: 0.71875 | M9: 1 | O9: 7-T | P9: Easley, Jordan | Q9: 30 | R9: 48 | S9: 0.625 | T9: 5 | V9: 7-T | W9: Frias, Adan | X9: 41 | Y9: 64 | Z9: 0.640625 | AA9: 5 | AC9: 7 | AD9: Seamands, Natalie | AE9: 50.5 | AF9: 79 | AG9: 0.63924051 | AH9: 8 | AJ9: 7 | AK9: Smith, Payton | AL9: 58.5 | AM9: 93 | AN9: 0.62903226 | AO9: 8 | AQ9: 6-T | AR9: Curran, Kevin | AS9: 65.5 | AT9: 107 | AU9: 0.61214953 | AV9: 10
B10: Harper, Kenneth | C10: 12 | D10: 16 | E10: 0.75 | F10: 1 | H10: 8 | I10: Easley, Jordan | J10: 22 | K10: 32 | L10: 0.6875 | M10: 4 | O10: 7-T | P10: Seamands, Nathan | Q10: 30 | R10: 48 | S10: 0.625 | T10: 5 | V10: 7-T | W10: Alsobrook, Luke | X10: 41 | Y10: 64 | Z10: 0.640625 | AA10: 5 | AC10: 8-T | AD10: Greenwood, Douglas | AE10: 50.5 | AF10: 79 | AG10: 0.63924051 | AH10: 7 | AJ10: 8 | AK10: Southerland, Brett | AL10: 57.5 | AM10: 93 | AN10: 0.61827957 | AO10: 10 | AQ10: 8 | AR10: Honeycutt, Wanda | AS10: 65.5 | AT10: 107 | AU10: 0.61214953 | AV10: 9
B11: Hill, Jim | C11: 12 | D11: 16 | E11: 0.75 | F11: 1 | H11: 9-T | I11: Young, Michael | J11: 22 | K11: 32 | L11: 0.6875 | M11: 3 | O11: 7-T | P11: Meyer, Pat | Q11: 30 | R11: 48 | S11: 0.625 | T11: 5 | V11: 9-T | W11: Meyer, Pat | X11: 40 | Y11: 64 | Z11: 0.625 | AA11: 7 | AC11: 8-T | AD11: Seamands, Byron | AE11: 50.5 | AF11: 79 | AG11: 0.63924051 | AH11: 7 | AJ11: 9 | AK11: Anthis, Micah | AL11: 57.5 | AM11: 93 | AN11: 0.61827957 | AO11: 9.5 | AQ11: 9-T | AR11: Honeycutt, Terry | AS11: 65.5 | AT11: 107 | AU11: 0.61214953 | AV11: 8
B12: Honeycutt, Terry | C12: 12 | D12: 16 | E12: 0.75 | F12: 1 | H12: 9-T | I12: Seamands, Natalie | J12: 22 | K12: 32 | L12: 0.6875 | M12: 3 | O12: 7-T | P12: West, Shannon | Q12: 30 | R12: 48 | S12: 0.625 | T12: 5 | V12: 9-T | W12: Anthis, Micah | X12: 40 | Y12: 64 | Z12: 0.625 | AA12: 7 | AC12: 8-T | AD12: Honeycutt, Terry | AE12: 50.5 | AF12: 79 | AG12: 0.63924051 | AH12: 7 | AJ12: 10 | AK12: Meyer, Pat | AL12: 57.5 | AM12: 93 | AN12: 0.61827957 | AO12: 9 | AQ12: 9-T | AR12: Smith, Brad | AS12: 65.5 | AT12: 107 | AU12: 0.61214953 | AV12: 8
B13: Seamands, Byron | C13: 12 | D13: 16 | E13: 0.75 | F13: 1 | H13: 9-T | I13: Hill, Jim | J13: 22 | K13: 32 | L13: 0.6875 | M13: 3 | P13: Rushing, Luke | Q13: 30 | R13: 48 | S13: 0.625 | T13: 4 | V13: 9-T | W13: Conklin, Don | X13: 40 | Y13: 64 | Z13: 0.625 | AA13: 7 | AC13: 8-T | AD13: Purschwitz, Dan | AE13: 50.5 | AF13: 79 | AG13: 0.63924051 | AH13: 7 | AK13: Honeycutt, Terry | AL13: 57.5 | AM13: 93 | AN13: 0.61827957 | AO13: 8 | AR13: Ray, Bobby | AS13: 65.5 | AT13: 107 | AU13: 0.61214953 | AV13: 7
B14: Seamands, Nathan | C14: 12 | D14: 16 | E14: 0.75 | F14: 1 | H14: 9-T | I14: Honeycutt, Terry | J14: 22 | K14: 32 | L14: 0.6875 | M14: 3 | P14: Seamands, Byron | Q14: 30 | R14: 48 | S14: 0.625 | T14: 4 | W14: Seamands, Natalie | X14: 40 | Y14: 64 | Z14: 0.625 | AA14: 6 | AD14: Meyer, Pat | AE14: 49.5 | AF14: 79 | AG14: 0.62658228 | AH14: 8 | AK14: Smith, Brad | AL14: 57.5 | AM14: 93 | AN14: 0.61827957 | AO14: 7 | AR14: Baker, Ruben | AS14: 64.5 | AT14: 107 | AU14: 0.60280374 | AV14: 12
B15: Seamands, Sarah | C15: 12 | D15: 16 | E15: 0.75 | F15: 1 | H15: 9-T | I15: Seamands, Nathan | J15: 22 | K15: 32 | L15: 0.6875 | M15: 3 | P15: White, Shawn | Q15: 30 | R15: 48 | S15: 0.625 | T15: 4 | W15: Honeycutt, Terry | X15: 40 | Y15: 64 | Z15: 0.625 | AA15: 6 | AD15: Carrasco, Eli | AE15: 49.5 | AF15: 79 | AG15: 0.62658228 | AH15: 7 | AK15: Carrasco, Marsha | AL15: 56.5 | AM15: 93 | AN15: 0.60752688 | AO15: 9 | AR15: Greenwood, Douglas | AS15: 64.5 | AT15: 107 | AU15: 0.60280374 | AV15: 10
B16: Smith, Brad | C16: 12 | D16: 16 | E16: 0.75 | F16: 1 | H16: 9-T | I16: Honeycutt, Wanda | J16: 22 | K16: 32 | L16: 0.6875 | M16: 3 | P16: Honeycutt, Terry | Q16: 30 | R16: 48 | S16: 0.625 | T16: 4 | W16: Smith, Payton | X16: 40 | Y16: 64 | Z16: 0.625 | AA16: 6 | AD16: Baze, Drew | AE16: 49.5 | AF16: 79 | AG16: 0.62658228 | AH16: 7 | AK16: Curran, Kevin | AL16: 56.5 | AM16: 93 | AN16: 0.60752688 | AO16: 9 | AR16: Seamands, Byron | AS16: 64.5 | AT16: 107 | AU16: 0.60280374 | AV16: 9
B17: White, Shawn | C17: 12 | D17: 16 | E17: 0.75 | F17: 1 | H17: 9-T | I17: Howard, Bill | J17: 22 | K17: 32 | L17: 0.6875 | M17: 3 | P17: Honeycutt, Wanda | Q17: 30 | R17: 48 | S17: 0.625 | T17: 4 | W17: Hill, Jim | X17: 40 | Y17: 64 | Z17: 0.625 | AA17: 6 | AD17: Manzala, Jerome | AE17: 49.5 | AF17: 79 | AG17: 0.62658228 | AH17: 5 | AK17: Honeycutt, Wanda | AL17: 56.5 | AM17: 93 | AN17: 0.60752688 | AO17: 8 | AR17: Rushing, Luke | AS17: 64.5 | AT17: 107 | AU17: 0.60280374 | AV17: 8
B18: Honeycutt, Wanda | C18: 11 | D18: 16 | E18: 0.6875 | F18: 2 | H18: 9-T | I18: Seamands, Jorden | J18: 22 | K18: 32 | L18: 0.6875 | M18: 3 | P18: Smith, Payton | Q18: 30 | R18: 48 | S18: 0.625 | T18: 4 | W18: Carrasco, Eli | X18: 40 | Y18: 64 | Z18: 0.625 | AA18: 6 | AD18: McElfish, John | AE18: 48.5 | AF18: 79 | AG18: 0.61392405 | AH18: 10 | AK18: Mattson, Nick | AL18: 56.5 | AM18: 93 | AN18: 0.60752688 | AO18: 8 | AR18: Seamands, Mike | AS18: 64.5 | AT18: 107 | AU18: 0.60280374 | AV18: 8
B19: Meyer, Austen | C19: 11 | D19: 16 | E19: 0.6875 | F19: 2 | H19: 9-T | I19: Smith, Payton | J19: 22 | K19: 32 | L19: 0.6875 | M19: 3 | P19: Harper, Kenneth | Q19: 30 | R19: 48 | S19: 0.625 | T19: 4 | W19: Carrasco, Marsha | X19: 40 | Y19: 64 | Z19: 0.625 | AA19: 6 | AD19: Carrasco, Marsha | AE19: 48.5 | AF19: 79 | AG19: 0.61392405 | AH19: 8 | AK19: Seamands, Byron | AL19: 56.5 | AM19: 93 | AN19: 0.60752688 | AO19: 8 | AR19: Smith, Payton | AS19: 64.5 | AT19: 107 | AU19: 0.60280374 | AV19: 8
B20: West, Shannon | C20: 11 | D20: 16 | E20: 0.6875 | F20: 2 | H20: 9-T | I20: Curran, Taylor | J20: 22 | K20: 32 | L20: 0.6875 | M20: 3 | P20: Greenwood, Douglas | Q20: 30 | R20: 48 | S20: 0.625 | T20: 4 | W20: Howard, Bill | X20: 40 | Y20: 64 | Z20: 0.625 | AA20: 6 | AD20: Baker, Ruben | AE20: 48.5 | AF20: 79 | AG20: 0.61392405 | AH20: 8 | AK20: Manzala, Jerome | AL20: 56.5 | AM20: 93 | AN20: 0.60752688 | AO20: 6 | AR20: Manzala, Jerome | AS20: 64.5 | AT20: 107 | AU20: 0.60280374 | AV20: 7
B21: Ardill, Scott | C21: 11 | D21: 16 | E21: 0.6875 | F21: 1 | I21: Harper, Kenneth | J21: 22 | K21: 32 | L21: 0.6875 | M21: 2 | P21: Anthis, Lincoln | Q21: 30 | R21: 48 | S21: 0.625 | T21: 4 | W21: Harper, Kenneth | X21: 40 | Y21: 64 | Z21: 0.625 | AA21: 5 | AD21: Southerland, Brett | AE21: 48.5 | AF21: 79 | AG21: 0.61392405 | AH21: 8 | AK21: Baker, Ruben | AL21: 55.5 | AM21: 93 | AN21: 0.59677419 | AO21: 10 | AR21: Greenwood, Nathan | AS21: 63.5 | AT21: 107 | AU21: 0.59345794 | AV21: 11
B22: Baker, Ruben | C22: 11 | D22: 16 | E22: 0.6875 | F22: 1 | I22: Curran, Kevin | J22: 22 | K22: 32 | L22: 0.6875 | M22: 2 | P22: Hill, Jim | Q22: 30 | R22: 48 | S22: 0.625 | T22: 4 | W22: Purschwitz, Dan | X22: 40 | Y22: 64 | Z22: 0.625 | AA22: 5 | AD22: Young, Michael | AE22: 48.5 | AF22: 79 | AG22: 0.61392405 | AH22: 7 | AK22: Greenwood, Nathan | AL22: 55.5 | AM22: 93 | AN22: 0.59677419 | AO22: 10 | AR22: Southerland, Brett | AS22: 63.5 | AT22: 107 | AU22: 0.59345794 | AV22: 11
B23: Curran, Kevin | C23: 11 | D23: 16 | E23: 0.6875 | F23: 1 | I23: Greenwood, Douglas | J23: 22 | K23: 32 | L23: 0.6875 | M23: 2 | P23: Frias, Adan | Q23: 30 | R23: 48 | S23: 0.625 | T23: 3 | W23: Manzala, Jerome | X23: 40 | Y23: 64 | Z23: 0.625 | AA23: 4 | AD23: Honeycutt, Wanda | AE23: 48.5 | AF23: 79 | AG23: 0.61392405 | AH23: 7 | AK23: Prothro, Tom | AL23: 55.5 | AM23: 93 | AN23: 0.59677419 | AO23: 10 | AR23: Carrasco, Eli | AS23: 63.5 | AT23: 107 | AU23: 0.59345794 | AV23: 10
B24: Greenwood, Douglas | C24: 11 | D24: 16 | E24: 0.6875 | F24: 1 | I24: Carrasco, Eli | J24: 22 | K24: 32 | L24: 0.6875 | M24: 2 | P24: Ray, Bobby | Q24: 30 | R24: 48 | S24: 0.625 | T24: 2 | W24: Easley, Jordan | X24: 39 | Y24: 64 | Z24: 0.609375 | AA24: 7 | AD24: Curran, Kevin | AE24: 48.5 | AF24: 79 | AG24: 0.61392405 | AH24: 7 | AK24: Carrasco, Eli | AL24: 55.5 | AM24: 93 | AN24: 0.59677419 | AO24: 9 | AR24: Skipper, Eric | AS24: 63.5 | AT24: 107 | AU24: 0.59345794 | AV24: 9
B25: Howard, Bill | C25: 11 | D25: 16 | E25: 0.6875 | F25: 1 | I25: Mattson, Nick | J25: 22 | K25: 32 | L25: 0.6875 | M25: 1 | P25: Lucido, Jordan | Q25: 29 | R25: 48 | S25: 0.60416667 | T25: 5 | W25: Seamands, Mike | X25: 39 | Y25: 64 | Z25: 0.609375 | AA25: 7 | AD25: Seamands, Mike | AE25: 48.5 | AF25: 79 | AG25: 0.61392405 | AH25: 7 | AK25: Rapisand, Ryan | AL25: 55.5 | AM25: 93 | AN25: 0.59677419 | AO25: 8 | AR25: Trant, Amon | AS25: 63.5 | AT25: 107 | AU25: 0.59345794 | AV25: 9
B26: Meyer, Pat | C26: 11 | D26: 16 | E26: 0.6875 | F26: 1 | I26: Buck, Darrell | J26: 21 | K26: 32 | L26: 0.65625 | M26: 4 | P26: Anthis, Micah | Q26: 29 | R26: 48 | S26: 0.60416667 | T26: 5 | W26: White, Shawn | X26: 39 | Y26: 64 | Z26: 0.609375 | AA26: 6 | AD26: Alsobrook, Luke | AE26: 48.5 | AF26: 79 | AG26: 0.61392405 | AH26: 6 | AK26: Rushing, Luke | AL26: 55.5 | AM26: 93 | AN26: 0.59677419 | AO26: 8 | AR26: White, Shawn | AS26: 63.5 | AT26: 107 | AU26: 0.59345794 | AV26: 9
B27: Prothro, Tom | C27: 11 | D27: 16 | E27: 0.6875 | F27: 1 | I27: Lucido, Jordan | J27: 21 | K27: 32 | L27: 0.65625 | M27: 4 | P27: Conklin, Don | Q27: 29 | R27: 48 | S27: 0.60416667 | T27: 5 | W27: Greenwood, Nathan | X27: 39 | Y27: 64 | Z27: 0.609375 | AA27: 6 | AD27: Anthis, Lincoln | AE27: 48.5 | AF27: 79 | AG27: 0.61392405 | AH27: 6 | AK27: Seamands, Mike | AL27: 55.5 | AM27: 93 | AN27: 0.59677419 | AO27: 8 | AR27: Meyer, Brennan | AS27: 63.5 | AT27: 107 | AU27: 0.59345794 | AV27: 5
B28: Rapisand, Ryan | C28: 11 | D28: 16 | E28: 0.6875 | F28: 1 | I28: Anthis, Micah | J28: 21 | K28: 32 | L28: 0.65625 | M28: 4 | P28: Scoville, Jordan | Q28: 29 | R28: 48 | S28: 0.60416667 | T28: 5 | W28: Baker, Ruben | X28: 39 | Y28: 64 | Z28: 0.609375 | AA28: 6 | AD28: Prothro, Tom | AE28: 47.5 | AF28: 79 | AG28: 0.60126582 | AH28: 8 | AK28: Skipper, Eric | AL28: 55.5 | AM28: 93 | AN28: 0.59677419 | AO28: 8 | AR28: Curran, Taylor | AS28: 62.5 | AT28: 107 | AU28: 0.58411215 | AV28: 11
B29: Scoville, Jordan | C29: 11 | D29: 16 | E29: 0.6875 | F29: 1 | I29: Conklin, Don | J29: 21 | K29: 32 | L29: 0.65625 | M29: 4 | P29: Anthis, Michael | Q29: 29 | R29: 48 | S29: 0.60416667 | T29: 5 | W29: Mattson, Nick | X29: 39 | Y29: 64 | Z29: 0.609375 | AA29: 5 | AD29: Greenwood, Nathan | AE29: 47.5 | AF29: 79 | AG29: 0.60126582 | AH29: 8 | AK29: White, Shawn | AL29: 55.5 | AM29: 93 | AN29: 0.59677419 | AO29: 8 | AR29: Meyer, Dave | AS29: 62.5 | AT29: 107 | AU29: 0.58411215 | AV29: 11
B30: Seamands, Jorden | C30: 11 | D30: 16 | E30: 0.6875 | F30: 1 | I30: Baze, Drew | J30: 21 | K30: 32 | L30: 0.65625 | M30: 3 | P30: Young, Michael | Q30: 29 | R30: 48 | S30: 0.60416667 | T30: 4 | W30: Honeycutt, Wanda | X30: 39 | Y30: 64 | Z30: 0.609375 | AA30: 5 | AD30: Conklin, Don | AE30: 47.5 | AF30: 79 | AG30: 0.60126582 | AH30: 7 | AK30: Ray, Bobby | AL30: 55.5 | AM30: 93 | AN30: 0.59677419 | AO30: 7 | AR30: Prothro, Tom | AS30: 62.5 | AT30: 107 | AU30: 0.58411215 | AV30: 11
B31: Mattson, Nick | C31: 11 | D31: 16 | E31: 0.6875 | F31: 0 | I31: Baker, Ruben | J31: 21 | K31: 32 | L31: 0.65625 | M31: 3 | P31: Curran, Taylor | Q31: 29 | R31: 48 | S31: 0.60416667 | T31: 4 | W31: Anthis, Lincoln | X31: 39 | Y31: 64 | Z31: 0.609375 | AA31: 5 | AD31: Harper, Kenneth | AE31: 47.5 | AF31: 79 | AG31: 0.60126582 | AH31: 7 | AK31: McElfish, John | AL31: 54.5 | AM31: 93 | AN31: 0.58602151 | AO31: 12 | AR31: Baze, Drew | AS31: 62.5 | AT31: 107 | AU31: 0.58411215 | AV31: 10
B32: Meyer, Brennan | C32: 11 | D32: 16 | E32: 0.6875 | F32: 0 | I32: Meyer, Pat | J32: 21 | K32: 32 | L32: 0.65625 | M32: 3 | P32: Carrasco, Eli | Q32: 29 | R32: 48 | S32: 0.60416667 | T32: 4 | W32: Meyer, Dave | X32: 39 | Y32: 64 | Z32: 0.609375 | AA32: 5 | AD32: White, Shawn | AE32: 47.5 | AF32: 79 | AG32: 0.60126582 | AH32: 7 | AK32: Ardill, Liam | AL32: 54.5 | AM32: 93 | AN32: 0.58602151 | AO32: 10 | AR32: Mattson, Nick | AS32: 62.5 | AT32: 107 | AU32: 0.58411215 | AV32: 10
... B81: FPLeague | C81: 11 | D81: 16 | E81: 0.6875 | F81: 1 | I81: FPLeague | J81: 22 | K81: 32 | L81: 0.6875 | M81: 3 | P81: FPLeague | Q81: 30 | R81: 48 | S81: 0.625 | T81: 5 | W81: FPLeague | X81: 40 | Y81: 64 | Z81: 0.625 | AA81: 7 | AD81: FPLeague | AE81: 48.5 | AF81: 79 | AG81: 0.61392405 | AH81: 8 | AK81: FPLeague | AL81: 55.5 | AM81: 93 | AN81: 0.59677419 | AO81: 10 | AR81: FPLeague | AS81: 64.5 | AT81: 107 | AU81: 0.60280374 | AV81: 11

Sheet FPL
B1: W01 | D1: W02 | F1: W03 | H1: W04 | J1: W05 | L1: W06 | N1: W07 | P1: W08 | R1: W09 | T1: W10 | V1: W11 | X1: W12 | Z1: W13 | AB1: W14 | AD1: W15 | AF1: W16 | AH1: W17 | AJ1: W18 | AL1: WC | AN1: DIV | AP1: CON | AR1: SB
B2: 49ers | D2: 49ers | F2: 49ers | H2: 49ers | J2: 49ers | L2: 49ers | N2: 49ers
B3: 49ers | D3: 49ers | F3: 49ers | H3: 49ers | J3: 49ers | L3: 49ers | N3: 49ers
B4: Bears | D4: 49ers | F4: 49ers | H4: 49ers | J4: 49ers | L4: 49ers | N4: 49ers
B5: Bears | D5: 49ers | F5: 49ers | H5: 49ers | J5: 49ers | L5: 49ers | N5: 49ers
B6: Bears | D6: 49ers | F6: 49ers | H6: 49ers | J6: 49ers | L6: 49ers | N6: 49ers
B7: Bears | D7: 49ers | F7: 49ers | H7: 49ers | J7: 49ers | L7: 49ers | N7: 49ers
B8: Bears | D8: 49ers | F8: 49ers | H8: 49ers | J8: Bears | L8: 49ers | N8: 49ers
B9: Bears | D9: 49ers | F9: 49ers | H9: Bears | J9: Bengals | L9: 49ers | N9: 49ers
B10: Bears | D10: 49ers | F10: 49ers | H10: Bears | J10: Bengals | L10: 49ers | N10: 49ers
B11: Bears | D11: 49ers | F11: 49ers | H11: Bears | J11: Bengals | L11: 49ers | N11: 49ers
B12: Bears | D12: 49ers | F12: 49ers | H12: Bears | J12: Bengals | L12: 49ers | N12: 49ers
B13: Bears | D13: 49ers | F13: 49ers | H13: Bears | J13: Bengals | L13: 49ers | N13: 49ers
... B34: Chargers | D34: 49ers | F34: 49ers | H34: Chiefs | J34: Bengals | L34: 49ers | N34: Broncos
B35: Chargers | D35: 49ers | E35: 34 | F35: 49ers | H35: Chiefs | J35: Bengals | L35: 49ers | N35: Broncos
B36: Chargers | D36: 49ers | F36: Bengals | H36: Chiefs | J36: Bengals | L36: 49ers | N36: Broncos
B37: Chargers | D37: 49ers | F37: Bengals | H37: Chiefs | J37: Bengals | L37: 49ers | N37: Browns
B38: Chargers | D38: 49ers | F38: Bengals | H38: Chiefs | J38: Bengals | K38: 37 | L38: 49ers | N38: Browns
B39: Chargers | D39: 49ers | F39: Bills | H39: Chiefs | J39: Bengals | L39: Bills | N39: Browns
B40: Chargers | D40: 49ers | F40: Bills | H40: Colts | I40: 32 | J40: Bengals | L40: Bills | N40: Browns
B41: Chargers | D41: 49ers | F41: Bills | H41: Cowboys | J41: Bills | L41: Bills | N41: Chiefs
B42: Chargers | D42: 49ers | F42: Bills | H42: Cowboys | J42: Broncos | L42: Bills | N42: Chiefs
B43: Chargers | D43: 49ers | F43: Bills | H43: Cowboys | J43: Broncos | L43: Bills | N43: Chiefs
B44: Chargers | D44: 49ers | F44: Bills | H44: Giants | J44: Broncos | L44: Bills | N44: Chiefs
B45: Chargers | D45: 49ers | F45: Bills | H45: Giants | J45: Broncos | L45: Bills | N45: Chiefs
B46: Chargers | D46: 49ers | F46: Bills | H46: Lions | J46: Broncos | L46: Bills | N46: Chiefs
B47: Chargers | D47: 49ers | F47: Bills | H47: Lions | J47: Broncos | L47: Bills | N47: Cowboys
B48: Chargers | D48: 49ers | F48: Bills | H48: Lions | J48: Broncos | L48: Bills | N48: Cowboys
B49: Chargers | D49: 49ers | F49: Bills | H49: Lions | J49: Broncos | L49: Bills | N49: Cowboys
B50: Chargers | D50: 49ers | F50: Bills | H50: Lions | J50: Browns | L50: Bills | N50: Cowboys
B51: Chargers | D51: 49ers | F51: Bills | H51: N/A | J51: Browns | L51: Bills | N51: Eagles
B52: Chargers | C52: 51 | D52: 49ers | F52: Bills | H52: N/A | J52: Chargers | L52: Bills | N52: Eagles
B53: Chargers | D53: Bears | F53: Bills | H53: N/A | J53: Colts | L53: Buccaneers | N53: Jets
B54: Chargers | D54: Bears | F54: Bills | H54: N/A | J54: Commanders | L54: Chiefs | N54: Jets
B55: Chargers | D55: Bears | F55: Bills | H55: N/A | J55: Commanders | L55: Chiefs | N55: Jets
B56: Chargers | D56: Bears | F56: Chargers | H56: N/A | J56: Cowboys | L56: Chiefs | N56: Jets
B57: Chargers | D57: Bengals | F57: Chiefs | H57: N/A | J57: Cowboys | L57: Chiefs | N57: Jets
B58: Chargers | D58: Bills | F58: Chiefs | H58: N/A | J58: Cowboys | L58: Chiefs | N58: Lions
B59: Chargers | D59: Bills | F59: Chiefs | H59: Packers | J59: Cowboys | L59: Chiefs | N59: Lions
A60: 37 | B60: Chargers | D60: Bills | F60: Chiefs | H60: Raiders | J60: Cowboys | L60: Chiefs | N60: N/A
B61: Chiefs | D61: Buccaneers | F61: Chiefs | H61: Rams | J61: Cowboys | L61: Chiefs | N61: N/A
B62: Chiefs | D62: Buccaneers | F62: Chiefs | H62: Rams | J62: Cowboys | L62: Chiefs | N62: N/A
B63: Chiefs | D63: Buccaneers | F63: Chiefs | H63: Rams | J63: Cowboys | L63: Chiefs | N63: N/A
B64: Cowboys | D64: Buccaneers | F64: Chiefs | H64: Ravens | J64: Cowboys | L64: Chiefs | N64: N/A
B65: Cowboys | D65: Buccaneers | F65: Chiefs | H65: Ravens | J65: Cowboys | L65: Chiefs | N65: N/A
B66: Cowboys | D66: Buccaneers | F66: Chiefs | H66: Ravens | J66: Cowboys | L66: Chiefs | N66: N/A
B67: Cowboys | D67: Buccaneers | F67: Chiefs | H67: Ravens | J67: Cowboys | L67: Chiefs | N67: N/A
B68: Cowboys | D68: Buccaneers | F68: Chiefs | H68: Ravens | J68: Cowboys | L68: Chiefs | N68: N/A
B69: Cowboys | D69: Buccaneers | F69: Chiefs | H69: Ravens | J69: Cowboys | L69: Chiefs | N69: N/A
B70: Cowboys | D70: Buccaneers | F70: Chiefs | H70: Ravens | J70: Cowboys | L70: Chiefs | N70: N/A
B71: Cowboys | D71: Buccaneers | F71: Chiefs | H71: Ravens | J71: Cowboys | L71: Chiefs | N71: N/A
B72: Cowboys | D72: Buccaneers | F72: Chiefs | H72: Ravens | J72: Cowboys | L72: Chiefs | N72: N/A
... B87: Eagles | D87: Chiefs | F87: Chiefs | H87: Ravens | J87: Cowboys | L87: Chiefs | N87: Rams
B88: Eagles | D88: Chiefs | F88: Chiefs | H88: Ravens | I88: 33 | J88: Cowboys | L88: Chiefs | N88: Rams
B89: Eagles | D89: Chiefs | F89: Chiefs | H89: Ravens | J89: Eagles | L89: Chiefs | N89: Rams
B90: Eagles | D90: Chiefs | F90: Chiefs | H90: Ravens | J90: Falcons | L90: Chiefs | N90: Steelers
B91: Giants | D91: Chiefs | F91: Chiefs | H91: Ravens | J91: Falcons | L91: Chiefs | N91: Steelers
B92: Jaguars | D92: Chiefs | F92: Chiefs | H92: Ravens | J92: Falcons | K92: 39 | L92: Chiefs | N92: Texans
B93: Jaguars | D93: Chiefs | F93: Chiefs | H93: Ravens | J93: Falcons | L93: Colts | N93: Texans
B94: Jaguars | D94: Cowboys | F94: Chiefs | H94: Ravens | J94: Falcons | L94: Colts | N94: Texans
B95: Jaguars | D95: Cowboys | F95: Chiefs | H95: Ravens | J95: Falcons | L95: Colts | N95: Texans
B96: Jaguars | D96: Cowboys | F96: Chiefs | H96: Ravens | J96: Giants | L96: Colts | N96: Texans
B97: Jaguars | D97: Eagles | F97: Chiefs | H97: Ravens | J97: Jaguars | L97: Colts | N97: Texans
B98: Jaguars | D98: Eagles | F98: Chiefs | H98: Ravens | J98: Jaguars | L98: Colts | N98: Texans
B99: Jaguars | D99: Eagles | F99: Chiefs | H99: Ravens | J99: Jaguars | L99: Colts | N99: Texans
B100: Jaguars | D100: Eagles | E100: 44 | F100: Chiefs | H100: Ravens | J100: Jaguars | L100: Colts | N100: Texans
B101: Jaguars | D101: Eagles | F101: Commanders | G101: 38 | H101: Ravens | J101: Jaguars | L101: Colts | N101: Texans
B102: Jaguars | D102: Eagles | F102: Cowboys | H102: Saints | J102: Jaguars | L102: Eagles | N102: Texans
B103: Jaguars | D103: Eagles | F103: Cowboys | H103: Saints | J103: Jaguars | L103: Eagles | N103: Texans
B104: Jaguars | D104: Eagles | F104: Cowboys | H104: Saints | J104: Jaguars | L104: Giants | N104: Texans
B105: Jaguars | D105: Eagles | F105: Eagles | H105: Seahawks | J105: Jaguars | L105: Jaguars | N105: Texans
B106: Jaguars | D106: Eagles | F106: Eagles | H106: Seahawks | J106: Lions | L106: Jaguars | N106: Texans
B107: Jaguars | D107: Eagles | F107: Eagles | H107: Seahawks | J107: Lions | L107: Jaguars | N107: Texans
B108: Jaguars | D108: Eagles | F108: Eagles | H108: Seahawks | J108: Lions | L108: N/A | N108: Texans
B109: Jaguars | D109: Eagles | F109: Eagles | H109: Seahawks | J109: Lions | L109: N/A | N109: Texans
B110: Jaguars | D110: Eagles | F110: Eagles | H110: Seahawks | J110: Lions | L110: N/A | N110: Texans
B111: Jaguars | D111: Eagles | F111: Jets | H111: Seahawks | J111: Lions | L111: N/A | N111: Texans
B112: Lions | D112: Eagles | F112: Lions | H112: Seahawks | J112: Lions | L112: N/A | N112: Texans
B113: Lions | D113: Eagles | F113: Lions | H113: Seahawks | J113: Lions | L113: N/A | N113: Texans
... B117: Lions | D117: Eagles | F117: Lions | H117: Seahawks | J117: N/A | L117: Patriots | N117: Texans
B118: Lions | C118: 22 | D118: Eagles | F118: Lions | H118: Seahawks | J118: N/A | L118: Patriots | N118: Texans
B119: Lions | D119: Lions | F119: Lions | H119: Seahawks | J119: N/A | L119: Patriots | N119: Texans
B120: Lions | D120: Packers | F120: Lions | H120: Seahawks | J120: Packers | L120: Patriots | N120: Texans
B121: Lions | D121: Packers | F121: Lions | H121: Steelers | J121: Rams | L121: Patriots | N121: Texans
B122: Lions | D122: Packers | F122: Packers | H122: Vikings | J122: Rams | L122: Rams | M122: 31 | N122: Texans
B123: Lions | D123: Packers | F123: Packers | H123: Vikings | J123: Ravens | L123: Rams | N123: VIkings
B124: Lions | D124: Packers | F124: Packers | H124: Vikings | J124: Ravens | L124: Rams | N124: VIkings
B125: Lions | D125: Packers | F125: Packers | H125: Vikings | J125: Ravens | L125: Rams | N125: VIkings
B126: Lions | D126: Packers | F126: Packers | H126: Vikings | J126: Ravens | L126: Rams | N126: VIkings
B127: Lions | D127: Packers | F127: Packers | H127: Vikings | J127: Saints | L127: Rams | N127: VIkings
B128: Lions | D128: Patriots | F128: Packers | H128: Vikings | J128: Seahawks | L128: Rams | N128: VIkings
B129: Lions | D129: Rams | F129: Packers | H129: Vikings | J129: Steelers | L129: Rams | N129: VIkings
B130: Lions | D130: Rams | F130: Packers | H130: Vikings | J130: Texans | L130: Rams | N130: VIkings
B131: Lions | D131: Rams | F131: Panthers | H131: Vikings | J131: Texans | L131: Rams | N131: VIkings
B132: Lions | D132: Rams | F132: Patriots | H132: Vikings | J132: Texans | L132: Rams | N132: VIkings
B133: Lions | D133: Rams | F133: Rams | H133: Vikings | J133: Texans | L133: Rams | N133: VIkings
B134: Lions | D134: Ravens | F134: Saints | H134: Vikings | J134: Texans | L134: Rams | N134: VIkings
... B140: Lions | D140: Ravens | F140: Seahawks | H140: Vikings | J140: Texans | L140: Rams | N140: VIkings
A141: 30 | B141: Lions | D141: Ravens | F141: Seahawks | H141: Vikings | J141: Texans | L141: Rams | N141: VIkings
B142: Packers | D142: Ravens | F142: Seahawks | H142: Vikings | J142: Texans | L142: Rams | N142: VIkings
...

Sheet W01
B2: 2026 Week 01 Winners: | C2: Seahawks | D2: 49ers | E2: Bengals | F2: Lions | G2: Jets | H2: Ravens | I2: Steelers | J2: Bears | K2: Jaguars | L2: Bills | M2: Raiders | N2: Vikings | O2: Eagles | P2: Cardinals | Q2: Giants | R2: Chiefs
T3: Guarantee | U3: Guarantee | W3: Correct | X3: Guar.
B4: FPLeague | C4: {=_xlfn.IFS(C7>C8, C5, C7<C8, C6, C7=C8, "EVEN")} -> Seahawks | D4: {=_xlfn.IFS(D7>D8, D5, D7<D8, D6, D7=D8, "EVEN")} -> Rams | E4: {=_xlfn.IFS(E7>E8, E5, E7<E8, E6, E7=E8, "EVEN")} -> Bengals | F4: {=_xlfn.IFS(F7>F8, F5, F7<F8, F6, F7=F8, "EVEN")} -> Lions | G4: {=_xlfn.IFS(G7>G8, G5, G7<G8, G6, G7=G8, "EVEN")} -> Titans | H4: {=_xlfn.IFS(H7>H8, H5, H7<H8, H6, H7=H8, "EVEN")} -> Ravens | I4: {=_xlfn.IFS(I7>I8, I5, I7<I8, I6, I7=I8, "EVEN")} -> Steelers | J4: {=_xlfn.IFS(J7>J8, J5, J7<J8, J6, J7=J8, "EVEN")} -> Bears | ... R4: {=_xlfn.IFS(R7>R8, R5, R7<R8, R6, R7=R8, "EVEN")} -> Chiefs | T4: Chargers | U4: Lions | W4: =SUM(Z4:AO4) -> 11 | X4: =SUM(AQ4:AR4) -> 1 | Z4: =IF(C4=C$2,1,0) -> 1 | AA4: =IF(D4=D$2,1,0) -> 0 | AB4: =IF(E4=E$2,1,0) -> 1 | AC4: =IF(F4=F$2,1,0) -> 1 | AD4: =IF(G4=G$2,1,0) -> 0 | AE4: =IF(H4=H$2,1,0) -> 1 | AF4: =IF(I4=I$2,1,0) -> 1 | AG4: =IF(J4=J$2,1,0) -> 1 | ... AO4: =IF(R4=R$2,1,0) -> 1 | AQ4: =COUNTIF($C$2:$R$2, T4) -> 0 | AR4: =COUNTIF($C$2:$R$2, U4) -> 1
B5: Line | C5: Seahawks | D5: Rams | E5: Bengals | F5: Lions | G5: Titans | H5: Ravens | I5: Steelers | J5: Bears | K5: Jaguars | L5: Bills | M5: Raiders | N5: Vikings | O5: Eagles | P5: Chargers | Q5: Cowboys | R5: Chiefs | T5: Chargers | U5: Jaguars | W5: =SUM(Z5:AO5) -> 12 | X5: =SUM(AQ5:AR5) -> 1 | Z5: =IF(C5=C$2,1,0) -> 1 | AA5: =IF(D5=D$2,1,0) -> 0 | AB5: =IF(E5=E$2,1,0) -> 1 | AC5: =IF(F5=F$2,1,0) -> 1 | AD5: =IF(G5=G$2,1,0) -> 0 | AE5: =IF(H5=H$2,1,0) -> 1 | AF5: =IF(I5=I$2,1,0) -> 1 | AG5: =IF(J5=J$2,1,0) -> 1 | ... AO5: =IF(R5=R$2,1,0) -> 1 | AQ5: =COUNTIF($C$2:$R$2, T5) -> 0 | AR5: =COUNTIF($C$2:$R$2, U5) -> 1
B6: Underdogs | C6: Patriots | D6: 49ers | E6: Buccaneers | F6: Saints | G6: Jets | H6: Colts | I6: Falcons | J6: Panthers | K6: Browns | L6: Texans | M6: Dolphins | N6: Packers | O6: Commanders | P6: Cardinals | Q6: Giants | R6: Broncos
B7: Favorite Count | C7: =COUNTIF(C$11:C$87,C5) -> 61 | D7: =COUNTIF(D$11:D$87,D5) -> 68 | E7: =COUNTIF(E$11:E$87,E5) -> 55 | F7: =COUNTIF(F$11:F$87,F5) -> 76 | G7: =COUNTIF(G$11:G$87,G5) -> 61 | H7: =COUNTIF(H$11:H$87,H5) -> 64 | I7: =COUNTIF(I$11:I$87,I5) -> 66 | J7: =COUNTIF(J$11:J$87,J5) -> 66 | ... R7: =COUNTIF(R$11:R$87,R5) -> 52
B8: Underdog Count | C8: =COUNTIF(C$11:C$87,C6) -> 13 | D8: =COUNTIF(D$11:D$87,D6) -> 7 | E8: =COUNTIF(E$11:E$87,E6) -> 22 | F8: =COUNTIF(F$11:F$87,F6) -> 1 | G8: =COUNTIF(G$11:G$87,G6) -> 16 | H8: =COUNTIF(H$11:H$87,H6) -> 13 | I8: =COUNTIF(I$11:I$87,I6) -> 11 | J8: =COUNTIF(J$11:J$87,J6) -> 11 | ... R8: =COUNTIF(R$11:R$87,R6) -> 25
B10: Name | T10: Guarantee | U10: Guarantee | W10: Correct | X10: Guar.
B11: Abusaad, Hussein | C11: Seahawks | D11: 49ers | E11: Buccaneers | F11: Lions | G11: Titans | H11: Ravens | I11: Steelers | J11: Bears | K11: Browns | L11: Bills | M11: Dolphins | N11: Vikings | O11: Eagles | P11: Chargers | Q11: Cowboys | R11: Chiefs | T11: 49ers | U11: Bears | W11: =SUM(Z11:AO11) -> 10 | X11: =SUM(AQ11:AR11) -> 2 | Z11: =IF(C11=C$2,1,0) -> 1 | AA11: =IF(D11=D$2,1,0) -> 1 | AB11: =IF(E11=E$2,1,0) -> 0 | AC11: =IF(F11=F$2,1,0) -> 1 | AD11: =IF(G11=G$2,1,0) -> 0 | AE11: =IF(H11=H$2,1,0) -> 1 | AF11: =IF(I11=I$2,1,0) -> 1 | AG11: =IF(J11=J$2,1,0) -> 1 | ... AO11: =IF(R11=R$2,1,0) -> 1 | AQ11: =COUNTIF($C$2:$R$2, T11) -> 1 | AR11: =COUNTIF($C$2:$R$2, U11) -> 1
B12: Alsobrook, Luke | C12: Seahawks | D12: Rams | E12: Bengals | F12: Lions | G12: Jets | H12: Ravens | I12: Steelers | J12: Bears | K12: Jaguars | L12: Bills | M12: Raiders | N12: Packers | O12: Eagles | P12: Chargers | Q12: Cowboys | R12: Chiefs | T12: Chargers | U12: Ravens | W12: =SUM(Z12:AO12) -> 12 | X12: =SUM(AQ12:AR12) -> 1 | Z12: =IF(C12=C$2,1,0) -> 1 | AA12: =IF(D12=D$2,1,0) -> 0 | AB12: =IF(E12=E$2,1,0) -> 1 | AC12: =IF(F12=F$2,1,0) -> 1 | AD12: =IF(G12=G$2,1,0) -> 1 | AE12: =IF(H12=H$2,1,0) -> 1 | AF12: =IF(I12=I$2,1,0) -> 1 | AG12: =IF(J12=J$2,1,0) -> 1 | ... AO12: =IF(R12=R$2,1,0) -> 1 | AQ12: =COUNTIF($C$2:$R$2, T12) -> 0 | AR12: =COUNTIF($C$2:$R$2, U12) -> 1
B13: Anthis, Lincoln | C13: Patriots | D13: Rams | E13: Bengals | F13: Lions | G13: Titans | H13: Ravens | I13: Steelers | J13: Bears | K13: Browns | L13: Bills | M13: Dolphins | N13: Packers | O13: Eagles | P13: Chargers | Q13: Giants | R13: Chiefs | T13: Lions | U13: Ravens | W13: =SUM(Z13:AO13) -> 9 | X13: =SUM(AQ13:AR13) -> 2 | Z13: =IF(C13=C$2,1,0) -> 0 | AA13: =IF(D13=D$2,1,0) -> 0 | AB13: =IF(E13=E$2,1,0) -> 1 | AC13: =IF(F13=F$2,1,0) -> 1 | AD13: =IF(G13=G$2,1,0) -> 0 | AE13: =IF(H13=H$2,1,0) -> 1 | AF13: =IF(I13=I$2,1,0) -> 1 | AG13: =IF(J13=J$2,1,0) -> 1 | ... AO13: =IF(R13=R$2,1,0) -> 1 | AQ13: =COUNTIF($C$2:$R$2, T13) -> 1 | AR13: =COUNTIF($C$2:$R$2, U13) -> 1
B14: Anthis, Micah | C14: Seahawks | D14: Rams | E14: Bengals | F14: Lions | G14: Titans | H14: Ravens | I14: Steelers | J14: Bears | K14: Jaguars | L14: Texans | M14: Raiders | N14: Packers | O14: Eagles | P14: Chargers | Q14: Cowboys | R14: Chiefs | T14: Bears | U14: Jaguars | W14: =SUM(Z14:AO14) -> 10 | X14: =SUM(AQ14:AR14) -> 2 | Z14: =IF(C14=C$2,1,0) -> 1 | AA14: =IF(D14=D$2,1,0) -> 0 | AB14: =IF(E14=E$2,1,0) -> 1 | AC14: =IF(F14=F$2,1,0) -> 1 | AD14: =IF(G14=G$2,1,0) -> 0 | AE14: =IF(H14=H$2,1,0) -> 1 | AF14: =IF(I14=I$2,1,0) -> 1 | AG14: =IF(J14=J$2,1,0) -> 1 | ... AO14: =IF(R14=R$2,1,0) -> 1 | AQ14: =COUNTIF($C$2:$R$2, T14) -> 1 | AR14: =COUNTIF($C$2:$R$2, U14) -> 1
B15: Anthis, Michael | C15: Seahawks | D15: Rams | E15: Buccaneers | F15: Lions | G15: Titans | H15: Ravens | I15: Steelers | J15: Bears | K15: Jaguars | L15: Texans | M15: Raiders | N15: Packers | O15: Eagles | P15: Chargers | Q15: Cowboys | R15: Chiefs | T15: Chiefs | U15: Seahawks | W15: =SUM(Z15:AO15) -> 9 | X15: =SUM(AQ15:AR15) -> 2 | Z15: =IF(C15=C$2,1,0) -> 1 | AA15: =IF(D15=D$2,1,0) -> 0 | AB15: =IF(E15=E$2,1,0) -> 0 | AC15: =IF(F15=F$2,1,0) -> 1 | AD15: =IF(G15=G$2,1,0) -> 0 | AE15: =IF(H15=H$2,1,0) -> 1 | AF15: =IF(I15=I$2,1,0) -> 1 | AG15: =IF(J15=J$2,1,0) -> 1 | ... AO15: =IF(R15=R$2,1,0) -> 1 | AQ15: =COUNTIF($C$2:$R$2, T15) -> 1 | AR15: =COUNTIF($C$2:$R$2, U15) -> 1
B16: Ardill, Liam | C16: Seahawks | D16: Rams | E16: Bengals | F16: Lions | G16: Titans | H16: Ravens | I16: Steelers | J16: Bears | K16: Jaguars | L16: Bills | M16: Raiders | N16: Packers | O16: Eagles | P16: Chargers | Q16: Cowboys | R16: Broncos | T16: Jaguars | U16: Lions | W16: =SUM(Z16:AO16) -> 10 | X16: =SUM(AQ16:AR16) -> 2 | Z16: =IF(C16=C$2,1,0) -> 1 | AA16: =IF(D16=D$2,1,0) -> 0 | AB16: =IF(E16=E$2,1,0) -> 1 | AC16: =IF(F16=F$2,1,0) -> 1 | AD16: =IF(G16=G$2,1,0) -> 0 | AE16: =IF(H16=H$2,1,0) -> 1 | AF16: =IF(I16=I$2,1,0) -> 1 | AG16: =IF(J16=J$2,1,0) -> 1 | ... AO16: =IF(R16=R$2,1,0) -> 0 | AQ16: =COUNTIF($C$2:$R$2, T16) -> 1 | AR16: =COUNTIF($C$2:$R$2, U16) -> 1
B17: Ardill, Scott | C17: Seahawks | D17: Rams | E17: Bengals | F17: Lions | G17: Titans | H17: Ravens | I17: Steelers | J17: Bears | K17: Jaguars | L17: Bills | M17: Raiders | N17: Packers | O17: Eagles | P17: Chargers | Q17: Cowboys | R17: Chiefs | T17: Chargers | U17: Lions | W17: =SUM(Z17:AO17) -> 11 | X17: =SUM(AQ17:AR17) -> 1 | Z17: =IF(C17=C$2,1,0) -> 1 | AA17: =IF(D17=D$2,1,0) -> 0 | AB17: =IF(E17=E$2,1,0) -> 1 | AC17: =IF(F17=F$2,1,0) -> 1 | AD17: =IF(G17=G$2,1,0) -> 0 | AE17: =IF(H17=H$2,1,0) -> 1 | AF17: =IF(I17=I$2,1,0) -> 1 | AG17: =IF(J17=J$2,1,0) -> 1 | ... AO17: =IF(R17=R$2,1,0) -> 1 | AQ17: =COUNTIF($C$2:$R$2, T17) -> 0 | AR17: =COUNTIF($C$2:$R$2, U17) -> 1
B18: Baker, Joel | C18: Seahawks | D18: 49ers | E18: Buccaneers | F18: Lions | G18: Titans | H18: Ravens | I18: Steelers | J18: Bears | K18: Jaguars | L18: Bills | M18: Raiders | N18: Packers | O18: Eagles | P18: Chargers | Q18: Cowboys | R18: Broncos | T18: 49ers | U18: Cowboys | W18: =SUM(Z18:AO18) -> 10 | X18: =SUM(AQ18:AR18) -> 1 | Z18: =IF(C18=C$2,1,0) -> 1 | AA18: =IF(D18=D$2,1,0) -> 1 | AB18: =IF(E18=E$2,1,0) -> 0 | AC18: =IF(F18=F$2,1,0) -> 1 | AD18: =IF(G18=G$2,1,0) -> 0 | AE18: =IF(H18=H$2,1,0) -> 1 | AF18: =IF(I18=I$2,1,0) -> 1 | AG18: =IF(J18=J$2,1,0) -> 1 | ... AO18: =IF(R18=R$2,1,0) -> 0 | AQ18: =COUNTIF($C$2:$R$2, T18) -> 1 | AR18: =COUNTIF($C$2:$R$2, U18) -> 0
B19: Baker, Ruben | C19: Seahawks | D19: 49ers | E19: Buccaneers | F19: Lions | G19: Jets | H19: Ravens | I19: Steelers | J19: Bears | K19: Jaguars | L19: Texans | M19: Raiders | N19: Packers | O19: Eagles | P19: Chargers | Q19: Cowboys | R19: Chiefs | T19: Chiefs | U19: Cowboys | W19: =SUM(Z19:AO19) -> 11 | X19: =SUM(AQ19:AR19) -> 1 | Z19: =IF(C19=C$2,1,0) -> 1 | AA19: =IF(D19=D$2,1,0) -> 1 | AB19: =IF(E19=E$2,1,0) -> 0 | AC19: =IF(F19=F$2,1,0) -> 1 | AD19: =IF(G19=G$2,1,0) -> 1 | AE19: =IF(H19=H$2,1,0) -> 1 | AF19: =IF(I19=I$2,1,0) -> 1 | AG19: =IF(J19=J$2,1,0) -> 1 | ... AO19: =IF(R19=R$2,1,0) -> 1 | AQ19: =COUNTIF($C$2:$R$2, T19) -> 1 | AR19: =COUNTIF($C$2:$R$2, U19) -> 0
B20: Baze, Drew | C20: Seahawks | D20: Rams | E20: Bengals | F20: Lions | G20: Jets | H20: Ravens | I20: Steelers | J20: Bears | K20: Jaguars | L20: Bills | M20: Raiders | N20: Packers | O20: Eagles | P20: Chargers | Q20: Cowboys | R20: Chiefs | T20: Cowboys | U20: Eagles | W20: =SUM(Z20:AO20) -> 12 | X20: =SUM(AQ20:AR20) -> 1 | Z20: =IF(C20=C$2,1,0) -> 1 | AA20: =IF(D20=D$2,1,0) -> 0 | AB20: =IF(E20=E$2,1,0) -> 1 | AC20: =IF(F20=F$2,1,0) -> 1 | AD20: =IF(G20=G$2,1,0) -> 1 | AE20: =IF(H20=H$2,1,0) -> 1 | AF20: =IF(I20=I$2,1,0) -> 1 | AG20: =IF(J20=J$2,1,0) -> 1 | ... AO20: =IF(R20=R$2,1,0) -> 1 | AQ20: =COUNTIF($C$2:$R$2, T20) -> 0 | AR20: =COUNTIF($C$2:$R$2, U20) -> 1
B21: Buck, Darrell | C21: Patriots | D21: 49ers | E21: Bengals | F21: Lions | G21: Jets | H21: Colts | I21: Falcons | J21: Bears | K21: Jaguars | L21: Bills | M21: Raiders | N21: Vikings | O21: Eagles | P21: Chargers | Q21: Giants | R21: Chiefs | T21: Bears | U21: Lions | W21: =SUM(Z21:AO21) -> 12 | X21: =SUM(AQ21:AR21) -> 2 | Z21: =IF(C21=C$2,1,0) -> 0 | AA21: =IF(D21=D$2,1,0) -> 1 | AB21: =IF(E21=E$2,1,0) -> 1 | AC21: =IF(F21=F$2,1,0) -> 1 | AD21: =IF(G21=G$2,1,0) -> 1 | AE21: =IF(H21=H$2,1,0) -> 0 | AF21: =IF(I21=I$2,1,0) -> 0 | AG21: =IF(J21=J$2,1,0) -> 1 | ... AO21: =IF(R21=R$2,1,0) -> 1 | AQ21: =COUNTIF($C$2:$R$2, T21) -> 1 | AR21: =COUNTIF($C$2:$R$2, U21) -> 1
B22: Carrasco, Eli | C22: Seahawks | D22: Rams | E22: Bengals | F22: Lions | G22: Titans | H22: Ravens | I22: Steelers | J22: Panthers | K22: Jaguars | L22: Bills | M22: Raiders | N22: Packers | O22: Eagles | P22: Chargers | Q22: Cowboys | R22: Chiefs | T22: Chargers | U22: Lions | W22: =SUM(Z22:AO22) -> 10 | X22: =SUM(AQ22:AR22) -> 1 | Z22: =IF(C22=C$2,1,0) -> 1 | AA22: =IF(D22=D$2,1,0) -> 0 | AB22: =IF(E22=E$2,1,0) -> 1 | AC22: =IF(F22=F$2,1,0) -> 1 | AD22: =IF(G22=G$2,1,0) -> 0 | AE22: =IF(H22=H$2,1,0) -> 1 | AF22: =IF(I22=I$2,1,0) -> 1 | AG22: =IF(J22=J$2,1,0) -> 0 | ... AO22: =IF(R22=R$2,1,0) -> 1 | AQ22: =COUNTIF($C$2:$R$2, T22) -> 0 | AR22: =COUNTIF($C$2:$R$2, U22) -> 1
... B49: Lammers, Andrew | C49: Patriots | D49: Rams | E49: Buccaneers | F49: Lions | G49: Titans | H49: Ravens | I49: Steelers | J49: Bears | K49: Jaguars | L49: Bills | M49: Raiders | N49: Packers | O49: Eagles | P49: Chargers | Q49: Cowboys | R49: Broncos | T49: Chargers | U49: Eagles | W49: =SUM(Z49:AO49) -> 8 | X49: =SUM(AQ49:AR49) -> 1 | Z49: =IF(C49=C$2,1,0) -> 0 | AA49: =IF(D49=D$2,1,0) -> 0 | AB49: =IF(E49=E$2,1,0) -> 0 | AC49: =IF(F49=F$2,1,0) -> 1 | AD49: =IF(G49=G$2,1,0) -> 0 | AE49: =IF(H49=H$2,1,0) -> 1 | AF49: =IF(I49=I$2,1,0) -> 1 | AG49: =IF(J49=J$2,1,0) -> 1 | ... AO49: =IF(R49=R$2,1,0) -> 0 | AQ49: =COUNTIF($C$2:$R$2, T49) -> 0 | AR49: =COUNTIF($C$2:$R$2, U49) -> 1
B50: Lucido, Jordan | C50: Patriots* | D50: 49ers* | E50: Bengals | F50: Lions | G50: Jets | H50: Colts | I50: Falcons | J50: Bears | K50: Jaguars | L50: Bills | M50: Raiders | N50: Vikings | O50: Eagles | P50: Cardinals | Q50: Cowboys | R50: Chiefs | T50: Cardinals | U50: Raiders | W50: =SUM(Z50:AO50) -> 12 | X50: =SUM(AQ50:AR50) -> 2 | Z50: 0 | AA50: 1 | AB50: =IF(E50=E$2,1,0) -> 1 | AC50: =IF(F50=F$2,1,0) -> 1 | AD50: =IF(G50=G$2,1,0) -> 1 | AE50: =IF(H50=H$2,1,0) -> 0 | AF50: =IF(I50=I$2,1,0) -> 0 | AG50: =IF(J50=J$2,1,0) -> 1 | AH50: =IF(K50=K$2,1,0) -> 1 | AI50: =IF(L50=L$2,1,0) -> 1 | ... AO50: =IF(R50=R$2,1,0) -> 1 | AQ50: =COUNTIF($C$2:$R$2, T50) -> 1 | AR50: =COUNTIF($C$2:$R$2, U50) -> 1
B51: Manzala, Jason | C51: Seahawks | D51: Rams | E51: Bengals | F51: Lions | G51: Jets | H51: Ravens | I51: Falcons | J51: Bears | K51: Jaguars | L51: Texans | M51: Raiders | N51: Packers | O51: Eagles | P51: Chargers | Q51: Cowboys | R51: Chiefs | T51: Cowboys | U51: Eagles | W51: =SUM(Z51:AO51) -> 10 | X51: =SUM(AQ51:AR51) -> 1 | Z51: =IF(C51=C$2,1,0) -> 1 | AA51: =IF(D51=D$2,1,0) -> 0 | AB51: =IF(E51=E$2,1,0) -> 1 | AC51: =IF(F51=F$2,1,0) -> 1 | AD51: =IF(G51=G$2,1,0) -> 1 | AE51: =IF(H51=H$2,1,0) -> 1 | AF51: =IF(I51=I$2,1,0) -> 0 | AG51: =IF(J51=J$2,1,0) -> 1 | ... AO51: =IF(R51=R$2,1,0) -> 1 | AQ51: =COUNTIF($C$2:$R$2, T51) -> 0 | AR51: =COUNTIF($C$2:$R$2, U51) -> 1
B52: Manzala, Jeremy | C52: Seahawks | D52: Rams | E52: Bengals | F52: Lions | G52: Titans | H52: Ravens | I52: Steelers | J52: Bears | K52: Jaguars | L52: Bills | M52: Raiders | N52: Packers | O52: Eagles | P52: Chargers | Q52: Cowboys | R52: Broncos | T52: Cowboys | U52: Raiders | W52: =SUM(Z52:AO52) -> 10 | X52: =SUM(AQ52:AR52) -> 1 | Z52: =IF(C52=C$2,1,0) -> 1 | AA52: =IF(D52=D$2,1,0) -> 0 | AB52: =IF(E52=E$2,1,0) -> 1 | AC52: =IF(F52=F$2,1,0) -> 1 | AD52: =IF(G52=G$2,1,0) -> 0 | AE52: =IF(H52=H$2,1,0) -> 1 | AF52: =IF(I52=I$2,1,0) -> 1 | AG52: =IF(J52=J$2,1,0) -> 1 | ... AO52: =IF(R52=R$2,1,0) -> 0 | AQ52: =COUNTIF($C$2:$R$2, T52) -> 0 | AR52: =COUNTIF($C$2:$R$2, U52) -> 1
B53: Manzala, Jerome | C53: Patriots | D53: Rams | E53: Buccaneers | F53: Lions | G53: Titans | H53: Colts | I53: Falcons | J53: Bears | K53: Jaguars | L53: Bills | M53: Dolphins | N53: Vikings | O53: Eagles | P53: Chargers | Q53: Cowboys | R53: Broncos | T53: Chargers | U53: Titans | W53: =SUM(Z53:AO53) -> 6 | X53: =SUM(AQ53:AR53) -> 0 | Z53: =IF(C53=C$2,1,0) -> 0 | AA53: =IF(D53=D$2,1,0) -> 0 | AB53: =IF(E53=E$2,1,0) -> 0 | AC53: =IF(F53=F$2,1,0) -> 1 | AD53: =IF(G53=G$2,1,0) -> 0 | AE53: =IF(H53=H$2,1,0) -> 0 | AF53: =IF(I53=I$2,1,0) -> 0 | AG53: =IF(J53=J$2,1,0) -> 1 | ... AO53: =IF(R53=R$2,1,0) -> 0 | AQ53: =COUNTIF($C$2:$R$2, T53) -> 0 | AR53: =COUNTIF($C$2:$R$2, U53) -> 0
B54: Mattson, Nick | C54: Seahawks | D54: Rams | E54: Bengals | F54: Lions | G54: Jets | H54: Ravens | I54: Steelers | J54: Panthers | K54: Jaguars | L54: Bills | M54: Raiders | N54: Vikings | O54: Eagles | P54: Chargers | Q54: Cowboys | R54: Broncos | T54: Broncos | U54: Cowboys | W54: =SUM(Z54:AO54) -> 11 | X54: =SUM(AQ54:AR54) -> 0 | Z54: =IF(C54=C$2,1,0) -> 1 | AA54: =IF(D54=D$2,1,0) -> 0 | AB54: =IF(E54=E$2,1,0) -> 1 | AC54: =IF(F54=F$2,1,0) -> 1 | AD54: =IF(G54=G$2,1,0) -> 1 | AE54: =IF(H54=H$2,1,0) -> 1 | AF54: =IF(I54=I$2,1,0) -> 1 | AG54: =IF(J54=J$2,1,0) -> 0 | ... AO54: =IF(R54=R$2,1,0) -> 0 | AQ54: =COUNTIF($C$2:$R$2, T54) -> 0 | AR54: =COUNTIF($C$2:$R$2, U54) -> 0
B55: McElfish, John | C55: Seahawks | D55: Rams | E55: Bengals | F55: Lions | G55: Titans | H55: Ravens | I55: Steelers | J55: Bears | K55: Jaguars | L55: Texans | M55: Raiders | N55: Packers | O55: Eagles | P55: Chargers | Q55: Cowboys | R55: Broncos | T55: Bears | U55: Eagles | W55: =SUM(Z55:AO55) -> 9 | X55: =SUM(AQ55:AR55) -> 2 | Z55: =IF(C55=C$2,1,0) -> 1 | AA55: =IF(D55=D$2,1,0) -> 0 | AB55: =IF(E55=E$2,1,0) -> 1 | AC55: =IF(F55=F$2,1,0) -> 1 | AD55: =IF(G55=G$2,1,0) -> 0 | AE55: =IF(H55=H$2,1,0) -> 1 | AF55: =IF(I55=I$2,1,0) -> 1 | AG55: =IF(J55=J$2,1,0) -> 1 | ... AO55: =IF(R55=R$2,1,0) -> 0 | AQ55: =COUNTIF($C$2:$R$2, T55) -> 1 | AR55: =COUNTIF($C$2:$R$2, U55) -> 1
B56: Meyer, Austen | C56: Seahawks | D56: Rams | E56: Bengals | F56: Lions | G56: Titans | H56: Ravens | I56: Steelers | J56: Bears | K56: Jaguars | L56: Bills | M56: Raiders | N56: Packers | O56: Eagles | P56: Chargers | Q56: Cowboys | R56: Chiefs | T56: Bears | U56: Bills | W56: =SUM(Z56:AO56) -> 11 | X56: =SUM(AQ56:AR56) -> 2 | Z56: =IF(C56=C$2,1,0) -> 1 | AA56: =IF(D56=D$2,1,0) -> 0 | AB56: =IF(E56=E$2,1,0) -> 1 | AC56: =IF(F56=F$2,1,0) -> 1 | AD56: =IF(G56=G$2,1,0) -> 0 | AE56: =IF(H56=H$2,1,0) -> 1 | AF56: =IF(I56=I$2,1,0) -> 1 | AG56: =IF(J56=J$2,1,0) -> 1 | ... AO56: =IF(R56=R$2,1,0) -> 1 | AQ56: =COUNTIF($C$2:$R$2, T56) -> 1 | AR56: =COUNTIF($C$2:$R$2, U56) -> 1
B57: Meyer, Brennan | C57: Patriots | D57: Rams | E57: Bengals | F57: Lions | G57: Jets | H57: Ravens | I57: Steelers | J57: Bears | K57: Jaguars | L57: Bills | M57: Raiders | N57: Packers | O57: Eagles | P57: Chargers | Q57: Giants | R57: Broncos | T57: Broncos | U57: Packers | W57: =SUM(Z57:AO57) -> 11 | X57: =SUM(AQ57:AR57) -> 0 | Z57: =IF(C57=C$2,1,0) -> 0 | AA57: =IF(D57=D$2,1,0) -> 0 | AB57: =IF(E57=E$2,1,0) -> 1 | AC57: =IF(F57=F$2,1,0) -> 1 | AD57: =IF(G57=G$2,1,0) -> 1 | AE57: =IF(H57=H$2,1,0) -> 1 | AF57: =IF(I57=I$2,1,0) -> 1 | AG57: =IF(J57=J$2,1,0) -> 1 | ... AO57: =IF(R57=R$2,1,0) -> 0 | AQ57: =COUNTIF($C$2:$R$2, T57) -> 0 | AR57: =COUNTIF($C$2:$R$2, U57) -> 0
B58: Meyer, Dave | C58: Seahawks | D58: Rams | E58: Bengals | F58: Lions | G58: Titans | H58: Ravens | I58: Steelers | J58: Bears | K58: Jaguars | L58: Texans | M58: Raiders | N58: Packers | O58: Eagles | P58: Chargers | Q58: Cowboys | R58: Chiefs | T58: Bears | U58: Chiefs | W58: =SUM(Z58:AO58) -> 10 | X58: =SUM(AQ58:AR58) -> 2 | Z58: =IF(C58=C$2,1,0) -> 1 | AA58: =IF(D58=D$2,1,0) -> 0 | AB58: =IF(E58=E$2,1,0) -> 1 | AC58: =IF(F58=F$2,1,0) -> 1 | AD58: =IF(G58=G$2,1,0) -> 0 | AE58: =IF(H58=H$2,1,0) -> 1 | AF58: =IF(I58=I$2,1,0) -> 1 | AG58: =IF(J58=J$2,1,0) -> 1 | ... AO58: =IF(R58=R$2,1,0) -> 1 | AQ58: =COUNTIF($C$2:$R$2, T58) -> 1 | AR58: =COUNTIF($C$2:$R$2, U58) -> 1
B59: Meyer, Pat | C59: Seahawks | D59: Rams | E59: Bengals | F59: Lions | G59: Jets | H59: Ravens | I59: Steelers | J59: Bears | K59: Jaguars | L59: Texans | M59: Raiders | N59: Packers | O59: Eagles | P59: Chargers | Q59: Cowboys | R59: Chiefs | T59: Chargers | U59: Jaguars | W59: =SUM(Z59:AO59) -> 11 | X59: =SUM(AQ59:AR59) -> 1 | Z59: =IF(C59=C$2,1,0) -> 1 | AA59: =IF(D59=D$2,1,0) -> 0 | AB59: =IF(E59=E$2,1,0) -> 1 | AC59: =IF(F59=F$2,1,0) -> 1 | AD59: =IF(G59=G$2,1,0) -> 1 | AE59: =IF(H59=H$2,1,0) -> 1 | AF59: =IF(I59=I$2,1,0) -> 1 | AG59: =IF(J59=J$2,1,0) -> 1 | ... AO59: =IF(R59=R$2,1,0) -> 1 | AQ59: =COUNTIF($C$2:$R$2, T59) -> 0 | AR59: =COUNTIF($C$2:$R$2, U59) -> 1
B60: Miller, Chris | C60: Seahawks | D60: Rams | E60: Buccaneers | F60: Lions | G60: Titans | H60: Ravens | I60: Steelers | J60: Panthers | K60: Jaguars | L60: Bills | M60: Raiders | N60: Vikings | O60: Eagles | P60: Chargers | Q60: Cowboys | R60: Chiefs | T60: Bills | U60: Cowboys | W60: =SUM(Z60:AO60) -> 10 | X60: =SUM(AQ60:AR60) -> 1 | Z60: =IF(C60=C$2,1,0) -> 1 | AA60: =IF(D60=D$2,1,0) -> 0 | AB60: =IF(E60=E$2,1,0) -> 0 | AC60: =IF(F60=F$2,1,0) -> 1 | AD60: =IF(G60=G$2,1,0) -> 0 | AE60: =IF(H60=H$2,1,0) -> 1 | AF60: =IF(I60=I$2,1,0) -> 1 | AG60: =IF(J60=J$2,1,0) -> 0 | ... AO60: =IF(R60=R$2,1,0) -> 1 | AQ60: =COUNTIF($C$2:$R$2, T60) -> 1 | AR60: =COUNTIF($C$2:$R$2, U60) -> 0
B61: Pearce, Matt | C61: Seahawks | D61: Rams | E61: Bengals | F61: Lions | G61: Titans | H61: Colts | I61: Steelers | J61: Panthers | K61: Jaguars | L61: Texans | M61: Raiders | N61: Vikings | O61: Commanders | P61: Chargers | Q61: Cowboys | R61: Chiefs | T61: Chargers | U61: Jaguars | W61: =SUM(Z61:AO61) -> 8 | X61: =SUM(AQ61:AR61) -> 1 | Z61: =IF(C61=C$2,1,0) -> 1 | AA61: =IF(D61=D$2,1,0) -> 0 | AB61: =IF(E61=E$2,1,0) -> 1 | AC61: =IF(F61=F$2,1,0) -> 1 | AD61: =IF(G61=G$2,1,0) -> 0 | AE61: =IF(H61=H$2,1,0) -> 0 | AF61: =IF(I61=I$2,1,0) -> 1 | AG61: =IF(J61=J$2,1,0) -> 0 | ... AO61: =IF(R61=R$2,1,0) -> 1 | AQ61: =COUNTIF($C$2:$R$2, T61) -> 0 | AR61: =COUNTIF($C$2:$R$2, U61) -> 1
B62: Prothro, John | C62: Seahawks | D62: Rams | E62: Bengals | F62: Lions | G62: Titans | H62: Ravens | I62: Steelers | J62: Bears | K62: Jaguars | L62: Texans | M62: Raiders | N62: Packers | O62: Eagles | P62: Chargers | Q62: Cowboys | R62: Broncos | T62: Chargers | U62: Jaguars | W62: =SUM(Z62:AO62) -> 9 | X62: =SUM(AQ62:AR62) -> 1 | Z62: =IF(C62=C$2,1,0) -> 1 | AA62: =IF(D62=D$2,1,0) -> 0 | AB62: =IF(E62=E$2,1,0) -> 1 | AC62: =IF(F62=F$2,1,0) -> 1 | AD62: =IF(G62=G$2,1,0) -> 0 | AE62: =IF(H62=H$2,1,0) -> 1 | AF62: =IF(I62=I$2,1,0) -> 1 | AG62: =IF(J62=J$2,1,0) -> 1 | ... AO62: =IF(R62=R$2,1,0) -> 0 | AQ62: =COUNTIF($C$2:$R$2, T62) -> 0 | AR62: =COUNTIF($C$2:$R$2, U62) -> 1
... B65: Rapisand, Ryan | C65: Seahawks | D65: Rams | E65: Bengals | F65: Lions | G65: Titans | H65: Ravens | I65: Steelers | J65: Bears | K65: Jaguars | L65: Texans | M65: Raiders | N65: Vikings | O65: Eagles | P65: Chargers | Q65: Cowboys | R65: Chiefs | T65: Chargers | U65: Jaguars | W65: =SUM(Z65:AO65) -> 11 | X65: =SUM(AQ65:AR65) -> 1 | Z65: =IF(C65=C$2,1,0) -> 1 | AA65: =IF(D65=D$2,1,0) -> 0 | AB65: =IF(E65=E$2,1,0) -> 1 | AC65: =IF(F65=F$2,1,0) -> 1 | AD65: =IF(G65=G$2,1,0) -> 0 | AE65: =IF(H65=H$2,1,0) -> 1 | AF65: =IF(I65=I$2,1,0) -> 1 | AG65: =IF(J65=J$2,1,0) -> 1 | ... AO65: =IF(R65=R$2,1,0) -> 1 | AQ65: =COUNTIF($C$2:$R$2, T65) -> 0 | AR65: =COUNTIF($C$2:$R$2, U65) -> 1
B66: Ray, Bobby | C66: Patriots* | D66: 49ers | E66: Bengals | F66: Lions | G66: Titans | H66: Ravens | I66: Steelers | J66: Bears | K66: Jaguars | L66: Bills | M66: Raiders | N66: Packers | O66: Eagles | P66: Chargers | Q66: Cowboys | R66: Chiefs | T66: Chargers | U66: Cowboys | W66: =SUM(Z66:AO66) -> 11 | X66: =SUM(AQ66:AR66) -> 0 | Z66: 0 | AA66: =IF(D66=D$2,1,0) -> 1 | AB66: =IF(E66=E$2,1,0) -> 1 | AC66: =IF(F66=F$2,1,0) -> 1 | AD66: =IF(G66=G$2,1,0) -> 0 | AE66: =IF(H66=H$2,1,0) -> 1 | AF66: =IF(I66=I$2,1,0) -> 1 | AG66: =IF(J66=J$2,1,0) -> 1 | AH66: =IF(K66=K$2,1,0) -> 1 | ... AO66: =IF(R66=R$2,1,0) -> 1 | AQ66: =COUNTIF($C$2:$R$2, T66) -> 0 | AR66: =COUNTIF($C$2:$R$2, U66) -> 0
B67: Roberts, Jeff | C67: Patriots | D67: 49ers | E67: Bengals | F67: Lions | G67: Titans | H67: Ravens | I67: Steelers | J67: Bears | K67: Jaguars | L67: Bills | M67: Raiders | N67: Vikings | O67: Eagles | P67: Chargers | Q67: Cowboys | R67: Chiefs | T67: Jaguars | U67: Lions | W67: =SUM(Z67:AO67) -> 12 | X67: =SUM(AQ67:AR67) -> 2 | Z67: =IF(C67=C$2,1,0) -> 0 | AA67: =IF(D67=D$2,1,0) -> 1 | AB67: =IF(E67=E$2,1,0) -> 1 | AC67: =IF(F67=F$2,1,0) -> 1 | AD67: =IF(G67=G$2,1,0) -> 0 | AE67: =IF(H67=H$2,1,0) -> 1 | AF67: =IF(I67=I$2,1,0) -> 1 | AG67: =IF(J67=J$2,1,0) -> 1 | ... AO67: =IF(R67=R$2,1,0) -> 1 | AQ67: =COUNTIF($C$2:$R$2, T67) -> 1 | AR67: =COUNTIF($C$2:$R$2, U67) -> 1
B68: Rushing, Luke | C68: Seahawks | D68: Rams | E68: Buccaneers | F68: Lions | G68: Titans | H68: Ravens | I68: Steelers | J68: Bears | K68: Jaguars | L68: Bills | M68: Raiders | N68: Vikings | O68: Eagles | P68: Chargers | Q68: Cowboys | R68: Broncos | T68: Cowboys | U68: Lions | W68: =SUM(Z68:AO68) -> 10 | X68: =SUM(AQ68:AR68) -> 1 | Z68: =IF(C68=C$2,1,0) -> 1 | AA68: =IF(D68=D$2,1,0) -> 0 | AB68: =IF(E68=E$2,1,0) -> 0 | AC68: =IF(F68=F$2,1,0) -> 1 | AD68: =IF(G68=G$2,1,0) -> 0 | AE68: =IF(H68=H$2,1,0) -> 1 | AF68: =IF(I68=I$2,1,0) -> 1 | AG68: =IF(J68=J$2,1,0) -> 1 | ... AO68: =IF(R68=R$2,1,0) -> 0 | AQ68: =COUNTIF($C$2:$R$2, T68) -> 0 | AR68: =COUNTIF($C$2:$R$2, U68) -> 1
B69: Scoville, Jordan | C69: Seahawks | D69: Rams | E69: Bengals | F69: Lions | G69: Titans | H69: Ravens | I69: Steelers | J69: Bears | K69: Jaguars | L69: Bills | M69: Dolphins | N69: Vikings | O69: Eagles | P69: Chargers | Q69: Cowboys | R69: Chiefs | T69: Bears | U69: Chargers | W69: =SUM(Z69:AO69) -> 11 | X69: =SUM(AQ69:AR69) -> 1 | Z69: =IF(C69=C$2,1,0) -> 1 | AA69: =IF(D69=D$2,1,0) -> 0 | AB69: =IF(E69=E$2,1,0) -> 1 | AC69: =IF(F69=F$2,1,0) -> 1 | AD69: =IF(G69=G$2,1,0) -> 0 | AE69: =IF(H69=H$2,1,0) -> 1 | AF69: =IF(I69=I$2,1,0) -> 1 | AG69: =IF(J69=J$2,1,0) -> 1 | ... AO69: =IF(R69=R$2,1,0) -> 1 | AQ69: =COUNTIF($C$2:$R$2, T69) -> 1 | AR69: =COUNTIF($C$2:$R$2, U69) -> 0
B70: Seamands, Byron | C70: Seahawks | D70: Rams | E70: Bengals | F70: Lions | G70: Titans | H70: Ravens | I70: Steelers | J70: Bears | K70: Jaguars | L70: Bills | M70: Raiders | N70: Vikings | O70: Eagles | P70: Chargers | Q70: Cowboys | R70: Chiefs | T70: Chargers | U70: Jaguars | W70: =SUM(Z70:AO70) -> 12 | X70: =SUM(AQ70:AR70) -> 1 | Z70: =IF(C70=C$2,1,0) -> 1 | AA70: =IF(D70=D$2,1,0) -> 0 | AB70: =IF(E70=E$2,1,0) -> 1 | AC70: =IF(F70=F$2,1,0) -> 1 | AD70: =IF(G70=G$2,1,0) -> 0 | AE70: =IF(H70=H$2,1,0) -> 1 | AF70: =IF(I70=I$2,1,0) -> 1 | AG70: =IF(J70=J$2,1,0) -> 1 | ... AO70: =IF(R70=R$2,1,0) -> 1 | AQ70: =COUNTIF($C$2:$R$2, T70) -> 0 | AR70: =COUNTIF($C$2:$R$2, U70) -> 1
B71: Seamands, Jorden | C71: Seahawks | D71: Rams | E71: Bengals | F71: Lions | G71: Titans | H71: Ravens | I71: Steelers | J71: Bears | K71: Jaguars | L71: Bills | M71: Raiders | N71: Packers | O71: Eagles | P71: Chargers | Q71: Cowboys | R71: Chiefs | T71: Chargers | U71: Lions | W71: =SUM(Z71:AO71) -> 11 | X71: =SUM(AQ71:AR71) -> 1 | Z71: =IF(C71=C$2,1,0) -> 1 | AA71: =IF(D71=D$2,1,0) -> 0 | AB71: =IF(E71=E$2,1,0) -> 1 | AC71: =IF(F71=F$2,1,0) -> 1 | AD71: =IF(G71=G$2,1,0) -> 0 | AE71: =IF(H71=H$2,1,0) -> 1 | AF71: =IF(I71=I$2,1,0) -> 1 | AG71: =IF(J71=J$2,1,0) -> 1 | ... AO71: =IF(R71=R$2,1,0) -> 1 | AQ71: =COUNTIF($C$2:$R$2, T71) -> 0 | AR71: =COUNTIF($C$2:$R$2, U71) -> 1
B72: Seamands, Mike | C72: Seahawks | D72: Rams | E72: Bengals | F72: Lions | G72: Titans | H72: Ravens | I72: Falcons | J72: Bears | K72: Jaguars | L72: Bills | M72: Raiders | N72: Packers | O72: Eagles | P72: Chargers | Q72: Cowboys | R72: Broncos | T72: Chargers | U72: Lions | W72: =SUM(Z72:AO72) -> 9 | X72: =SUM(AQ72:AR72) -> 1 | Z72: =IF(C72=C$2,1,0) -> 1 | AA72: =IF(D72=D$2,1,0) -> 0 | AB72: =IF(E72=E$2,1,0) -> 1 | AC72: =IF(F72=F$2,1,0) -> 1 | AD72: =IF(G72=G$2,1,0) -> 0 | AE72: =IF(H72=H$2,1,0) -> 1 | AF72: =IF(I72=I$2,1,0) -> 0 | AG72: =IF(J72=J$2,1,0) -> 1 | ... AO72: =IF(R72=R$2,1,0) -> 0 | AQ72: =COUNTIF($C$2:$R$2, T72) -> 0 | AR72: =COUNTIF($C$2:$R$2, U72) -> 1
B73: Seamands, Natalie | C73: Seahawks | D73: Rams | E73: Bengals | F73: Lions | G73: Titans | H73: Ravens | I73: Steelers | J73: Bears | K73: Jaguars | L73: Bills | M73: Raiders | N73: Vikings | O73: Eagles | P73: Chargers | Q73: Cowboys | R73: Chiefs | T73: Jaguars | U73: Lions | W73: =SUM(Z73:AO73) -> 12 | X73: =SUM(AQ73:AR73) -> 2 | Z73: =IF(C73=C$2,1,0) -> 1 | AA73: =IF(D73=D$2,1,0) -> 0 | AB73: =IF(E73=E$2,1,0) -> 1 | AC73: =IF(F73=F$2,1,0) -> 1 | AD73: =IF(G73=G$2,1,0) -> 0 | AE73: =IF(H73=H$2,1,0) -> 1 | AF73: =IF(I73=I$2,1,0) -> 1 | AG73: =IF(J73=J$2,1,0) -> 1 | ... AO73: =IF(R73=R$2,1,0) -> 1 | AQ73: =COUNTIF($C$2:$R$2, T73) -> 1 | AR73: =COUNTIF($C$2:$R$2, U73) -> 1
B74: Seamands, Nathan | C74: Seahawks | D74: Rams | E74: Bengals | F74: Lions | G74: Titans | H74: Ravens | I74: Steelers | J74: Bears | K74: Jaguars | L74: Bills | M74: Raiders | N74: Vikings | O74: Eagles | P74: Chargers | Q74: Cowboys | R74: Chiefs | T74: Chargers | U74: Jaguars | W74: =SUM(Z74:AO74) -> 12 | X74: =SUM(AQ74:AR74) -> 1 | Z74: =IF(C74=C$2,1,0) -> 1 | AA74: =IF(D74=D$2,1,0) -> 0 | AB74: =IF(E74=E$2,1,0) -> 1 | AC74: =IF(F74=F$2,1,0) -> 1 | AD74: =IF(G74=G$2,1,0) -> 0 | AE74: =IF(H74=H$2,1,0) -> 1 | AF74: =IF(I74=I$2,1,0) -> 1 | AG74: =IF(J74=J$2,1,0) -> 1 | ... AO74: =IF(R74=R$2,1,0) -> 1 | AQ74: =COUNTIF($C$2:$R$2, T74) -> 0 | AR74: =COUNTIF($C$2:$R$2, U74) -> 1
B75: Seamands, Sarah | C75: Seahawks | D75: Rams | E75: Bengals | F75: Lions | G75: Titans | H75: Ravens | I75: Steelers | J75: Bears | K75: Jaguars | L75: Bills | M75: Raiders | N75: Vikings | O75: Eagles | P75: Chargers | Q75: Cowboys | R75: Chiefs | T75: Chargers | U75: Jaguars | W75: =SUM(Z75:AO75) -> 12 | X75: =SUM(AQ75:AR75) -> 1 | Z75: =IF(C75=C$2,1,0) -> 1 | AA75: =IF(D75=D$2,1,0) -> 0 | AB75: =IF(E75=E$2,1,0) -> 1 | AC75: =IF(F75=F$2,1,0) -> 1 | AD75: =IF(G75=G$2,1,0) -> 0 | AE75: =IF(H75=H$2,1,0) -> 1 | AF75: =IF(I75=I$2,1,0) -> 1 | AG75: =IF(J75=J$2,1,0) -> 1 | ... AO75: =IF(R75=R$2,1,0) -> 1 | AQ75: =COUNTIF($C$2:$R$2, T75) -> 0 | AR75: =COUNTIF($C$2:$R$2, U75) -> 1
B76: Skipper, Eric | C76: Seahawks | D76: Rams | E76: Bengals | F76: Lions | G76: Titans | H76: Ravens | I76: Steelers | J76: Bears | K76: Jaguars | L76: Bills | M76: Dolphins | N76: Packers | O76: Eagles | P76: Chargers | Q76: Cowboys | R76: Chiefs | T76: Eagles | U76: Lions | W76: =SUM(Z76:AO76) -> 10 | X76: =SUM(AQ76:AR76) -> 2 | Z76: =IF(C76=C$2,1,0) -> 1 | AA76: =IF(D76=D$2,1,0) -> 0 | AB76: =IF(E76=E$2,1,0) -> 1 | AC76: =IF(F76=F$2,1,0) -> 1 | AD76: =IF(G76=G$2,1,0) -> 0 | AE76: =IF(H76=H$2,1,0) -> 1 | AF76: =IF(I76=I$2,1,0) -> 1 | AG76: =IF(J76=J$2,1,0) -> 1 | ... AO76: =IF(R76=R$2,1,0) -> 1 | AQ76: =COUNTIF($C$2:$R$2, T76) -> 1 | AR76: =COUNTIF($C$2:$R$2, U76) -> 1
B77: Smith, Ashton | C77: Patriots | D77: Rams | E77: Bengals | F77: Lions | G77: Titans | H77: Ravens | I77: Steelers | J77: Bears | K77: Jaguars | L77: Bills | M77: Raiders | N77: Packers | O77: Eagles | P77: Chargers | Q77: Cowboys | R77: Chiefs | T77: Cowboys | U77: Jaguars | W77: =SUM(Z77:AO77) -> 10 | X77: =SUM(AQ77:AR77) -> 1 | Z77: =IF(C77=C$2,1,0) -> 0 | AA77: =IF(D77=D$2,1,0) -> 0 | AB77: =IF(E77=E$2,1,0) -> 1 | AC77: =IF(F77=F$2,1,0) -> 1 | AD77: =IF(G77=G$2,1,0) -> 0 | AE77: =IF(H77=H$2,1,0) -> 1 | AF77: =IF(I77=I$2,1,0) -> 1 | AG77: =IF(J77=J$2,1,0) -> 1 | ... AO77: =IF(R77=R$2,1,0) -> 1 | AQ77: =COUNTIF($C$2:$R$2, T77) -> 0 | AR77: =COUNTIF($C$2:$R$2, U77) -> 1
B78: Smith, Brad | C78: Seahawks | D78: Rams | E78: Bengals | F78: Lions | G78: Jets | H78: Ravens | I78: Steelers | J78: Bears | K78: Jaguars | L78: Texans | M78: Raiders | N78: Vikings | O78: Eagles | P78: Chargers | Q78: Cowboys | R78: Chiefs | T78: Chargers | U78: Lions | W78: =SUM(Z78:AO78) -> 12 | X78: =SUM(AQ78:AR78) -> 1 | Z78: =IF(C78=C$2,1,0) -> 1 | AA78: =IF(D78=D$2,1,0) -> 0 | AB78: =IF(E78=E$2,1,0) -> 1 | AC78: =IF(F78=F$2,1,0) -> 1 | AD78: =IF(G78=G$2,1,0) -> 1 | AE78: =IF(H78=H$2,1,0) -> 1 | AF78: =IF(I78=I$2,1,0) -> 1 | AG78: =IF(J78=J$2,1,0) -> 1 | ... AO78: =IF(R78=R$2,1,0) -> 1 | AQ78: =COUNTIF($C$2:$R$2, T78) -> 0 | AR78: =COUNTIF($C$2:$R$2, U78) -> 1
... B83: Vance, Jeremy | C83: Patriots | D83: Rams | E83: Bengals | F83: Lions | G83: Titans | H83: Colts | I83: Steelers | J83: Bears | K83: Jaguars | L83: Texans | M83: Raiders | N83: Packers | O83: Eagles | P83: Chargers | Q83: Cowboys | R83: Broncos | T83: Lions | U83: Packers | W83: =SUM(Z83:AO83) -> 7 | X83: =SUM(AQ83:AR83) -> 1 | Z83: =IF(C83=C$2,1,0) -> 0 | AA83: =IF(D83=D$2,1,0) -> 0 | AB83: =IF(E83=E$2,1,0) -> 1 | AC83: =IF(F83=F$2,1,0) -> 1 | AD83: =IF(G83=G$2,1,0) -> 0 | AE83: =IF(H83=H$2,1,0) -> 0 | AF83: =IF(I83=I$2,1,0) -> 1 | AG83: =IF(J83=J$2,1,0) -> 1 | ... AO83: =IF(R83=R$2,1,0) -> 0 | AQ83: =COUNTIF($C$2:$R$2, T83) -> 1 | AR83: =COUNTIF($C$2:$R$2, U83) -> 0
B84: West, Shannon | C84: Patriots* | D84: 49ers* | E84: Bengals | F84: Lions | G84: Titans | H84: Ravens | I84: Steelers | J84: Bears | K84: Jaguars | L84: Bills | M84: Raiders | N84: Vikings | O84: Eagles | P84: Chargers | Q84: Cowboys | R84: Broncos | T84: Lions | U84: Steelers | W84: =SUM(Z84:AO84) -> 11 | X84: =SUM(AQ84:AR84) -> 2 | Z84: 0 | AA84: 1 | AB84: =IF(E84=E$2,1,0) -> 1 | AC84: =IF(F84=F$2,1,0) -> 1 | AD84: =IF(G84=G$2,1,0) -> 0 | AE84: =IF(H84=H$2,1,0) -> 1 | AF84: =IF(I84=I$2,1,0) -> 1 | AG84: =IF(J84=J$2,1,0) -> 1 | AH84: =IF(K84=K$2,1,0) -> 1 | AI84: =IF(L84=L$2,1,0) -> 1 | ... AO84: =IF(R84=R$2,1,0) -> 0 | AQ84: =COUNTIF($C$2:$R$2, T84) -> 1 | AR84: =COUNTIF($C$2:$R$2, U84) -> 1
B85: White, Shawn | C85: Seahawks | D85: Rams | E85: Bengals | F85: Lions | G85: Titans | H85: Ravens | I85: Steelers | J85: Bears | K85: Jaguars | L85: Bills | M85: Raiders | N85: Vikings | O85: Eagles | P85: Chargers | Q85: Cowboys | R85: Chiefs | T85: Chargers | U85: Lions | W85: =SUM(Z85:AO85) -> 12 | X85: =SUM(AQ85:AR85) -> 1 | Z85: =IF(C85=C$2,1,0) -> 1 | AA85: =IF(D85=D$2,1,0) -> 0 | AB85: =IF(E85=E$2,1,0) -> 1 | AC85: =IF(F85=F$2,1,0) -> 1 | AD85: =IF(G85=G$2,1,0) -> 0 | AE85: =IF(H85=H$2,1,0) -> 1 | AF85: =IF(I85=I$2,1,0) -> 1 | AG85: =IF(J85=J$2,1,0) -> 1 | ... AO85: =IF(R85=R$2,1,0) -> 1 | AQ85: =COUNTIF($C$2:$R$2, T85) -> 0 | AR85: =COUNTIF($C$2:$R$2, U85) -> 1
B86: Williams, Reilee | C86: Seahawks | D86: Rams | E86: Buccaneers | F86: Lions | G86: Jets | H86: Colts | I86: Falcons | J86: Panthers | K86: Jaguars | L86: Bills | M86: Dolphins | N86: Packers | O86: Eagles | P86: Chargers | Q86: Cowboys | R86: Broncos | T86: Chargers | U86: Jaguars | W86: =SUM(Z86:AO86) -> 6 | X86: =SUM(AQ86:AR86) -> 1 | Z86: =IF(C86=C$2,1,0) -> 1 | AA86: =IF(D86=D$2,1,0) -> 0 | AB86: =IF(E86=E$2,1,0) -> 0 | AC86: =IF(F86=F$2,1,0) -> 1 | AD86: =IF(G86=G$2,1,0) -> 1 | AE86: =IF(H86=H$2,1,0) -> 0 | AF86: =IF(I86=I$2,1,0) -> 0 | AG86: =IF(J86=J$2,1,0) -> 0 | ... AO86: =IF(R86=R$2,1,0) -> 0 | AQ86: =COUNTIF($C$2:$R$2, T86) -> 0 | AR86: =COUNTIF($C$2:$R$2, U86) -> 1
B87: Young, Michael | C87: Seahawks | D87: Rams | E87: Bengals | F87: Lions | G87: Jets | H87: Ravens | I87: Steelers | J87: Bears | K87: Jaguars | L87: Bills | M87: Raiders | N87: Vikings | O87: Eagles | P87: Chargers | Q87: Cowboys | R87: Chiefs | T87: Jaguars | U87: Lions | W87: =SUM(Z87:AO87) -> 13 | X87: =SUM(AQ87:AR87) -> 2 | Z87: =IF(C87=C$2,1,0) -> 1 | AA87: =IF(D87=D$2,1,0) -> 0 | AB87: =IF(E87=E$2,1,0) -> 1 | AC87: =IF(F87=F$2,1,0) -> 1 | AD87: =IF(G87=G$2,1,0) -> 1 | AE87: =IF(H87=H$2,1,0) -> 1 | AF87: =IF(I87=I$2,1,0) -> 1 | AG87: =IF(J87=J$2,1,0) -> 1 | ... AO87: =IF(R87=R$2,1,0) -> 1 | AQ87: =COUNTIF($C$2:$R$2, T87) -> 1 | AR87: =COUNTIF($C$2:$R$2, U87) -> 1
B88: 77 Total | C88: Rule 3*

Sheet W02
B2: 2026 Week 02 Winners: | C2: Bills | D2: Panthers | E2: Vikings | F2: Eagles | G2: Patriots | H2: Packers | I2: Browns | J2: Saints | K2: Bengals | L2: Broncos | M2: Raiders | N2: Cowboys | O2: Seahawks | P2: 49ers | Q2: Chiefs | R2: Rams
T3: Guarantee | U3: Guarantee | W3: Correct | X3: Guar.
B4: FPLeague | C4: {=_xlfn.IFS(C7>C8, C5, C7<C8, C6, C7=C8, "EVEN")} -> Bills | D4: {=_xlfn.IFS(D7>D8, D5, D7<D8, D6, D7=D8, "EVEN")} -> Panthers | E4: {=_xlfn.IFS(E7>E8, E5, E7<E8, E6, E7=E8, "EVEN")} -> Bears | F4: {=_xlfn.IFS(F7>F8, F5, F7<F8, F6, F7=F8, "EVEN")} -> Eagles | G4: {=_xlfn.IFS(G7>G8, G5, G7<G8, G6, G7=G8, "EVEN")} -> Patriots | H4: {=_xlfn.IFS(H7>H8, H5, H7<H8, H6, H7=H8, "EVEN")} -> Packers | I4: {=_xlfn.IFS(I7>I8, I5, I7<I8, I6, I7=I8, "EVEN")} -> Buccaneers | J4: {=_xlfn.IFS(J7>J8, J5, J7<J8, J6, J7=J8, "EVEN")} -> Ravens | ... R4: {=_xlfn.IFS(R7>R8, R5, R7<R8, R6, R7=R8, "EVEN")} -> Rams | T4: 49ers | U4: Eagles | W4: =SUM(Z4:AO4) -> 11 | X4: =SUM(AQ4:AR4) -> 2 | Z4: =IF(C4=C$2,1,0) -> 1 | AA4: =IF(D4=D$2,1,0) -> 1 | AB4: =IF(E4=E$2,1,0) -> 0 | AC4: =IF(F4=F$2,1,0) -> 1 | AD4: =IF(G4=G$2,1,0) -> 1 | AE4: =IF(H4=H$2,1,0) -> 1 | AF4: =IF(I4=I$2,1,0) -> 0 | AG4: =IF(J4=J$2,1,0) -> 0 | ... AO4: =IF(R4=R$2,1,0) -> 1 | AQ4: =COUNTIF($C$2:$R$2, T4) -> 1 | AR4: =COUNTIF($C$2:$R$2, U4) -> 1
B5: Line | C5: Bills | D5: Panthers | E5: Bears | F5: Eagles | G5: Patriots | H5: Packers | I5: Buccaneers | J5: Ravens | K5: Texans | L5: Broncos | M5: Chargers | N5: Cowboys | O5: Seahawks | P5: 49ers | Q5: Chiefs | R5: Rams | T5: 49ers | U5: Buccaneers | W5: =SUM(Z5:AO5) -> 11 | X5: =SUM(AQ5:AR5) -> 1 | Z5: =IF(C5=C$2,1,0) -> 1 | AA5: =IF(D5=D$2,1,0) -> 1 | AB5: =IF(E5=E$2,1,0) -> 0 | AC5: =IF(F5=F$2,1,0) -> 1 | AD5: =IF(G5=G$2,1,0) -> 1 | AE5: =IF(H5=H$2,1,0) -> 1 | AF5: =IF(I5=I$2,1,0) -> 0 | AG5: =IF(J5=J$2,1,0) -> 0 | ... AO5: =IF(R5=R$2,1,0) -> 1 | AQ5: =COUNTIF($C$2:$R$2, T5) -> 1 | AR5: =COUNTIF($C$2:$R$2, U5) -> 0
B6: Underdogs | C6: Lions | D6: Falcons | E6: Vikings | F6: Titans | G6: Steelers | H6: Jets | I6: Browns | J6: Saints | K6: Bengals | L6: Jaguars | M6: Raiders | N6: Commanders | O6: Cardinals | P6: Dolphins | Q6: Colts | R6: Giants
B7: Favorite Count | C7: =COUNTIF(C$11:C$87,C5) -> 72 | D7: =COUNTIF(D$11:D$87,D5) -> 54 | E7: =COUNTIF(E$11:E$87,E5) -> 68 | F7: =COUNTIF(F$11:F$87,F5) -> 76 | G7: =COUNTIF(G$11:G$87,G5) -> 64 | H7: =COUNTIF(H$11:H$87,H5) -> 63 | I7: =COUNTIF(I$11:I$87,I5) -> 71 | J7: =COUNTIF(J$11:J$87,J5) -> 71 | ... R7: =COUNTIF(R$11:R$87,R5) -> 68
B8: Underdog Count | C8: =COUNTIF(C$11:C$87,C6) -> 2 | D8: =COUNTIF(D$11:D$87,D6) -> 23 | E8: =COUNTIF(E$11:E$87,E6) -> 9 | F8: =COUNTIF(F$11:F$87,F6) -> 1 | G8: =COUNTIF(G$11:G$87,G6) -> 13 | H8: =COUNTIF(H$11:H$87,H6) -> 14 | I8: =COUNTIF(I$11:I$87,I6) -> 6 | J8: =COUNTIF(J$11:J$87,J6) -> 6 | ... R8: =COUNTIF(R$11:R$87,R6) -> 9
B10: Name | T10: Guarantee | U10: Guarantee | W10: Correct | X10: Guar.
B11: Abusaad, Hussein | C11: Bills | D11: Falcons | E11: Bears | F11: Eagles | G11: Steelers | H11: Packers | I11: Buccaneers | J11: Ravens | K11: Texans | L11: Broncos | M11: Chargers | N11: Cowboys | O11: Seahawks | P11: 49ers | Q11: Chiefs | R11: Rams | T11: 49ers | U11: Bills | W11: =SUM(Z11:AO11) -> 9 | X11: =SUM(AQ11:AR11) -> 2 | Z11: =IF(C11=C$2,1,0) -> 1 | AA11: =IF(D11=D$2,1,0) -> 0 | AB11: =IF(E11=E$2,1,0) -> 0 | AC11: =IF(F11=F$2,1,0) -> 1 | AD11: =IF(G11=G$2,1,0) -> 0 | AE11: =IF(H11=H$2,1,0) -> 1 | AF11: =IF(I11=I$2,1,0) -> 0 | AG11: =IF(J11=J$2,1,0) -> 0 | ... AO11: =IF(R11=R$2,1,0) -> 1 | AQ11: =COUNTIF($C$2:$R$2, T11) -> 1 | AR11: =COUNTIF($C$2:$R$2, U11) -> 1
B12: Alsobrook, Luke | C12: Bills | D12: Panthers | E12: Bears | F12: Eagles | G12: Patriots | H12: Packers | I12: Buccaneers | J12: Ravens | K12: Texans | L12: Broncos | M12: Chargers | N12: Cowboys | O12: Seahawks | P12: 49ers | Q12: Chiefs | R12: Rams | T12: Chargers | U12: Chiefs | W12: =SUM(Z12:AO12) -> 11 | X12: =SUM(AQ12:AR12) -> 1 | Z12: =IF(C12=C$2,1,0) -> 1 | AA12: =IF(D12=D$2,1,0) -> 1 | AB12: =IF(E12=E$2,1,0) -> 0 | AC12: =IF(F12=F$2,1,0) -> 1 | AD12: =IF(G12=G$2,1,0) -> 1 | AE12: =IF(H12=H$2,1,0) -> 1 | AF12: =IF(I12=I$2,1,0) -> 0 | AG12: =IF(J12=J$2,1,0) -> 0 | ... AO12: =IF(R12=R$2,1,0) -> 1 | AQ12: =COUNTIF($C$2:$R$2, T12) -> 0 | AR12: =COUNTIF($C$2:$R$2, U12) -> 1
B13: Anthis, Lincoln | C13: Bills | D13: Falcons | E13: Vikings | F13: Eagles | G13: Patriots | H13: Packers | I13: Browns | J13: Ravens | K13: Bengals | L13: Broncos | M13: Chargers | N13: Commanders | O13: Seahawks | P13: 49ers | Q13: Chiefs | R13: Rams | T13: Packers | U13: Ravens | W13: =SUM(Z13:AO13) -> 12 | X13: =SUM(AQ13:AR13) -> 1 | Z13: =IF(C13=C$2,1,0) -> 1 | AA13: =IF(D13=D$2,1,0) -> 0 | AB13: =IF(E13=E$2,1,0) -> 1 | AC13: =IF(F13=F$2,1,0) -> 1 | AD13: =IF(G13=G$2,1,0) -> 1 | AE13: =IF(H13=H$2,1,0) -> 1 | AF13: =IF(I13=I$2,1,0) -> 1 | AG13: =IF(J13=J$2,1,0) -> 0 | ... AO13: =IF(R13=R$2,1,0) -> 1 | AQ13: =COUNTIF($C$2:$R$2, T13) -> 1 | AR13: =COUNTIF($C$2:$R$2, U13) -> 0
B14: Anthis, Micah | C14: Bills | D14: Panthers | E14: Bears | F14: Eagles | G14: Patriots | H14: Packers | I14: Buccaneers | J14: Ravens | K14: Texans | L14: Broncos | M14: Chargers | N14: Cowboys | O14: Seahawks | P14: 49ers | Q14: Chiefs | R14: Rams | T14: Eagles | U14: Packers | W14: =SUM(Z14:AO14) -> 11 | X14: =SUM(AQ14:AR14) -> 2 | Z14: =IF(C14=C$2,1,0) -> 1 | AA14: =IF(D14=D$2,1,0) -> 1 | AB14: =IF(E14=E$2,1,0) -> 0 | AC14: =IF(F14=F$2,1,0) -> 1 | AD14: =IF(G14=G$2,1,0) -> 1 | AE14: =IF(H14=H$2,1,0) -> 1 | AF14: =IF(I14=I$2,1,0) -> 0 | AG14: =IF(J14=J$2,1,0) -> 0 | ... AO14: =IF(R14=R$2,1,0) -> 1 | AQ14: =COUNTIF($C$2:$R$2, T14) -> 1 | AR14: =COUNTIF($C$2:$R$2, U14) -> 1
B15: Anthis, Michael | C15: Bills | D15: Falcons | E15: Bears | F15: Eagles | G15: Patriots | H15: Packers | I15: Buccaneers | J15: Ravens | K15: Texans | L15: Broncos | M15: Raiders | N15: Cowboys | O15: Seahawks | P15: 49ers | Q15: Chiefs | R15: Rams | T15: Buccaneers | U15: Packers | W15: =SUM(Z15:AO15) -> 11 | X15: =SUM(AQ15:AR15) -> 1 | Z15: =IF(C15=C$2,1,0) -> 1 | AA15: =IF(D15=D$2,1,0) -> 0 | AB15: =IF(E15=E$2,1,0) -> 0 | AC15: =IF(F15=F$2,1,0) -> 1 | AD15: =IF(G15=G$2,1,0) -> 1 | AE15: =IF(H15=H$2,1,0) -> 1 | AF15: =IF(I15=I$2,1,0) -> 0 | AG15: =IF(J15=J$2,1,0) -> 0 | ... AO15: =IF(R15=R$2,1,0) -> 1 | AQ15: =COUNTIF($C$2:$R$2, T15) -> 0 | AR15: =COUNTIF($C$2:$R$2, U15) -> 1
B16: Ardill, Liam | C16: Lions | D16: Panthers | E16: Bears | F16: Eagles | G16: Patriots | H16: Packers | I16: Buccaneers | J16: Ravens | K16: Bengals | L16: Broncos | M16: Chargers | N16: Commanders | O16: Seahawks | P16: 49ers | Q16: Chiefs | R16: Rams | T16: 49ers | U16: Rams | W16: =SUM(Z16:AO16) -> 10 | X16: =SUM(AQ16:AR16) -> 2 | Z16: =IF(C16=C$2,1,0) -> 0 | AA16: =IF(D16=D$2,1,0) -> 1 | AB16: =IF(E16=E$2,1,0) -> 0 | AC16: =IF(F16=F$2,1,0) -> 1 | AD16: =IF(G16=G$2,1,0) -> 1 | AE16: =IF(H16=H$2,1,0) -> 1 | AF16: =IF(I16=I$2,1,0) -> 0 | AG16: =IF(J16=J$2,1,0) -> 0 | ... AO16: =IF(R16=R$2,1,0) -> 1 | AQ16: =COUNTIF($C$2:$R$2, T16) -> 1 | AR16: =COUNTIF($C$2:$R$2, U16) -> 1
B17: Ardill, Scott | C17: Bills | D17: Falcons | E17: Bears | F17: Eagles | G17: Patriots | H17: Packers | I17: Buccaneers | J17: Ravens | K17: Texans | L17: Jaguars | M17: Chargers | N17: Cowboys | O17: Cardinals | P17: 49ers | Q17: Chiefs | R17: Rams | T17: 49ers | U17: Buccaneers | W17: =SUM(Z17:AO17) -> 8 | X17: =SUM(AQ17:AR17) -> 1 | Z17: =IF(C17=C$2,1,0) -> 1 | AA17: =IF(D17=D$2,1,0) -> 0 | AB17: =IF(E17=E$2,1,0) -> 0 | AC17: =IF(F17=F$2,1,0) -> 1 | AD17: =IF(G17=G$2,1,0) -> 1 | AE17: =IF(H17=H$2,1,0) -> 1 | AF17: =IF(I17=I$2,1,0) -> 0 | AG17: =IF(J17=J$2,1,0) -> 0 | ... AO17: =IF(R17=R$2,1,0) -> 1 | AQ17: =COUNTIF($C$2:$R$2, T17) -> 1 | AR17: =COUNTIF($C$2:$R$2, U17) -> 0
B18: Baker, Joel | C18: Bills | D18: Falcons | E18: Bears | F18: Eagles | G18: Steelers | H18: Packers | I18: Buccaneers | J18: Ravens | K18: Texans | L18: Jaguars | M18: Chargers | N18: Cowboys | O18: Seahawks | P18: 49ers | Q18: Chiefs | R18: Rams | T18: 49ers | U18: Rams | W18: =SUM(Z18:AO18) -> 8 | X18: =SUM(AQ18:AR18) -> 2 | Z18: =IF(C18=C$2,1,0) -> 1 | AA18: =IF(D18=D$2,1,0) -> 0 | AB18: =IF(E18=E$2,1,0) -> 0 | AC18: =IF(F18=F$2,1,0) -> 1 | AD18: =IF(G18=G$2,1,0) -> 0 | AE18: =IF(H18=H$2,1,0) -> 1 | AF18: =IF(I18=I$2,1,0) -> 0 | AG18: =IF(J18=J$2,1,0) -> 0 | ... AO18: =IF(R18=R$2,1,0) -> 1 | AQ18: =COUNTIF($C$2:$R$2, T18) -> 1 | AR18: =COUNTIF($C$2:$R$2, U18) -> 1
B19: Baker, Ruben | C19: Bills | D19: Panthers | E19: Bears | F19: Eagles | G19: Patriots | H19: Jets | I19: Buccaneers | J19: Ravens | K19: Texans | L19: Broncos | M19: Chargers | N19: Cowboys | O19: Seahawks | P19: 49ers | Q19: Chiefs | R19: Rams | T19: 49ers | U19: Seahawks | W19: =SUM(Z19:AO19) -> 10 | X19: =SUM(AQ19:AR19) -> 2 | Z19: =IF(C19=C$2,1,0) -> 1 | AA19: =IF(D19=D$2,1,0) -> 1 | AB19: =IF(E19=E$2,1,0) -> 0 | AC19: =IF(F19=F$2,1,0) -> 1 | AD19: =IF(G19=G$2,1,0) -> 1 | AE19: =IF(H19=H$2,1,0) -> 0 | AF19: =IF(I19=I$2,1,0) -> 0 | AG19: =IF(J19=J$2,1,0) -> 0 | ... AO19: =IF(R19=R$2,1,0) -> 1 | AQ19: =COUNTIF($C$2:$R$2, T19) -> 1 | AR19: =COUNTIF($C$2:$R$2, U19) -> 1
B20: Baze, Drew | C20: Bills | D20: Panthers | E20: Bears | F20: Eagles | G20: Patriots | H20: Jets | I20: Buccaneers | J20: Ravens | K20: Texans | L20: Jaguars | M20: Chargers | N20: Cowboys | O20: Seahawks | P20: 49ers | Q20: Chiefs | R20: Rams | T20: 49ers | U20: Cowboys | W20: =SUM(Z20:AO20) -> 9 | X20: =SUM(AQ20:AR20) -> 2 | Z20: =IF(C20=C$2,1,0) -> 1 | AA20: =IF(D20=D$2,1,0) -> 1 | AB20: =IF(E20=E$2,1,0) -> 0 | AC20: =IF(F20=F$2,1,0) -> 1 | AD20: =IF(G20=G$2,1,0) -> 1 | AE20: =IF(H20=H$2,1,0) -> 0 | AF20: =IF(I20=I$2,1,0) -> 0 | AG20: =IF(J20=J$2,1,0) -> 0 | ... AO20: =IF(R20=R$2,1,0) -> 1 | AQ20: =COUNTIF($C$2:$R$2, T20) -> 1 | AR20: =COUNTIF($C$2:$R$2, U20) -> 1
B21: Buck, Darrell | C21: Bills | D21: Panthers | E21: Bears | F21: Eagles | G21: Steelers | H21: Packers | I21: Buccaneers | J21: Ravens | K21: Bengals | L21: Broncos | M21: Chargers | N21: Cowboys | O21: Seahawks | P21: 49ers | Q21: Colts | R21: Giants | T21: 49ers | U21: Eagles | W21: =SUM(Z21:AO21) -> 9 | X21: =SUM(AQ21:AR21) -> 2 | Z21: =IF(C21=C$2,1,0) -> 1 | AA21: =IF(D21=D$2,1,0) -> 1 | AB21: =IF(E21=E$2,1,0) -> 0 | AC21: =IF(F21=F$2,1,0) -> 1 | AD21: =IF(G21=G$2,1,0) -> 0 | AE21: =IF(H21=H$2,1,0) -> 1 | AF21: =IF(I21=I$2,1,0) -> 0 | AG21: =IF(J21=J$2,1,0) -> 0 | ... AO21: =IF(R21=R$2,1,0) -> 0 | AQ21: =COUNTIF($C$2:$R$2, T21) -> 1 | AR21: =COUNTIF($C$2:$R$2, U21) -> 1
B22: Carrasco, Eli | C22: Bills | D22: Panthers | E22: Vikings | F22: Eagles | G22: Patriots | H22: Packers | I22: Buccaneers | J22: Ravens | K22: Texans | L22: Broncos | M22: Chargers | N22: Cowboys | O22: Seahawks | P22: 49ers | Q22: Chiefs | R22: Rams | T22: 49ers | U22: Chargers | W22: =SUM(Z22:AO22) -> 12 | X22: =SUM(AQ22:AR22) -> 1 | Z22: =IF(C22=C$2,1,0) -> 1 | AA22: =IF(D22=D$2,1,0) -> 1 | AB22: =IF(E22=E$2,1,0) -> 1 | AC22: =IF(F22=F$2,1,0) -> 1 | AD22: =IF(G22=G$2,1,0) -> 1 | AE22: =IF(H22=H$2,1,0) -> 1 | AF22: =IF(I22=I$2,1,0) -> 0 | AG22: =IF(J22=J$2,1,0) -> 0 | ... AO22: =IF(R22=R$2,1,0) -> 1 | AQ22: =COUNTIF($C$2:$R$2, T22) -> 1 | AR22: =COUNTIF($C$2:$R$2, U22) -> 0
... B35: Frias, Adan | C35: Bills | D35: Panthers | E35: Bears | F35: Eagles | G35: Patriots | H35: Packers | I35: Buccaneers | J35: Ravens | K35: Texans | L35: Broncos | M35: Raiders | N35: Cowboys | O35: Seahawks | P35: 49ers | Q35: Chiefs | R35: Giants | T35: 49ers | U35: Ravens | W35: =SUM(Z35:AO35) -> 11 | X35: =SUM(AQ35:AR35) -> 1 | Z35: =IF(C35=C$2,1,0) -> 1 | AA35: =IF(D35=D$2,1,0) -> 1 | AB35: =IF(E35=E$2,1,0) -> 0 | AC35: =IF(F35=F$2,1,0) -> 1 | AD35: =IF(G35=G$2,1,0) -> 1 | AE35: =IF(H35=H$2,1,0) -> 1 | AF35: =IF(I35=I$2,1,0) -> 0 | AG35: =IF(J35=J$2,1,0) -> 0 | ... AO35: =IF(R35=R$2,1,0) -> 0 | AQ35: =COUNTIF($C$2:$R$2, T35) -> 1 | AR35: =COUNTIF($C$2:$R$2, U35) -> 0
B36: Garcia, Omar | C36: Lions* | D36: Panthers | E36: Bears | F36: Eagles | G36: Steelers | H36: Packers | I36: Buccaneers | J36: Ravens | K36: Bengals | L36: Jaguars | M36: Chargers | N36: Cowboys | O36: Seahawks | P36: 49ers | Q36: Chiefs | R36: Rams | T36: Chiefs | U36: Eagles | W36: =SUM(Z36:AO36) -> 9 | X36: =SUM(AQ36:AR36) -> 2 | Z36: 0 | AA36: =IF(D36=D$2,1,0) -> 1 | AB36: =IF(E36=E$2,1,0) -> 0 | AC36: =IF(F36=F$2,1,0) -> 1 | AD36: =IF(G36=G$2,1,0) -> 0 | AE36: =IF(H36=H$2,1,0) -> 1 | AF36: =IF(I36=I$2,1,0) -> 0 | AG36: =IF(J36=J$2,1,0) -> 0 | AH36: =IF(K36=K$2,1,0) -> 1 | ... AO36: =IF(R36=R$2,1,0) -> 1 | AQ36: =COUNTIF($C$2:$R$2, T36) -> 1 | AR36: =COUNTIF($C$2:$R$2, U36) -> 1
B37: Greenwood, Douglas | C37: Bills | D37: Panthers | E37: Bears | F37: Eagles | G37: Patriots | H37: Packers | I37: Buccaneers | J37: Ravens | K37: Bengals | L37: Jaguars | M37: Chargers | N37: Cowboys | O37: Seahawks | P37: 49ers | Q37: Chiefs | R37: Rams | T37: 49ers | U37: Ravens | W37: =SUM(Z37:AO37) -> 11 | X37: =SUM(AQ37:AR37) -> 1 | Z37: =IF(C37=C$2,1,0) -> 1 | AA37: =IF(D37=D$2,1,0) -> 1 | AB37: =IF(E37=E$2,1,0) -> 0 | AC37: =IF(F37=F$2,1,0) -> 1 | AD37: =IF(G37=G$2,1,0) -> 1 | AE37: =IF(H37=H$2,1,0) -> 1 | AF37: =IF(I37=I$2,1,0) -> 0 | AG37: =IF(J37=J$2,1,0) -> 0 | ... AO37: =IF(R37=R$2,1,0) -> 1 | AQ37: =COUNTIF($C$2:$R$2, T37) -> 1 | AR37: =COUNTIF($C$2:$R$2, U37) -> 0
B38: Greenwood, Nathan | C38: Bills | D38: Panthers | E38: Bears | F38: Eagles | G38: Steelers | H38: Packers | I38: Buccaneers | J38: Saints | K38: Bengals | L38: Jaguars | M38: Raiders | N38: Cowboys | O38: Seahawks | P38: 49ers | Q38: Chiefs | R38: Rams | T38: 49ers | U38: Seahawks | W38: =SUM(Z38:AO38) -> 12 | X38: =SUM(AQ38:AR38) -> 2 | Z38: =IF(C38=C$2,1,0) -> 1 | AA38: =IF(D38=D$2,1,0) -> 1 | AB38: =IF(E38=E$2,1,0) -> 0 | AC38: =IF(F38=F$2,1,0) -> 1 | AD38: =IF(G38=G$2,1,0) -> 0 | AE38: =IF(H38=H$2,1,0) -> 1 | AF38: =IF(I38=I$2,1,0) -> 0 | AG38: =IF(J38=J$2,1,0) -> 1 | ... AO38: =IF(R38=R$2,1,0) -> 1 | AQ38: =COUNTIF($C$2:$R$2, T38) -> 1 | AR38: =COUNTIF($C$2:$R$2, U38) -> 1
B39: Hamilton, Hunter | C39: Lions | D39: Panthers | E39: Bears | F39: Eagles | G39: Patriots | H39: Jets | I39: Browns | J39: Saints | K39: Bengals | L39: Broncos | M39: Raiders | N39: Cowboys | O39: Cardinals | P39: 49ers | Q39: Chiefs | R39: Giants | T39: Cowboys | U39: Lions | W39: =SUM(Z39:AO39) -> 11 | X39: =SUM(AQ39:AR39) -> 1 | Z39: =IF(C39=C$2,1,0) -> 0 | AA39: =IF(D39=D$2,1,0) -> 1 | AB39: =IF(E39=E$2,1,0) -> 0 | AC39: =IF(F39=F$2,1,0) -> 1 | AD39: =IF(G39=G$2,1,0) -> 1 | AE39: =IF(H39=H$2,1,0) -> 0 | AF39: =IF(I39=I$2,1,0) -> 1 | AG39: =IF(J39=J$2,1,0) -> 1 | ... AO39: =IF(R39=R$2,1,0) -> 0 | AQ39: =COUNTIF($C$2:$R$2, T39) -> 1 | AR39: =COUNTIF($C$2:$R$2, U39) -> 0
B40: Harper, Kenneth | C40: Bills | D40: Panthers | E40: Bears | F40: Eagles | G40: Patriots | H40: Packers | I40: Buccaneers | J40: Ravens | K40: Texans | L40: Jaguars | M40: Chargers | N40: Cowboys | O40: Seahawks | P40: 49ers | Q40: Chiefs | R40: Rams | T40: Patriots | U40: Ravens | W40: =SUM(Z40:AO40) -> 10 | X40: =SUM(AQ40:AR40) -> 1 | Z40: =IF(C40=C$2,1,0) -> 1 | AA40: =IF(D40=D$2,1,0) -> 1 | AB40: =IF(E40=E$2,1,0) -> 0 | AC40: =IF(F40=F$2,1,0) -> 1 | AD40: =IF(G40=G$2,1,0) -> 1 | AE40: =IF(H40=H$2,1,0) -> 1 | AF40: =IF(I40=I$2,1,0) -> 0 | AG40: =IF(J40=J$2,1,0) -> 0 | ... AO40: =IF(R40=R$2,1,0) -> 1 | AQ40: =COUNTIF($C$2:$R$2, T40) -> 1 | AR40: =COUNTIF($C$2:$R$2, U40) -> 0
B41: Hill, Jim | C41: Bills | D41: Falcons | E41: Bears | F41: Eagles | G41: Patriots | H41: Packers | I41: Buccaneers | J41: Ravens | K41: Texans | L41: Broncos | M41: Chargers | N41: Cowboys | O41: Seahawks | P41: 49ers | Q41: Chiefs | R41: Rams | T41: 49ers | U41: Chiefs | W41: =SUM(Z41:AO41) -> 10 | X41: =SUM(AQ41:AR41) -> 2 | Z41: =IF(C41=C$2,1,0) -> 1 | AA41: =IF(D41=D$2,1,0) -> 0 | AB41: =IF(E41=E$2,1,0) -> 0 | AC41: =IF(F41=F$2,1,0) -> 1 | AD41: =IF(G41=G$2,1,0) -> 1 | AE41: =IF(H41=H$2,1,0) -> 1 | AF41: =IF(I41=I$2,1,0) -> 0 | AG41: =IF(J41=J$2,1,0) -> 0 | ... AO41: =IF(R41=R$2,1,0) -> 1 | AQ41: =COUNTIF($C$2:$R$2, T41) -> 1 | AR41: =COUNTIF($C$2:$R$2, U41) -> 1
B42: Honeycutt, Terry | C42: Bills | D42: Panthers | E42: Bears | F42: Eagles | G42: Patriots | H42: Packers | I42: Buccaneers | J42: Ravens | K42: Texans | L42: Jaguars | M42: Chargers | N42: Cowboys | O42: Seahawks | P42: 49ers | Q42: Chiefs | R42: Rams | T42: 49ers | U42: Eagles | W42: =SUM(Z42:AO42) -> 10 | X42: =SUM(AQ42:AR42) -> 2 | Z42: =IF(C42=C$2,1,0) -> 1 | AA42: =IF(D42=D$2,1,0) -> 1 | AB42: =IF(E42=E$2,1,0) -> 0 | AC42: =IF(F42=F$2,1,0) -> 1 | AD42: =IF(G42=G$2,1,0) -> 1 | AE42: =IF(H42=H$2,1,0) -> 1 | AF42: =IF(I42=I$2,1,0) -> 0 | AG42: =IF(J42=J$2,1,0) -> 0 | ... AO42: =IF(R42=R$2,1,0) -> 1 | AQ42: =COUNTIF($C$2:$R$2, T42) -> 1 | AR42: =COUNTIF($C$2:$R$2, U42) -> 1
B43: Honeycutt, Wanda | C43: Bills | D43: Panthers | E43: Bears | F43: Eagles | G43: Patriots | H43: Packers | I43: Buccaneers | J43: Ravens | K43: Texans | L43: Broncos | M43: Chargers | N43: Cowboys | O43: Seahawks | P43: 49ers | Q43: Chiefs | R43: Rams | T43: Buccaneers | U43: Eagles | W43: =SUM(Z43:AO43) -> 11 | X43: =SUM(AQ43:AR43) -> 1 | Z43: =IF(C43=C$2,1,0) -> 1 | AA43: =IF(D43=D$2,1,0) -> 1 | AB43: =IF(E43=E$2,1,0) -> 0 | AC43: =IF(F43=F$2,1,0) -> 1 | AD43: =IF(G43=G$2,1,0) -> 1 | AE43: =IF(H43=H$2,1,0) -> 1 | AF43: =IF(I43=I$2,1,0) -> 0 | AG43: =IF(J43=J$2,1,0) -> 0 | ... AO43: =IF(R43=R$2,1,0) -> 1 | AQ43: =COUNTIF($C$2:$R$2, T43) -> 0 | AR43: =COUNTIF($C$2:$R$2, U43) -> 1
B44: Howard, Bill | C44: Bills | D44: Panthers | E44: Bears | F44: Eagles | G44: Patriots | H44: Packers | I44: Buccaneers | J44: Ravens | K44: Texans | L44: Broncos | M44: Chargers | N44: Cowboys | O44: Seahawks | P44: 49ers | Q44: Chiefs | R44: Rams | T44: Chiefs | U44: Eagles | W44: =SUM(Z44:AO44) -> 11 | X44: =SUM(AQ44:AR44) -> 2 | Z44: =IF(C44=C$2,1,0) -> 1 | AA44: =IF(D44=D$2,1,0) -> 1 | AB44: =IF(E44=E$2,1,0) -> 0 | AC44: =IF(F44=F$2,1,0) -> 1 | AD44: =IF(G44=G$2,1,0) -> 1 | AE44: =IF(H44=H$2,1,0) -> 1 | AF44: =IF(I44=I$2,1,0) -> 0 | AG44: =IF(J44=J$2,1,0) -> 0 | ... AO44: =IF(R44=R$2,1,0) -> 1 | AQ44: =COUNTIF($C$2:$R$2, T44) -> 1 | AR44: =COUNTIF($C$2:$R$2, U44) -> 1
B45: Hyde, Todd | C45: Bills | D45: Panthers | E45: Bears | F45: Eagles | G45: Patriots | H45: Packers | I45: Buccaneers | J45: Ravens | K45: Texans | L45: Jaguars | M45: Raiders | N45: Cowboys | O45: Seahawks | P45: 49ers | Q45: Chiefs | R45: Rams | T45: 49ers | U45: Buccaneers | W45: =SUM(Z45:AO45) -> 11 | X45: =SUM(AQ45:AR45) -> 1 | Z45: =IF(C45=C$2,1,0) -> 1 | AA45: =IF(D45=D$2,1,0) -> 1 | AB45: =IF(E45=E$2,1,0) -> 0 | AC45: =IF(F45=F$2,1,0) -> 1 | AD45: =IF(G45=G$2,1,0) -> 1 | AE45: =IF(H45=H$2,1,0) -> 1 | AF45: =IF(I45=I$2,1,0) -> 0 | AG45: =IF(J45=J$2,1,0) -> 0 | ... AO45: =IF(R45=R$2,1,0) -> 1 | AQ45: =COUNTIF($C$2:$R$2, T45) -> 1 | AR45: =COUNTIF($C$2:$R$2, U45) -> 0
B46: John, Thunder | C46: Bills | D46: Panthers | E46: Vikings | F46: Eagles | G46: Steelers | H46: Packers | I46: Buccaneers | J46: Ravens | K46: Texans | L46: Broncos | M46: Raiders | N46: Cowboys | O46: Seahawks | P46: 49ers | Q46: Chiefs | R46: Giants | T46: Buccaneers | U46: Eagles | W46: =SUM(Z46:AO46) -> 11 | X46: =SUM(AQ46:AR46) -> 1 | Z46: =IF(C46=C$2,1,0) -> 1 | AA46: =IF(D46=D$2,1,0) -> 1 | AB46: =IF(E46=E$2,1,0) -> 1 | AC46: =IF(F46=F$2,1,0) -> 1 | AD46: =IF(G46=G$2,1,0) -> 0 | AE46: =IF(H46=H$2,1,0) -> 1 | AF46: =IF(I46=I$2,1,0) -> 0 | AG46: =IF(J46=J$2,1,0) -> 0 | ... AO46: =IF(R46=R$2,1,0) -> 0 | AQ46: =COUNTIF($C$2:$R$2, T46) -> 0 | AR46: =COUNTIF($C$2:$R$2, U46) -> 1
B47: Kraus, Lloyd | C47: Bills | D47: Falcons | E47: Bears | F47: Eagles | G47: Patriots | H47: Jets | I47: Buccaneers | J47: Ravens | K47: Bengals | L47: Jaguars | M47: Chargers | N47: Cowboys | O47: Seahawks | P47: 49ers | Q47: Chiefs | R47: Giants | T47: 49ers | U47: Buccaneers | W47: =SUM(Z47:AO47) -> 8 | X47: =SUM(AQ47:AR47) -> 1 | Z47: =IF(C47=C$2,1,0) -> 1 | AA47: =IF(D47=D$2,1,0) -> 0 | AB47: =IF(E47=E$2,1,0) -> 0 | AC47: =IF(F47=F$2,1,0) -> 1 | AD47: =IF(G47=G$2,1,0) -> 1 | AE47: =IF(H47=H$2,1,0) -> 0 | AF47: =IF(I47=I$2,1,0) -> 0 | AG47: =IF(J47=J$2,1,0) -> 0 | ... AO47: =IF(R47=R$2,1,0) -> 0 | AQ47: =COUNTIF($C$2:$R$2, T47) -> 1 | AR47: =COUNTIF($C$2:$R$2, U47) -> 0
B48: Kraus, Will | C48: Bills | D48: Falcons | E48: Bears | F48: Eagles | G48: Patriots | H48: Packers | I48: Browns | J48: Saints | K48: Texans | L48: Broncos | M48: Chargers | N48: Cowboys | O48: Seahawks | P48: 49ers | Q48: Chiefs | R48: Rams | T48: Eagles | U48: Packers | W48: =SUM(Z48:AO48) -> 12 | X48: =SUM(AQ48:AR48) -> 2 | Z48: =IF(C48=C$2,1,0) -> 1 | AA48: =IF(D48=D$2,1,0) -> 0 | AB48: =IF(E48=E$2,1,0) -> 0 | AC48: =IF(F48=F$2,1,0) -> 1 | AD48: =IF(G48=G$2,1,0) -> 1 | AE48: =IF(H48=H$2,1,0) -> 1 | AF48: =IF(I48=I$2,1,0) -> 1 | AG48: =IF(J48=J$2,1,0) -> 1 | ... AO48: =IF(R48=R$2,1,0) -> 1 | AQ48: =COUNTIF($C$2:$R$2, T48) -> 1 | AR48: =COUNTIF($C$2:$R$2, U48) -> 1
... B58: Meyer, Dave | C58: Bills | D58: Panthers | E58: Bears | F58: Eagles | G58: Patriots | H58: Packers | I58: Buccaneers | J58: Ravens | K58: Bengals | L58: Broncos | M58: Chargers | N58: Cowboys | O58: Seahawks | P58: Dolphins | Q58: Chiefs | R58: Rams | T58: Buccaneers | U58: Chiefs | W58: =SUM(Z58:AO58) -> 11 | X58: =SUM(AQ58:AR58) -> 1 | Z58: =IF(C58=C$2,1,0) -> 1 | AA58: =IF(D58=D$2,1,0) -> 1 | AB58: =IF(E58=E$2,1,0) -> 0 | AC58: =IF(F58=F$2,1,0) -> 1 | AD58: =IF(G58=G$2,1,0) -> 1 | AE58: =IF(H58=H$2,1,0) -> 1 | AF58: =IF(I58=I$2,1,0) -> 0 | AG58: =IF(J58=J$2,1,0) -> 0 | ... AO58: =IF(R58=R$2,1,0) -> 1 | AQ58: =COUNTIF($C$2:$R$2, T58) -> 0 | AR58: =COUNTIF($C$2:$R$2, U58) -> 1
B59: Meyer, Pat | C59: Lions* | D59: Panthers | E59: Bears | F59: Eagles | G59: Patriots | H59: Packers | I59: Buccaneers | J59: Ravens | K59: Texans | L59: Broncos | M59: Chargers | N59: Cowboys | O59: Seahawks | P59: 49ers | Q59: Chiefs | R59: Rams | T59: 49ers | U59: Seahawks | W59: =SUM(Z59:AO59) -> 10 | X59: =SUM(AQ59:AR59) -> 2 | Z59: 0 | AA59: =IF(D59=D$2,1,0) -> 1 | AB59: =IF(E59=E$2,1,0) -> 0 | AC59: =IF(F59=F$2,1,0) -> 1 | AD59: =IF(G59=G$2,1,0) -> 1 | AE59: =IF(H59=H$2,1,0) -> 1 | AF59: =IF(I59=I$2,1,0) -> 0 | AG59: =IF(J59=J$2,1,0) -> 0 | AH59: =IF(K59=K$2,1,0) -> 0 | ... AO59: =IF(R59=R$2,1,0) -> 1 | AQ59: =COUNTIF($C$2:$R$2, T59) -> 1 | AR59: =COUNTIF($C$2:$R$2, U59) -> 1
B60: Miller, Chris | C60: Bills | D60: Panthers | E60: Bears | F60: Eagles | G60: Patriots | H60: Jets | I60: Buccaneers | J60: Ravens | K60: Bengals | L60: Broncos | M60: Raiders | N60: Commanders | O60: Seahawks | P60: 49ers | Q60: Chiefs | R60: Rams | T60: Buccaneers | U60: Chiefs | W60: =SUM(Z60:AO60) -> 11 | X60: =SUM(AQ60:AR60) -> 1 | Z60: =IF(C60=C$2,1,0) -> 1 | AA60: =IF(D60=D$2,1,0) -> 1 | AB60: =IF(E60=E$2,1,0) -> 0 | AC60: =IF(F60=F$2,1,0) -> 1 | AD60: =IF(G60=G$2,1,0) -> 1 | AE60: =IF(H60=H$2,1,0) -> 0 | AF60: =IF(I60=I$2,1,0) -> 0 | AG60: =IF(J60=J$2,1,0) -> 0 | ... AO60: =IF(R60=R$2,1,0) -> 1 | AQ60: =COUNTIF($C$2:$R$2, T60) -> 0 | AR60: =COUNTIF($C$2:$R$2, U60) -> 1
B61: Pearce, Matt | C61: Bills | D61: Panthers | E61: Bears | F61: Eagles | G61: Patriots | H61: Packers | I61: Buccaneers | J61: Saints | K61: Texans | L61: Broncos | M61: Raiders | N61: Cowboys | O61: Seahawks | P61: 49ers | Q61: Chiefs | R61: Rams | T61: 49ers | U61: Buccaneers | W61: =SUM(Z61:AO61) -> 13 | X61: =SUM(AQ61:AR61) -> 1 | Z61: =IF(C61=C$2,1,0) -> 1 | AA61: =IF(D61=D$2,1,0) -> 1 | AB61: =IF(E61=E$2,1,0) -> 0 | AC61: =IF(F61=F$2,1,0) -> 1 | AD61: =IF(G61=G$2,1,0) -> 1 | AE61: =IF(H61=H$2,1,0) -> 1 | AF61: =IF(I61=I$2,1,0) -> 0 | AG61: =IF(J61=J$2,1,0) -> 1 | ... AO61: =IF(R61=R$2,1,0) -> 1 | AQ61: =COUNTIF($C$2:$R$2, T61) -> 1 | AR61: =COUNTIF($C$2:$R$2, U61) -> 0
B62: Prothro, John | C62: Bills | D62: Falcons | E62: Bears | F62: Eagles | G62: Patriots | H62: Packers | I62: Buccaneers | J62: Ravens | K62: Texans | L62: Jaguars | M62: Chargers | N62: Cowboys | O62: Seahawks | P62: 49ers | Q62: Chiefs | R62: Rams | T62: 49ers | U62: Ravens | W62: =SUM(Z62:AO62) -> 9 | X62: =SUM(AQ62:AR62) -> 1 | Z62: =IF(C62=C$2,1,0) -> 1 | AA62: =IF(D62=D$2,1,0) -> 0 | AB62: =IF(E62=E$2,1,0) -> 0 | AC62: =IF(F62=F$2,1,0) -> 1 | AD62: =IF(G62=G$2,1,0) -> 1 | AE62: =IF(H62=H$2,1,0) -> 1 | AF62: =IF(I62=I$2,1,0) -> 0 | AG62: =IF(J62=J$2,1,0) -> 0 | ... AO62: =IF(R62=R$2,1,0) -> 1 | AQ62: =COUNTIF($C$2:$R$2, T62) -> 1 | AR62: =COUNTIF($C$2:$R$2, U62) -> 0
B63: Prothro, Tom | C63: Bills | D63: Falcons | E63: Bears | F63: Eagles | G63: Patriots | H63: Packers | I63: Buccaneers | J63: Ravens | K63: Texans | L63: Broncos | M63: Chargers | N63: Cowboys | O63: Seahawks | P63: 49ers | Q63: Chiefs | R63: Rams | T63: 49ers | U63: Rams | W63: =SUM(Z63:AO63) -> 10 | X63: =SUM(AQ63:AR63) -> 2 | Z63: =IF(C63=C$2,1,0) -> 1 | AA63: =IF(D63=D$2,1,0) -> 0 | AB63: =IF(E63=E$2,1,0) -> 0 | AC63: =IF(F63=F$2,1,0) -> 1 | AD63: =IF(G63=G$2,1,0) -> 1 | AE63: =IF(H63=H$2,1,0) -> 1 | AF63: =IF(I63=I$2,1,0) -> 0 | AG63: =IF(J63=J$2,1,0) -> 0 | ... AO63: =IF(R63=R$2,1,0) -> 1 | AQ63: =COUNTIF($C$2:$R$2, T63) -> 1 | AR63: =COUNTIF($C$2:$R$2, U63) -> 1
B64: Purschwitz, Dan | C64: Bills | D64: Panthers | E64: Bears | F64: Eagles | G64: Patriots | H64: Packers | I64: Buccaneers | J64: Ravens | K64: Texans | L64: Broncos | M64: Chargers | N64: Cowboys | O64: Seahawks | P64: 49ers | Q64: Chiefs | R64: Rams | T64: 49ers | U64: Ravens | W64: =SUM(Z64:AO64) -> 11 | X64: =SUM(AQ64:AR64) -> 1 | Z64: =IF(C64=C$2,1,0) -> 1 | AA64: =IF(D64=D$2,1,0) -> 1 | AB64: =IF(E64=E$2,1,0) -> 0 | AC64: =IF(F64=F$2,1,0) -> 1 | AD64: =IF(G64=G$2,1,0) -> 1 | AE64: =IF(H64=H$2,1,0) -> 1 | AF64: =IF(I64=I$2,1,0) -> 0 | AG64: =IF(J64=J$2,1,0) -> 0 | ... AO64: =IF(R64=R$2,1,0) -> 1 | AQ64: =COUNTIF($C$2:$R$2, T64) -> 1 | AR64: =COUNTIF($C$2:$R$2, U64) -> 0
B65: Rapisand, Ryan | C65: Bills | D65: Panthers | E65: Bears | F65: Eagles | G65: Steelers | H65: Packers | I65: Buccaneers | J65: Ravens | K65: Texans | L65: Jaguars | M65: Chargers | N65: Commanders | O65: Seahawks | P65: 49ers | Q65: Chiefs | R65: Rams | T65: 49ers | U65: Buccaneers | W65: =SUM(Z65:AO65) -> 8 | X65: =SUM(AQ65:AR65) -> 1 | Z65: =IF(C65=C$2,1,0) -> 1 | AA65: =IF(D65=D$2,1,0) -> 1 | AB65: =IF(E65=E$2,1,0) -> 0 | AC65: =IF(F65=F$2,1,0) -> 1 | AD65: =IF(G65=G$2,1,0) -> 0 | AE65: =IF(H65=H$2,1,0) -> 1 | AF65: =IF(I65=I$2,1,0) -> 0 | AG65: =IF(J65=J$2,1,0) -> 0 | ... AO65: =IF(R65=R$2,1,0) -> 1 | AQ65: =COUNTIF($C$2:$R$2, T65) -> 1 | AR65: =COUNTIF($C$2:$R$2, U65) -> 0
B66: Ray, Bobby | C66: Bills | D66: Falcons | E66: Bears | F66: Eagles | G66: Patriots | H66: Packers | I66: Buccaneers | J66: Ravens | K66: Texans | L66: Broncos | M66: Chargers | N66: Cowboys | O66: Seahawks | P66: 49ers | Q66: Chiefs | R66: Rams | T66: 49ers | U66: Ravens | W66: =SUM(Z66:AO66) -> 10 | X66: =SUM(AQ66:AR66) -> 1 | Z66: =IF(C66=C$2,1,0) -> 1 | AA66: =IF(D66=D$2,1,0) -> 0 | AB66: =IF(E66=E$2,1,0) -> 0 | AC66: =IF(F66=F$2,1,0) -> 1 | AD66: =IF(G66=G$2,1,0) -> 1 | AE66: =IF(H66=H$2,1,0) -> 1 | AF66: =IF(I66=I$2,1,0) -> 0 | AG66: =IF(J66=J$2,1,0) -> 0 | ... AO66: =IF(R66=R$2,1,0) -> 1 | AQ66: =COUNTIF($C$2:$R$2, T66) -> 1 | AR66: =COUNTIF($C$2:$R$2, U66) -> 0
B67: Roberts, Jeff | C67: Bills | D67: Panthers | E67: Bears | F67: Eagles | G67: Patriots | H67: Packers | I67: Buccaneers | J67: Saints | K67: Bengals | L67: Broncos | M67: Chargers | N67: Commanders | O67: Seahawks | P67: 49ers | Q67: Chiefs | R67: Giants | T67: Eagles | U67: Seahawks | W67: =SUM(Z67:AO67) -> 11 | X67: =SUM(AQ67:AR67) -> 2 | Z67: =IF(C67=C$2,1,0) -> 1 | AA67: =IF(D67=D$2,1,0) -> 1 | AB67: =IF(E67=E$2,1,0) -> 0 | AC67: =IF(F67=F$2,1,0) -> 1 | AD67: =IF(G67=G$2,1,0) -> 1 | AE67: =IF(H67=H$2,1,0) -> 1 | AF67: =IF(I67=I$2,1,0) -> 0 | AG67: =IF(J67=J$2,1,0) -> 1 | ... AO67: =IF(R67=R$2,1,0) -> 0 | AQ67: =COUNTIF($C$2:$R$2, T67) -> 1 | AR67: =COUNTIF($C$2:$R$2, U67) -> 1
B68: Rushing, Luke | C68: Bills | D68: Panthers | E68: Bears | F68: Eagles | G68: Patriots | H68: Packers | I68: Browns | J68: Ravens | K68: Bengals | L68: Broncos | M68: Chargers | N68: Cowboys | O68: Seahawks | P68: 49ers | Q68: Chiefs | R68: Rams | T68: Eagles | U68: Packers | W68: =SUM(Z68:AO68) -> 13 | X68: =SUM(AQ68:AR68) -> 2 | Z68: =IF(C68=C$2,1,0) -> 1 | AA68: =IF(D68=D$2,1,0) -> 1 | AB68: =IF(E68=E$2,1,0) -> 0 | AC68: =IF(F68=F$2,1,0) -> 1 | AD68: =IF(G68=G$2,1,0) -> 1 | AE68: =IF(H68=H$2,1,0) -> 1 | AF68: =IF(I68=I$2,1,0) -> 1 | AG68: =IF(J68=J$2,1,0) -> 0 | ... AO68: =IF(R68=R$2,1,0) -> 1 | AQ68: =COUNTIF($C$2:$R$2, T68) -> 1 | AR68: =COUNTIF($C$2:$R$2, U68) -> 1
B69: Scoville, Jordan | C69: Bills | D69: Panthers | E69: Bears | F69: Eagles | G69: Patriots | H69: Packers | I69: Buccaneers | J69: Ravens | K69: Texans | L69: Broncos | M69: Chargers | N69: Commanders | O69: Seahawks | P69: 49ers | Q69: Chiefs | R69: Rams | T69: 49ers | U69: Bills | W69: =SUM(Z69:AO69) -> 10 | X69: =SUM(AQ69:AR69) -> 2 | Z69: =IF(C69=C$2,1,0) -> 1 | AA69: =IF(D69=D$2,1,0) -> 1 | AB69: =IF(E69=E$2,1,0) -> 0 | AC69: =IF(F69=F$2,1,0) -> 1 | AD69: =IF(G69=G$2,1,0) -> 1 | AE69: =IF(H69=H$2,1,0) -> 1 | AF69: =IF(I69=I$2,1,0) -> 0 | AG69: =IF(J69=J$2,1,0) -> 0 | ... AO69: =IF(R69=R$2,1,0) -> 1 | AQ69: =COUNTIF($C$2:$R$2, T69) -> 1 | AR69: =COUNTIF($C$2:$R$2, U69) -> 1
B70: Seamands, Byron | C70: Bills | D70: Panthers | E70: Bears | F70: Eagles | G70: Patriots | H70: Packers | I70: Buccaneers | J70: Ravens | K70: Texans | L70: Broncos | M70: Chargers | N70: Cowboys | O70: Seahawks | P70: 49ers | Q70: Chiefs | R70: Rams | T70: 49ers | U70: Buccaneers | W70: =SUM(Z70:AO70) -> 11 | X70: =SUM(AQ70:AR70) -> 1 | Z70: =IF(C70=C$2,1,0) -> 1 | AA70: =IF(D70=D$2,1,0) -> 1 | AB70: =IF(E70=E$2,1,0) -> 0 | AC70: =IF(F70=F$2,1,0) -> 1 | AD70: =IF(G70=G$2,1,0) -> 1 | AE70: =IF(H70=H$2,1,0) -> 1 | AF70: =IF(I70=I$2,1,0) -> 0 | AG70: =IF(J70=J$2,1,0) -> 0 | ... AO70: =IF(R70=R$2,1,0) -> 1 | AQ70: =COUNTIF($C$2:$R$2, T70) -> 1 | AR70: =COUNTIF($C$2:$R$2, U70) -> 0
B71: Seamands, Jorden | C71: Bills | D71: Panthers | E71: Bears | F71: Eagles | G71: Patriots | H71: Packers | I71: Buccaneers | J71: Ravens | K71: Texans | L71: Broncos | M71: Chargers | N71: Cowboys | O71: Seahawks | P71: 49ers | Q71: Chiefs | R71: Rams | T71: 49ers | U71: Eagles | W71: =SUM(Z71:AO71) -> 11 | X71: =SUM(AQ71:AR71) -> 2 | Z71: =IF(C71=C$2,1,0) -> 1 | AA71: =IF(D71=D$2,1,0) -> 1 | AB71: =IF(E71=E$2,1,0) -> 0 | AC71: =IF(F71=F$2,1,0) -> 1 | AD71: =IF(G71=G$2,1,0) -> 1 | AE71: =IF(H71=H$2,1,0) -> 1 | AF71: =IF(I71=I$2,1,0) -> 0 | AG71: =IF(J71=J$2,1,0) -> 0 | ... AO71: =IF(R71=R$2,1,0) -> 1 | AQ71: =COUNTIF($C$2:$R$2, T71) -> 1 | AR71: =COUNTIF($C$2:$R$2, U71) -> 1
... B83: Vance, Jeremy | C83: Bills | D83: Panthers | E83: Bears | F83: Eagles | G83: Patriots | H83: Packers | I83: Buccaneers | J83: Ravens | K83: Texans | L83: Broncos | M83: Chargers | N83: Cowboys | O83: Seahawks | P83: 49ers | Q83: Chiefs | R83: Rams | T83: Bears | U83: Chiefs | W83: =SUM(Z83:AO83) -> 11 | X83: =SUM(AQ83:AR83) -> 1 | Z83: =IF(C83=C$2,1,0) -> 1 | AA83: =IF(D83=D$2,1,0) -> 1 | AB83: =IF(E83=E$2,1,0) -> 0 | AC83: =IF(F83=F$2,1,0) -> 1 | AD83: =IF(G83=G$2,1,0) -> 1 | AE83: =IF(H83=H$2,1,0) -> 1 | AF83: =IF(I83=I$2,1,0) -> 0 | AG83: =IF(J83=J$2,1,0) -> 0 | ... AO83: =IF(R83=R$2,1,0) -> 1 | AQ83: =COUNTIF($C$2:$R$2, T83) -> 0 | AR83: =COUNTIF($C$2:$R$2, U83) -> 1
B84: West, Shannon | C84: Lions* | D84: Panthers | E84: Bears | F84: Eagles | G84: Patriots | H84: Packers | I84: Buccaneers | J84: Ravens | K84: Texans | L84: Broncos | M84: Chargers | N84: Cowboys | O84: Cardinals | P84: 49ers | Q84: Chiefs | R84: Rams | T84: 49ers | U84: Chiefs | W84: =SUM(Z84:AO84) -> 9 | X84: =SUM(AQ84:AR84) -> 2 | Z84: 0 | AA84: =IF(D84=D$2,1,0) -> 1 | AB84: =IF(E84=E$2,1,0) -> 0 | AC84: =IF(F84=F$2,1,0) -> 1 | AD84: =IF(G84=G$2,1,0) -> 1 | AE84: =IF(H84=H$2,1,0) -> 1 | AF84: =IF(I84=I$2,1,0) -> 0 | AG84: =IF(J84=J$2,1,0) -> 0 | AH84: =IF(K84=K$2,1,0) -> 0 | ... AO84: =IF(R84=R$2,1,0) -> 1 | AQ84: =COUNTIF($C$2:$R$2, T84) -> 1 | AR84: =COUNTIF($C$2:$R$2, U84) -> 1
B85: White, Shawn | C85: Bills | D85: Falcons | E85: Bears | F85: Eagles | G85: Patriots | H85: Packers | I85: Buccaneers | J85: Ravens | K85: Bengals | L85: Broncos | M85: Chargers | N85: Cowboys | O85: Seahawks | P85: 49ers | Q85: Chiefs | R85: Rams | T85: Chargers | U85: Packers | W85: =SUM(Z85:AO85) -> 11 | X85: =SUM(AQ85:AR85) -> 1 | Z85: =IF(C85=C$2,1,0) -> 1 | AA85: =IF(D85=D$2,1,0) -> 0 | AB85: =IF(E85=E$2,1,0) -> 0 | AC85: =IF(F85=F$2,1,0) -> 1 | AD85: =IF(G85=G$2,1,0) -> 1 | AE85: =IF(H85=H$2,1,0) -> 1 | AF85: =IF(I85=I$2,1,0) -> 0 | AG85: =IF(J85=J$2,1,0) -> 0 | ... AO85: =IF(R85=R$2,1,0) -> 1 | AQ85: =COUNTIF($C$2:$R$2, T85) -> 0 | AR85: =COUNTIF($C$2:$R$2, U85) -> 1
B86: Williams, Reilee | C86: Bills | D86: Falcons | E86: Bears | F86: Eagles | G86: Patriots | H86: Packers | I86: Buccaneers | J86: Ravens | K86: Texans | L86: Jaguars | M86: Chargers | N86: Commanders | O86: Seahawks | P86: 49ers | Q86: Chiefs | R86: Rams | T86: 49ers | U86: Eagles | W86: =SUM(Z86:AO86) -> 8 | X86: =SUM(AQ86:AR86) -> 2 | Z86: =IF(C86=C$2,1,0) -> 1 | AA86: =IF(D86=D$2,1,0) -> 0 | AB86: =IF(E86=E$2,1,0) -> 0 | AC86: =IF(F86=F$2,1,0) -> 1 | AD86: =IF(G86=G$2,1,0) -> 1 | AE86: =IF(H86=H$2,1,0) -> 1 | AF86: =IF(I86=I$2,1,0) -> 0 | AG86: =IF(J86=J$2,1,0) -> 0 | ... AO86: =IF(R86=R$2,1,0) -> 1 | AQ86: =COUNTIF($C$2:$R$2, T86) -> 1 | AR86: =COUNTIF($C$2:$R$2, U86) -> 1
B87: Young, Michael | C87: Bills | D87: Falcons | E87: Bears | F87: Eagles | G87: Patriots | H87: Packers | I87: Buccaneers | J87: Ravens | K87: Texans | L87: Jaguars | M87: Chargers | N87: Cowboys | O87: Seahawks | P87: 49ers | Q87: Chiefs | R87: Rams | T87: 49ers | U87: Buccaneers | W87: =SUM(Z87:AO87) -> 9 | X87: =SUM(AQ87:AR87) -> 1 | Z87: =IF(C87=C$2,1,0) -> 1 | AA87: =IF(D87=D$2,1,0) -> 0 | AB87: =IF(E87=E$2,1,0) -> 0 | AC87: =IF(F87=F$2,1,0) -> 1 | AD87: =IF(G87=G$2,1,0) -> 1 | AE87: =IF(H87=H$2,1,0) -> 1 | AF87: =IF(I87=I$2,1,0) -> 0 | AG87: =IF(J87=J$2,1,0) -> 0 | ... AO87: =IF(R87=R$2,1,0) -> 1 | AQ87: =COUNTIF($C$2:$R$2, T87) -> 1 | AR87: =COUNTIF($C$2:$R$2, U87) -> 0
B88: 77 Total | C88: Rule 3*

Sheet W03
B2: 2026 Week 03 Winners: | C2: Falcons | D2: Bills | E2: Browns | F2: Lions | G2: Colts | H2: Chiefs | I2: Giants | J2: Steelers | K2: Commanders | L2: Jaguars | M2: 49ers | N2: Vikings | O2: Ravens | P2: Raiders | Q2: Broncos | R2: Bears
T3: Guarantee | U3: Guarantee | W3: Correct | X3: Guar.
B4: FPLeague | C4: {=_xlfn.IFS(C7>C8, C5, C7<C8, C6, C7=C8, "EVEN")} -> Packers | D4: {=_xlfn.IFS(D7>D8, D5, D7<D8, D6, D7=D8, "EVEN")} -> Bills | E4: {=_xlfn.IFS(E7>E8, E5, E7<E8, E6, E7=E8, "EVEN")} -> Panthers | F4: {=_xlfn.IFS(F7>F8, F5, F7<F8, F6, F7=F8, "EVEN")} -> Lions | G4: {=_xlfn.IFS(G7>G8, G5, G7<G8, G6, G7=G8, "EVEN")} -> Texans | H4: {=_xlfn.IFS(H7>H8, H5, H7<H8, H6, H7=H8, "EVEN")} -> Chiefs | I4: {=_xlfn.IFS(I7>I8, I5, I7<I8, I6, I7=I8, "EVEN")} -> Giants | J4: {=_xlfn.IFS(J7>J8, J5, J7<J8, J6, J7=J8, "EVEN")} -> Bengals | ... R4: {=_xlfn.IFS(R7>R8, R5, R7<R8, R6, R7=R8, "EVEN")} -> Eagles | T4: Chiefs | U4: 49ers | W4: =SUM(Z4:AO4) -> 8 | X4: =SUM(AQ4:AR4) -> 2 | Z4: =IF(C4=C$2,1,0) -> 0 | AA4: =IF(D4=D$2,1,0) -> 1 | AB4: =IF(E4=E$2,1,0) -> 0 | AC4: =IF(F4=F$2,1,0) -> 1 | AD4: =IF(G4=G$2,1,0) -> 0 | AE4: =IF(H4=H$2,1,0) -> 1 | AF4: =IF(I4=I$2,1,0) -> 1 | AG4: =IF(J4=J$2,1,0) -> 0 | ... AO4: =IF(R4=R$2,1,0) -> 0 | AQ4: =COUNTIF($C$2:$R$2, T4) -> 1 | AR4: =COUNTIF($C$2:$R$2, U4) -> 1
B5: Line | C5: Packers | D5: Bills | E5: Panthers | F5: Lions | G5: Texans | H5: Chiefs | I5: Giants | J5: Bengals | K5: Seahawks | L5: Jaguars | M5: 49ers | N5: Vikings | O5: Ravens | P5: Saints | Q5: Rams | R5: Eagles | T5: Chiefs | U5: Seahawks | W5: =SUM(Z5:AO5) -> 8 | X5: =SUM(AQ5:AR5) -> 1 | Z5: =IF(C5=C$2,1,0) -> 0 | AA5: =IF(D5=D$2,1,0) -> 1 | AB5: =IF(E5=E$2,1,0) -> 0 | AC5: =IF(F5=F$2,1,0) -> 1 | AD5: =IF(G5=G$2,1,0) -> 0 | AE5: =IF(H5=H$2,1,0) -> 1 | AF5: =IF(I5=I$2,1,0) -> 1 | AG5: =IF(J5=J$2,1,0) -> 0 | ... AO5: =IF(R5=R$2,1,0) -> 0 | AQ5: =COUNTIF($C$2:$R$2, T5) -> 1 | AR5: =COUNTIF($C$2:$R$2, U5) -> 0
B6: Underdogs | C6: Falcons | D6: Chargers | E6: Browns | F6: Jets | G6: Colts | H6: Dolphins | I6: Titans | J6: Steelers | K6: Commanders | L6: Patriots | M6: Cardinals | N6: Buccaneers | O6: Cowboys | P6: Raiders | Q6: Broncos | R6: Bears
B7: Favorite Count | C7: =COUNTIF(C$11:C$87,C5) -> 72 | D7: =COUNTIF(D$11:D$87,D5) -> 75 | E7: =COUNTIF(E$11:E$87,E5) -> 64 | F7: =COUNTIF(F$11:F$87,F5) -> 75 | G7: =COUNTIF(G$11:G$87,G5) -> 43 | H7: =COUNTIF(H$11:H$87,H5) -> 77 | I7: =COUNTIF(I$11:I$87,I5) -> 45 | J7: =COUNTIF(J$11:J$87,J5) -> 72 | ... R7: =COUNTIF(R$11:R$87,R5) -> 71
B8: Underdog Count | C8: =COUNTIF(C$11:C$87,C6) -> 1 | D8: =COUNTIF(D$11:D$87,D6) -> 2 | E8: =COUNTIF(E$11:E$87,E6) -> 13 | F8: =COUNTIF(F$11:F$87,F6) -> 2 | G8: =COUNTIF(G$11:G$87,G6) -> 34 | H8: =COUNTIF(H$11:H$87,H6) -> 0 | I8: =COUNTIF(I$11:I$87,I6) -> 32 | J8: =COUNTIF(J$11:J$87,J6) -> 5 | ... R8: =COUNTIF(R$11:R$87,R6) -> 6
B10: Name | T10: Guarantee | U10: Guarantee | W10: Correct | X10: Guar.
B11: Abusaad, Hussein | C11: Packers | D11: Bills | E11: Browns | F11: Lions | G11: Texans | H11: Chiefs | I11: Giants | J11: Bengals | K11: Seahawks | L11: Patriots | M11: 49ers | N11: Vikings | O11: Ravens | P11: Saints | Q11: Broncos | R11: Eagles | T11: Bills | U11: Chiefs | W11: =SUM(Z11:AO11) -> 9 | X11: =SUM(AQ11:AR11) -> 2 | Z11: =IF(C11=C$2,1,0) -> 0 | AA11: =IF(D11=D$2,1,0) -> 1 | AB11: =IF(E11=E$2,1,0) -> 1 | AC11: =IF(F11=F$2,1,0) -> 1 | AD11: =IF(G11=G$2,1,0) -> 0 | AE11: =IF(H11=H$2,1,0) -> 1 | AF11: =IF(I11=I$2,1,0) -> 1 | AG11: =IF(J11=J$2,1,0) -> 0 | ... AO11: =IF(R11=R$2,1,0) -> 0 | AQ11: =COUNTIF($C$2:$R$2, T11) -> 1 | AR11: =COUNTIF($C$2:$R$2, U11) -> 1
B12: Alsobrook, Luke | C12: Packers | D12: Bills | E12: Panthers | F12: Lions | G12: Colts | H12: Chiefs | I12: Giants | J12: Bengals | K12: Seahawks | L12: Jaguars | M12: 49ers | N12: Vikings | O12: Cowboys | P12: Saints | Q12: Rams | R12: Eagles | T12: Eagles | U12: Lions | W12: =SUM(Z12:AO12) -> 8 | X12: =SUM(AQ12:AR12) -> 1 | Z12: =IF(C12=C$2,1,0) -> 0 | AA12: =IF(D12=D$2,1,0) -> 1 | AB12: =IF(E12=E$2,1,0) -> 0 | AC12: =IF(F12=F$2,1,0) -> 1 | AD12: =IF(G12=G$2,1,0) -> 1 | AE12: =IF(H12=H$2,1,0) -> 1 | AF12: =IF(I12=I$2,1,0) -> 1 | AG12: =IF(J12=J$2,1,0) -> 0 | ... AO12: =IF(R12=R$2,1,0) -> 0 | AQ12: =COUNTIF($C$2:$R$2, T12) -> 0 | AR12: =COUNTIF($C$2:$R$2, U12) -> 1
B13: Anthis, Lincoln | C13: Packers | D13: Bills | E13: Browns | F13: Lions | G13: Colts | H13: Chiefs | I13: Giants | J13: Bengals | K13: Seahawks | L13: Patriots | M13: 49ers | N13: Vikings | O13: Ravens | P13: Saints | Q13: Rams | R13: Eagles | T13: Lions | U13: Patriots | W13: =SUM(Z13:AO13) -> 9 | X13: =SUM(AQ13:AR13) -> 1 | Z13: =IF(C13=C$2,1,0) -> 0 | AA13: =IF(D13=D$2,1,0) -> 1 | AB13: =IF(E13=E$2,1,0) -> 1 | AC13: =IF(F13=F$2,1,0) -> 1 | AD13: =IF(G13=G$2,1,0) -> 1 | AE13: =IF(H13=H$2,1,0) -> 1 | AF13: =IF(I13=I$2,1,0) -> 1 | AG13: =IF(J13=J$2,1,0) -> 0 | ... AO13: =IF(R13=R$2,1,0) -> 0 | AQ13: =COUNTIF($C$2:$R$2, T13) -> 1 | AR13: =COUNTIF($C$2:$R$2, U13) -> 0
B14: Anthis, Micah | C14: Packers | D14: Bills | E14: Panthers | F14: Lions | G14: Colts | H14: Chiefs | I14: Titans | J14: Bengals | K14: Seahawks | L14: Jaguars | M14: 49ers | N14: Vikings | O14: Ravens | P14: Saints | Q14: Rams | R14: Eagles | T14: Chiefs | U14: Seahawks | W14: =SUM(Z14:AO14) -> 8 | X14: =SUM(AQ14:AR14) -> 1 | Z14: =IF(C14=C$2,1,0) -> 0 | AA14: =IF(D14=D$2,1,0) -> 1 | AB14: =IF(E14=E$2,1,0) -> 0 | AC14: =IF(F14=F$2,1,0) -> 1 | AD14: =IF(G14=G$2,1,0) -> 1 | AE14: =IF(H14=H$2,1,0) -> 1 | AF14: =IF(I14=I$2,1,0) -> 0 | AG14: =IF(J14=J$2,1,0) -> 0 | ... AO14: =IF(R14=R$2,1,0) -> 0 | AQ14: =COUNTIF($C$2:$R$2, T14) -> 1 | AR14: =COUNTIF($C$2:$R$2, U14) -> 0
B15: Anthis, Michael | C15: Packers | D15: Bills | E15: Browns | F15: Lions | G15: Colts | H15: Chiefs | I15: Titans | J15: Bengals | K15: Seahawks | L15: Patriots | M15: 49ers | N15: Vikings | O15: Ravens | P15: Raiders | Q15: Rams | R15: Eagles | T15: Bills | U15: Lions | W15: =SUM(Z15:AO15) -> 9 | X15: =SUM(AQ15:AR15) -> 2 | Z15: =IF(C15=C$2,1,0) -> 0 | AA15: =IF(D15=D$2,1,0) -> 1 | AB15: =IF(E15=E$2,1,0) -> 1 | AC15: =IF(F15=F$2,1,0) -> 1 | AD15: =IF(G15=G$2,1,0) -> 1 | AE15: =IF(H15=H$2,1,0) -> 1 | AF15: =IF(I15=I$2,1,0) -> 0 | AG15: =IF(J15=J$2,1,0) -> 0 | ... AO15: =IF(R15=R$2,1,0) -> 0 | AQ15: =COUNTIF($C$2:$R$2, T15) -> 1 | AR15: =COUNTIF($C$2:$R$2, U15) -> 1
B16: Ardill, Liam | C16: Packers | D16: Bills | E16: Panthers | F16: Lions | G16: Colts | H16: Chiefs | I16: Giants | J16: Bengals | K16: Seahawks | L16: Patriots | M16: 49ers | N16: Vikings | O16: Ravens | P16: Saints | Q16: Rams | R16: Eagles | T16: Chiefs | U16: Seahawks | W16: =SUM(Z16:AO16) -> 8 | X16: =SUM(AQ16:AR16) -> 1 | Z16: =IF(C16=C$2,1,0) -> 0 | AA16: =IF(D16=D$2,1,0) -> 1 | AB16: =IF(E16=E$2,1,0) -> 0 | AC16: =IF(F16=F$2,1,0) -> 1 | AD16: =IF(G16=G$2,1,0) -> 1 | AE16: =IF(H16=H$2,1,0) -> 1 | AF16: =IF(I16=I$2,1,0) -> 1 | AG16: =IF(J16=J$2,1,0) -> 0 | ... AO16: =IF(R16=R$2,1,0) -> 0 | AQ16: =COUNTIF($C$2:$R$2, T16) -> 1 | AR16: =COUNTIF($C$2:$R$2, U16) -> 0
B17: Ardill, Scott | C17: Packers | D17: Bills | E17: Panthers | F17: Lions | G17: Texans | H17: Chiefs | I17: Titans | J17: Bengals | K17: Seahawks | L17: Jaguars | M17: 49ers | N17: Vikings | O17: Ravens | P17: Saints | Q17: Rams | R17: Eagles | T17: 49ers | U17: Chiefs | W17: =SUM(Z17:AO17) -> 7 | X17: =SUM(AQ17:AR17) -> 2 | Z17: =IF(C17=C$2,1,0) -> 0 | AA17: =IF(D17=D$2,1,0) -> 1 | AB17: =IF(E17=E$2,1,0) -> 0 | AC17: =IF(F17=F$2,1,0) -> 1 | AD17: =IF(G17=G$2,1,0) -> 0 | AE17: =IF(H17=H$2,1,0) -> 1 | AF17: =IF(I17=I$2,1,0) -> 0 | AG17: =IF(J17=J$2,1,0) -> 0 | ... AO17: =IF(R17=R$2,1,0) -> 0 | AQ17: =COUNTIF($C$2:$R$2, T17) -> 1 | AR17: =COUNTIF($C$2:$R$2, U17) -> 1
B18: Baker, Joel | C18: Packers | D18: Bills | E18: Panthers | F18: Lions | G18: Texans | H18: Chiefs | I18: Titans | J18: Bengals | K18: Seahawks | L18: Jaguars | M18: 49ers | N18: Vikings | O18: Ravens | P18: Raiders | Q18: Rams | R18: Eagles | T18: 49ers | U18: Bengals | W18: =SUM(Z18:AO18) -> 8 | X18: =SUM(AQ18:AR18) -> 1 | Z18: =IF(C18=C$2,1,0) -> 0 | AA18: =IF(D18=D$2,1,0) -> 1 | AB18: =IF(E18=E$2,1,0) -> 0 | AC18: =IF(F18=F$2,1,0) -> 1 | AD18: =IF(G18=G$2,1,0) -> 0 | AE18: =IF(H18=H$2,1,0) -> 1 | AF18: =IF(I18=I$2,1,0) -> 0 | AG18: =IF(J18=J$2,1,0) -> 0 | ... AO18: =IF(R18=R$2,1,0) -> 0 | AQ18: =COUNTIF($C$2:$R$2, T18) -> 1 | AR18: =COUNTIF($C$2:$R$2, U18) -> 0
B19: Baker, Ruben | C19: Packers | D19: Bills | E19: Panthers | F19: Lions | G19: Texans | H19: Chiefs | I19: Titans | J19: Bengals | K19: Seahawks | L19: Patriots | M19: 49ers | N19: Buccaneers | O19: Ravens | P19: Raiders | Q19: Rams | R19: Eagles | T19: 49ers | U19: Chiefs | W19: =SUM(Z19:AO19) -> 6 | X19: =SUM(AQ19:AR19) -> 2 | Z19: =IF(C19=C$2,1,0) -> 0 | AA19: =IF(D19=D$2,1,0) -> 1 | AB19: =IF(E19=E$2,1,0) -> 0 | AC19: =IF(F19=F$2,1,0) -> 1 | AD19: =IF(G19=G$2,1,0) -> 0 | AE19: =IF(H19=H$2,1,0) -> 1 | AF19: =IF(I19=I$2,1,0) -> 0 | AG19: =IF(J19=J$2,1,0) -> 0 | ... AO19: =IF(R19=R$2,1,0) -> 0 | AQ19: =COUNTIF($C$2:$R$2, T19) -> 1 | AR19: =COUNTIF($C$2:$R$2, U19) -> 1
B20: Baze, Drew | C20: Packers | D20: Bills | E20: Panthers | F20: Lions | G20: Texans | H20: Chiefs | I20: Titans | J20: Bengals | K20: Seahawks | L20: Jaguars | M20: 49ers | N20: Vikings | O20: Cowboys | P20: Saints | Q20: Broncos | R20: Eagles | T20: 49ers | U20: Cowboys | W20: =SUM(Z20:AO20) -> 7 | X20: =SUM(AQ20:AR20) -> 1 | Z20: =IF(C20=C$2,1,0) -> 0 | AA20: =IF(D20=D$2,1,0) -> 1 | AB20: =IF(E20=E$2,1,0) -> 0 | AC20: =IF(F20=F$2,1,0) -> 1 | AD20: =IF(G20=G$2,1,0) -> 0 | AE20: =IF(H20=H$2,1,0) -> 1 | AF20: =IF(I20=I$2,1,0) -> 0 | AG20: =IF(J20=J$2,1,0) -> 0 | ... AO20: =IF(R20=R$2,1,0) -> 0 | AQ20: =COUNTIF($C$2:$R$2, T20) -> 1 | AR20: =COUNTIF($C$2:$R$2, U20) -> 0
B21: Buck, Darrell | C21: Packers | D21: Bills | E21: Panthers | F21: Lions | G21: Colts | H21: Chiefs | I21: Titans | J21: Bengals | K21: Seahawks | L21: Patriots | M21: 49ers | N21: Vikings | O21: Cowboys | P21: Saints | Q21: Rams | R21: Eagles | T21: Chiefs | U21: Seahawks | W21: =SUM(Z21:AO21) -> 6 | X21: =SUM(AQ21:AR21) -> 1 | Z21: =IF(C21=C$2,1,0) -> 0 | AA21: =IF(D21=D$2,1,0) -> 1 | AB21: =IF(E21=E$2,1,0) -> 0 | AC21: =IF(F21=F$2,1,0) -> 1 | AD21: =IF(G21=G$2,1,0) -> 1 | AE21: =IF(H21=H$2,1,0) -> 1 | AF21: =IF(I21=I$2,1,0) -> 0 | AG21: =IF(J21=J$2,1,0) -> 0 | ... AO21: =IF(R21=R$2,1,0) -> 0 | AQ21: =COUNTIF($C$2:$R$2, T21) -> 1 | AR21: =COUNTIF($C$2:$R$2, U21) -> 0
B22: Carrasco, Eli | C22: Packers | D22: Bills | E22: Panthers | F22: Lions | G22: Texans | H22: Chiefs | I22: Giants | J22: Bengals | K22: Seahawks | L22: Patriots | M22: 49ers | N22: Vikings | O22: Cowboys | P22: Saints | Q22: Broncos | R22: Eagles | T22: 49ers | U22: Chiefs | W22: =SUM(Z22:AO22) -> 7 | X22: =SUM(AQ22:AR22) -> 2 | Z22: =IF(C22=C$2,1,0) -> 0 | AA22: =IF(D22=D$2,1,0) -> 1 | AB22: =IF(E22=E$2,1,0) -> 0 | AC22: =IF(F22=F$2,1,0) -> 1 | AD22: =IF(G22=G$2,1,0) -> 0 | AE22: =IF(H22=H$2,1,0) -> 1 | AF22: =IF(I22=I$2,1,0) -> 1 | AG22: =IF(J22=J$2,1,0) -> 0 | ... AO22: =IF(R22=R$2,1,0) -> 0 | AQ22: =COUNTIF($C$2:$R$2, T22) -> 1 | AR22: =COUNTIF($C$2:$R$2, U22) -> 1
... B29: Curran, Taylor | C29: Packers | D29: Bills | E29: Panthers | F29: Lions | G29: Texans | H29: Chiefs | I29: Titans | J29: Bengals | K29: Seahawks | L29: Patriots | M29: 49ers | N29: Vikings | O29: Ravens | P29: Raiders | Q29: Rams | R29: Eagles | T29: 49ers | U29: Eagles | W29: =SUM(Z29:AO29) -> 7 | X29: =SUM(AQ29:AR29) -> 1 | Z29: =IF(C29=C$2,1,0) -> 0 | AA29: =IF(D29=D$2,1,0) -> 1 | AB29: =IF(E29=E$2,1,0) -> 0 | AC29: =IF(F29=F$2,1,0) -> 1 | AD29: =IF(G29=G$2,1,0) -> 0 | AE29: =IF(H29=H$2,1,0) -> 1 | AF29: =IF(I29=I$2,1,0) -> 0 | AG29: =IF(J29=J$2,1,0) -> 0 | ... AO29: =IF(R29=R$2,1,0) -> 0 | AQ29: =COUNTIF($C$2:$R$2, T29) -> 1 | AR29: =COUNTIF($C$2:$R$2, U29) -> 0
B30: Easley, Jordan | C30: Falcons* | D30: Bills | E30: Panthers | F30: Lions | G30: Texans | H30: Chiefs | I30: Giants | J30: Bengals | K30: Seahawks | L30: Patriots | M30: 49ers | N30: Buccaneers | O30: Cowboys | P30: Raiders | Q30: Broncos | R30: Eagles | T30: Cowboys | U30: Lions | W30: =SUM(Z30:AO30) -> 8 | X30: =SUM(AQ30:AR30) -> 1 | Z30: 1 | AA30: =IF(D30=D$2,1,0) -> 1 | AB30: =IF(E30=E$2,1,0) -> 0 | AC30: =IF(F30=F$2,1,0) -> 1 | AD30: =IF(G30=G$2,1,0) -> 0 | AE30: =IF(H30=H$2,1,0) -> 1 | AF30: =IF(I30=I$2,1,0) -> 1 | AG30: =IF(J30=J$2,1,0) -> 0 | AH30: =IF(K30=K$2,1,0) -> 0 | ... AO30: =IF(R30=R$2,1,0) -> 0 | AQ30: =COUNTIF($C$2:$R$2, T30) -> 0 | AR30: =COUNTIF($C$2:$R$2, U30) -> 1
B31: Folmar, James | C31: Packers | D31: Bills | E31: Panthers | F31: Lions | G31: Texans | H31: Chiefs | I31: Titans | J31: Bengals | K31: Seahawks | L31: Jaguars | M31: 49ers | N31: Vikings | O31: Ravens | P31: Saints | Q31: Rams | R31: Eagles | T31: Bills | U31: Chiefs | W31: =SUM(Z31:AO31) -> 7 | X31: =SUM(AQ31:AR31) -> 2 | Z31: =IF(C31=C$2,1,0) -> 0 | AA31: =IF(D31=D$2,1,0) -> 1 | AB31: =IF(E31=E$2,1,0) -> 0 | AC31: =IF(F31=F$2,1,0) -> 1 | AD31: =IF(G31=G$2,1,0) -> 0 | AE31: =IF(H31=H$2,1,0) -> 1 | AF31: =IF(I31=I$2,1,0) -> 0 | AG31: =IF(J31=J$2,1,0) -> 0 | ... AO31: =IF(R31=R$2,1,0) -> 0 | AQ31: =COUNTIF($C$2:$R$2, T31) -> 1 | AR31: =COUNTIF($C$2:$R$2, U31) -> 1
B32: Fortner, Eric | C32: Falcons* | D32: Bills | E32: Browns | F32: Jets | G32: Colts | H32: Chiefs | I32: Titans | J32: Bengals | K32: Seahawks | L32: Jaguars | M32: 49ers | N32: Buccaneers | O32: Cowboys | P32: Raiders | Q32: Rams | R32: Eagles | T32: Eagles | U32: Seahawks | W32: =SUM(Z32:AO32) -> 8 | X32: =SUM(AQ32:AR32) -> 0 | Z32: 1 | AA32: =IF(D32=D$2,1,0) -> 1 | AB32: =IF(E32=E$2,1,0) -> 1 | AC32: =IF(F32=F$2,1,0) -> 0 | AD32: =IF(G32=G$2,1,0) -> 1 | AE32: =IF(H32=H$2,1,0) -> 1 | AF32: =IF(I32=I$2,1,0) -> 0 | AG32: =IF(J32=J$2,1,0) -> 0 | AH32: =IF(K32=K$2,1,0) -> 0 | ... AO32: =IF(R32=R$2,1,0) -> 0 | AQ32: =COUNTIF($C$2:$R$2, T32) -> 0 | AR32: =COUNTIF($C$2:$R$2, U32) -> 0
B33: Fortner, Jason | C33: Packers | D33: Bills | E33: Panthers | F33: Lions | G33: Colts | H33: Chiefs | I33: Titans | J33: Bengals | K33: Seahawks | L33: Jaguars | M33: 49ers | N33: Buccaneers | O33: Ravens | P33: Saints | Q33: Rams | R33: Eagles | T33: 49ers | U33: Chiefs | W33: =SUM(Z33:AO33) -> 7 | X33: =SUM(AQ33:AR33) -> 2 | Z33: =IF(C33=C$2,1,0) -> 0 | AA33: =IF(D33=D$2,1,0) -> 1 | AB33: =IF(E33=E$2,1,0) -> 0 | AC33: =IF(F33=F$2,1,0) -> 1 | AD33: =IF(G33=G$2,1,0) -> 1 | AE33: =IF(H33=H$2,1,0) -> 1 | AF33: =IF(I33=I$2,1,0) -> 0 | AG33: =IF(J33=J$2,1,0) -> 0 | ... AO33: =IF(R33=R$2,1,0) -> 0 | AQ33: =COUNTIF($C$2:$R$2, T33) -> 1 | AR33: =COUNTIF($C$2:$R$2, U33) -> 1
B34: Fortner, Mara | C34: Packers | D34: Bills | E34: Browns | F34: Lions | G34: Colts | H34: Chiefs | I34: Giants | J34: Steelers | K34: Seahawks | L34: Jaguars | M34: 49ers | N34: Buccaneers | O34: Ravens | P34: Raiders | Q34: Broncos | R34: Eagles | T34: Bills | U34: Chiefs | W34: =SUM(Z34:AO34) -> 12 | X34: =SUM(AQ34:AR34) -> 2 | Z34: =IF(C34=C$2,1,0) -> 0 | AA34: =IF(D34=D$2,1,0) -> 1 | AB34: =IF(E34=E$2,1,0) -> 1 | AC34: =IF(F34=F$2,1,0) -> 1 | AD34: =IF(G34=G$2,1,0) -> 1 | AE34: =IF(H34=H$2,1,0) -> 1 | AF34: =IF(I34=I$2,1,0) -> 1 | AG34: =IF(J34=J$2,1,0) -> 1 | ... AO34: =IF(R34=R$2,1,0) -> 0 | AQ34: =COUNTIF($C$2:$R$2, T34) -> 1 | AR34: =COUNTIF($C$2:$R$2, U34) -> 1
B35: Frias, Adan | C35: Packers | D35: Bills | E35: Browns | F35: Lions | G35: Colts | H35: Chiefs | I35: Giants | J35: Bengals | K35: Seahawks | L35: Jaguars | M35: 49ers | N35: Buccaneers | O35: Cowboys | P35: Raiders | Q35: Rams | R35: Eagles | T35: Chiefs | U35: Seahawks | W35: =SUM(Z35:AO35) -> 9 | X35: =SUM(AQ35:AR35) -> 1 | Z35: =IF(C35=C$2,1,0) -> 0 | AA35: =IF(D35=D$2,1,0) -> 1 | AB35: =IF(E35=E$2,1,0) -> 1 | AC35: =IF(F35=F$2,1,0) -> 1 | AD35: =IF(G35=G$2,1,0) -> 1 | AE35: =IF(H35=H$2,1,0) -> 1 | AF35: =IF(I35=I$2,1,0) -> 1 | AG35: =IF(J35=J$2,1,0) -> 0 | ... AO35: =IF(R35=R$2,1,0) -> 0 | AQ35: =COUNTIF($C$2:$R$2, T35) -> 1 | AR35: =COUNTIF($C$2:$R$2, U35) -> 0
B36: Garcia, Omar | C36: Packers | D36: Bills | E36: Panthers | F36: Lions | G36: Texans | H36: Chiefs | I36: Titans | J36: Bengals | K36: Seahawks | L36: Patriots | M36: 49ers | N36: Buccaneers | O36: Cowboys | P36: Saints | Q36: Rams | R36: Eagles | T36: Chiefs | U36: Seahawks | W36: =SUM(Z36:AO36) -> 4 | X36: =SUM(AQ36:AR36) -> 1 | Z36: =IF(C36=C$2,1,0) -> 0 | AA36: =IF(D36=D$2,1,0) -> 1 | AB36: =IF(E36=E$2,1,0) -> 0 | AC36: =IF(F36=F$2,1,0) -> 1 | AD36: =IF(G36=G$2,1,0) -> 0 | AE36: =IF(H36=H$2,1,0) -> 1 | AF36: =IF(I36=I$2,1,0) -> 0 | AG36: =IF(J36=J$2,1,0) -> 0 | ... AO36: =IF(R36=R$2,1,0) -> 0 | AQ36: =COUNTIF($C$2:$R$2, T36) -> 1 | AR36: =COUNTIF($C$2:$R$2, U36) -> 0
B37: Greenwood, Douglas | C37: Packers | D37: Bills | E37: Panthers | F37: Lions | G37: Texans | H37: Chiefs | I37: Giants | J37: Bengals | K37: Seahawks | L37: Jaguars | M37: 49ers | N37: Vikings | O37: Ravens | P37: Saints | Q37: Rams | R37: Eagles | T37: 49ers | U37: Chiefs | W37: =SUM(Z37:AO37) -> 8 | X37: =SUM(AQ37:AR37) -> 2 | Z37: =IF(C37=C$2,1,0) -> 0 | AA37: =IF(D37=D$2,1,0) -> 1 | AB37: =IF(E37=E$2,1,0) -> 0 | AC37: =IF(F37=F$2,1,0) -> 1 | AD37: =IF(G37=G$2,1,0) -> 0 | AE37: =IF(H37=H$2,1,0) -> 1 | AF37: =IF(I37=I$2,1,0) -> 1 | AG37: =IF(J37=J$2,1,0) -> 0 | ... AO37: =IF(R37=R$2,1,0) -> 0 | AQ37: =COUNTIF($C$2:$R$2, T37) -> 1 | AR37: =COUNTIF($C$2:$R$2, U37) -> 1
B38: Greenwood, Nathan | C38: Packers | D38: Bills | E38: Panthers | F38: Lions | G38: Colts | H38: Chiefs | I38: Titans | J38: Bengals | K38: Seahawks | L38: Jaguars | M38: 49ers | N38: Vikings | O38: Ravens | P38: Saints | Q38: Rams | R38: Eagles | T38: 49ers | U38: Saints | W38: =SUM(Z38:AO38) -> 8 | X38: =SUM(AQ38:AR38) -> 1 | Z38: =IF(C38=C$2,1,0) -> 0 | AA38: =IF(D38=D$2,1,0) -> 1 | AB38: =IF(E38=E$2,1,0) -> 0 | AC38: =IF(F38=F$2,1,0) -> 1 | AD38: =IF(G38=G$2,1,0) -> 1 | AE38: =IF(H38=H$2,1,0) -> 1 | AF38: =IF(I38=I$2,1,0) -> 0 | AG38: =IF(J38=J$2,1,0) -> 0 | ... AO38: =IF(R38=R$2,1,0) -> 0 | AQ38: =COUNTIF($C$2:$R$2, T38) -> 1 | AR38: =COUNTIF($C$2:$R$2, U38) -> 0
B39: Hamilton, Hunter | C39: Packers | D39: Chargers | E39: Panthers | F39: Lions | G39: Texans | H39: Chiefs | I39: Titans | J39: Steelers | K39: Commanders | L39: Patriots | M39: 49ers | N39: Vikings | O39: Cowboys | P39: Saints | Q39: Broncos | R39: Eagles | T39: 49ers | U39: Cowboys | W39: =SUM(Z39:AO39) -> 7 | X39: =SUM(AQ39:AR39) -> 1 | Z39: =IF(C39=C$2,1,0) -> 0 | AA39: =IF(D39=D$2,1,0) -> 0 | AB39: =IF(E39=E$2,1,0) -> 0 | AC39: =IF(F39=F$2,1,0) -> 1 | AD39: =IF(G39=G$2,1,0) -> 0 | AE39: =IF(H39=H$2,1,0) -> 1 | AF39: =IF(I39=I$2,1,0) -> 0 | AG39: =IF(J39=J$2,1,0) -> 1 | ... AO39: =IF(R39=R$2,1,0) -> 0 | AQ39: =COUNTIF($C$2:$R$2, T39) -> 1 | AR39: =COUNTIF($C$2:$R$2, U39) -> 0
B40: Harper, Kenneth | C40: Packers | D40: Bills | E40: Panthers | F40: Lions | G40: Colts | H40: Chiefs | I40: Titans | J40: Steelers | K40: Seahawks | L40: Patriots | M40: 49ers | N40: Vikings | O40: Ravens | P40: Saints | Q40: Rams | R40: Eagles | T40: 49ers | U40: Chiefs | W40: =SUM(Z40:AO40) -> 8 | X40: =SUM(AQ40:AR40) -> 2 | Z40: =IF(C40=C$2,1,0) -> 0 | AA40: =IF(D40=D$2,1,0) -> 1 | AB40: =IF(E40=E$2,1,0) -> 0 | AC40: =IF(F40=F$2,1,0) -> 1 | AD40: =IF(G40=G$2,1,0) -> 1 | AE40: =IF(H40=H$2,1,0) -> 1 | AF40: =IF(I40=I$2,1,0) -> 0 | AG40: =IF(J40=J$2,1,0) -> 1 | ... AO40: =IF(R40=R$2,1,0) -> 0 | AQ40: =COUNTIF($C$2:$R$2, T40) -> 1 | AR40: =COUNTIF($C$2:$R$2, U40) -> 1
B41: Hill, Jim | C41: Falcons* | D41: Bills | E41: Panthers | F41: Lions | G41: Texans | H41: Chiefs | I41: Giants | J41: Bengals | K41: Seahawks | L41: Patriots | M41: 49ers | N41: Vikings | O41: Cowboys | P41: Saints | Q41: Rams | R41: Bears | T41: Chiefs | U41: Seahawks | W41: =SUM(Z41:AO41) -> 8 | X41: =SUM(AQ41:AR41) -> 1 | Z41: 1 | AA41: =IF(D41=D$2,1,0) -> 1 | AB41: =IF(E41=E$2,1,0) -> 0 | AC41: =IF(F41=F$2,1,0) -> 1 | AD41: =IF(G41=G$2,1,0) -> 0 | AE41: =IF(H41=H$2,1,0) -> 1 | AF41: =IF(I41=I$2,1,0) -> 1 | AG41: =IF(J41=J$2,1,0) -> 0 | AH41: =IF(K41=K$2,1,0) -> 0 | ... AO41: =IF(R41=R$2,1,0) -> 1 | AQ41: =COUNTIF($C$2:$R$2, T41) -> 1 | AR41: =COUNTIF($C$2:$R$2, U41) -> 0
B42: Honeycutt, Terry | C42: Packers | D42: Bills | E42: Panthers | F42: Lions | G42: Colts | H42: Chiefs | I42: Giants | J42: Bengals | K42: Seahawks | L42: Jaguars | M42: 49ers | N42: Buccaneers | O42: Ravens | P42: Saints | Q42: Rams | R42: Eagles | T42: Chiefs | U42: Packers | W42: =SUM(Z42:AO42) -> 8 | X42: =SUM(AQ42:AR42) -> 1 | Z42: =IF(C42=C$2,1,0) -> 0 | AA42: =IF(D42=D$2,1,0) -> 1 | AB42: =IF(E42=E$2,1,0) -> 0 | AC42: =IF(F42=F$2,1,0) -> 1 | AD42: =IF(G42=G$2,1,0) -> 1 | AE42: =IF(H42=H$2,1,0) -> 1 | AF42: =IF(I42=I$2,1,0) -> 1 | AG42: =IF(J42=J$2,1,0) -> 0 | ... AO42: =IF(R42=R$2,1,0) -> 0 | AQ42: =COUNTIF($C$2:$R$2, T42) -> 1 | AR42: =COUNTIF($C$2:$R$2, U42) -> 0
B43: Honeycutt, Wanda | C43: Packers | D43: Bills | E43: Panthers | F43: Lions | G43: Texans | H43: Chiefs | I43: Giants | J43: Bengals | K43: Seahawks | L43: Jaguars | M43: 49ers | N43: Vikings | O43: Ravens | P43: Saints | Q43: Rams | R43: Eagles | T43: Bengals | U43: Chiefs | W43: =SUM(Z43:AO43) -> 8 | X43: =SUM(AQ43:AR43) -> 1 | Z43: =IF(C43=C$2,1,0) -> 0 | AA43: =IF(D43=D$2,1,0) -> 1 | AB43: =IF(E43=E$2,1,0) -> 0 | AC43: =IF(F43=F$2,1,0) -> 1 | AD43: =IF(G43=G$2,1,0) -> 0 | AE43: =IF(H43=H$2,1,0) -> 1 | AF43: =IF(I43=I$2,1,0) -> 1 | AG43: =IF(J43=J$2,1,0) -> 0 | ... AO43: =IF(R43=R$2,1,0) -> 0 | AQ43: =COUNTIF($C$2:$R$2, T43) -> 0 | AR43: =COUNTIF($C$2:$R$2, U43) -> 1
B44: Howard, Bill | C44: Packers | D44: Bills | E44: Panthers | F44: Lions | G44: Texans | H44: Chiefs | I44: Titans | J44: Bengals | K44: Seahawks | L44: Jaguars | M44: 49ers | N44: Buccaneers | O44: Ravens | P44: Saints | Q44: Rams | R44: Eagles | T44: 49ers | U44: Bills | W44: =SUM(Z44:AO44) -> 6 | X44: =SUM(AQ44:AR44) -> 2 | Z44: =IF(C44=C$2,1,0) -> 0 | AA44: =IF(D44=D$2,1,0) -> 1 | AB44: =IF(E44=E$2,1,0) -> 0 | AC44: =IF(F44=F$2,1,0) -> 1 | AD44: =IF(G44=G$2,1,0) -> 0 | AE44: =IF(H44=H$2,1,0) -> 1 | AF44: =IF(I44=I$2,1,0) -> 0 | AG44: =IF(J44=J$2,1,0) -> 0 | ... AO44: =IF(R44=R$2,1,0) -> 0 | AQ44: =COUNTIF($C$2:$R$2, T44) -> 1 | AR44: =COUNTIF($C$2:$R$2, U44) -> 1
B45: Hyde, Todd | C45: Packers | D45: Bills | E45: Panthers | F45: Lions | G45: Texans | H45: Chiefs | I45: Giants | J45: Bengals | K45: Seahawks | L45: Patriots | M45: 49ers | N45: Vikings | O45: Ravens | P45: Saints | Q45: Rams | R45: Eagles | T45: Chiefs | U45: Seahawks | W45: =SUM(Z45:AO45) -> 7 | X45: =SUM(AQ45:AR45) -> 1 | Z45: =IF(C45=C$2,1,0) -> 0 | AA45: =IF(D45=D$2,1,0) -> 1 | AB45: =IF(E45=E$2,1,0) -> 0 | AC45: =IF(F45=F$2,1,0) -> 1 | AD45: =IF(G45=G$2,1,0) -> 0 | AE45: =IF(H45=H$2,1,0) -> 1 | AF45: =IF(I45=I$2,1,0) -> 1 | AG45: =IF(J45=J$2,1,0) -> 0 | ... AO45: =IF(R45=R$2,1,0) -> 0 | AQ45: =COUNTIF($C$2:$R$2, T45) -> 1 | AR45: =COUNTIF($C$2:$R$2, U45) -> 0
B46: John, Thunder | C46: Packers | D46: Bills | E46: Panthers | F46: Lions | G46: Texans | H46: Chiefs | I46: Giants | J46: Bengals | K46: Seahawks | L46: Patriots | M46: 49ers | N46: Vikings | O46: Ravens | P46: Saints | Q46: Rams | R46: Eagles | T46: Bills | U46: Chiefs | W46: =SUM(Z46:AO46) -> 7 | X46: =SUM(AQ46:AR46) -> 2 | Z46: =IF(C46=C$2,1,0) -> 0 | AA46: =IF(D46=D$2,1,0) -> 1 | AB46: =IF(E46=E$2,1,0) -> 0 | AC46: =IF(F46=F$2,1,0) -> 1 | AD46: =IF(G46=G$2,1,0) -> 0 | AE46: =IF(H46=H$2,1,0) -> 1 | AF46: =IF(I46=I$2,1,0) -> 1 | AG46: =IF(J46=J$2,1,0) -> 0 | ... AO46: =IF(R46=R$2,1,0) -> 0 | AQ46: =COUNTIF($C$2:$R$2, T46) -> 1 | AR46: =COUNTIF($C$2:$R$2, U46) -> 1
B47: Kraus, Lloyd | C47: Packers | D47: Bills | E47: Panthers | F47: Lions | G47: Colts | H47: Chiefs | I47: Titans | J47: Bengals | K47: Seahawks | L47: Patriots | M47: 49ers | N47: Buccaneers | O47: Ravens | P47: Saints | Q47: Broncos | R47: Eagles | T47: Chiefs | U47: Seahawks | W47: =SUM(Z47:AO47) -> 7 | X47: =SUM(AQ47:AR47) -> 1 | Z47: =IF(C47=C$2,1,0) -> 0 | AA47: =IF(D47=D$2,1,0) -> 1 | AB47: =IF(E47=E$2,1,0) -> 0 | AC47: =IF(F47=F$2,1,0) -> 1 | AD47: =IF(G47=G$2,1,0) -> 1 | AE47: =IF(H47=H$2,1,0) -> 1 | AF47: =IF(I47=I$2,1,0) -> 0 | AG47: =IF(J47=J$2,1,0) -> 0 | ... AO47: =IF(R47=R$2,1,0) -> 0 | AQ47: =COUNTIF($C$2:$R$2, T47) -> 1 | AR47: =COUNTIF($C$2:$R$2, U47) -> 0
B48: Kraus, Will | C48: Packers | D48: Bills | E48: Panthers | F48: Lions | G48: Colts | H48: Chiefs | I48: Titans | J48: Bengals | K48: Seahawks | L48: Patriots | M48: 49ers | N48: Vikings | O48: Cowboys | P48: Saints | Q48: Rams | R48: Eagles | T48: Saints | U48: Seahawks | W48: =SUM(Z48:AO48) -> 6 | X48: =SUM(AQ48:AR48) -> 0 | Z48: =IF(C48=C$2,1,0) -> 0 | AA48: =IF(D48=D$2,1,0) -> 1 | AB48: =IF(E48=E$2,1,0) -> 0 | AC48: =IF(F48=F$2,1,0) -> 1 | AD48: =IF(G48=G$2,1,0) -> 1 | AE48: =IF(H48=H$2,1,0) -> 1 | AF48: =IF(I48=I$2,1,0) -> 0 | AG48: =IF(J48=J$2,1,0) -> 0 | ... AO48: =IF(R48=R$2,1,0) -> 0 | AQ48: =COUNTIF($C$2:$R$2, T48) -> 0 | AR48: =COUNTIF($C$2:$R$2, U48) -> 0
B49: Lammers, Andrew | C49: Packers | D49: Bills | E49: Browns | F49: Lions | G49: Colts | H49: Chiefs | I49: Titans | J49: Bengals | K49: Seahawks | L49: Jaguars | M49: 49ers | N49: Vikings | O49: Cowboys | P49: Saints | Q49: Rams | R49: Eagles | T49: 49ers | U49: Chiefs | W49: =SUM(Z49:AO49) -> 8 | X49: =SUM(AQ49:AR49) -> 2 | Z49: =IF(C49=C$2,1,0) -> 0 | AA49: =IF(D49=D$2,1,0) -> 1 | AB49: =IF(E49=E$2,1,0) -> 1 | AC49: =IF(F49=F$2,1,0) -> 1 | AD49: =IF(G49=G$2,1,0) -> 1 | AE49: =IF(H49=H$2,1,0) -> 1 | AF49: =IF(I49=I$2,1,0) -> 0 | AG49: =IF(J49=J$2,1,0) -> 0 | ... AO49: =IF(R49=R$2,1,0) -> 0 | AQ49: =COUNTIF($C$2:$R$2, T49) -> 1 | AR49: =COUNTIF($C$2:$R$2, U49) -> 1
B50: Lucido, Jordan | C50: Packers | D50: Bills | E50: Browns | F50: Jets | G50: Colts | H50: Chiefs | I50: Giants | J50: Bengals | K50: Commanders | L50: Patriots | M50: Cardinals | N50: Buccaneers | O50: Cowboys | P50: Raiders | Q50: Broncos | R50: Eagles | T50: Commanders | U50: Jets | W50: =SUM(Z50:AO50) -> 8 | X50: =SUM(AQ50:AR50) -> 1 | Z50: =IF(C50=C$2,1,0) -> 0 | AA50: =IF(D50=D$2,1,0) -> 1 | AB50: =IF(E50=E$2,1,0) -> 1 | AC50: =IF(F50=F$2,1,0) -> 0 | AD50: =IF(G50=G$2,1,0) -> 1 | AE50: =IF(H50=H$2,1,0) -> 1 | AF50: =IF(I50=I$2,1,0) -> 1 | AG50: =IF(J50=J$2,1,0) -> 0 | ... AO50: =IF(R50=R$2,1,0) -> 0 | AQ50: =COUNTIF($C$2:$R$2, T50) -> 1 | AR50: =COUNTIF($C$2:$R$2, U50) -> 0
B51: Manzala, Jason | C51: Packers | D51: Bills | E51: Panthers | F51: Lions | G51: Texans | H51: Chiefs | I51: Giants | J51: Bengals | K51: Seahawks | L51: Jaguars | M51: 49ers | N51: Vikings | O51: Ravens | P51: Saints | Q51: Rams | R51: Bears | T51: Chiefs | U51: Lions | W51: =SUM(Z51:AO51) -> 9 | X51: =SUM(AQ51:AR51) -> 2 | Z51: =IF(C51=C$2,1,0) -> 0 | AA51: =IF(D51=D$2,1,0) -> 1 | AB51: =IF(E51=E$2,1,0) -> 0 | AC51: =IF(F51=F$2,1,0) -> 1 | AD51: =IF(G51=G$2,1,0) -> 0 | AE51: =IF(H51=H$2,1,0) -> 1 | AF51: =IF(I51=I$2,1,0) -> 1 | AG51: =IF(J51=J$2,1,0) -> 0 | ... AO51: =IF(R51=R$2,1,0) -> 1 | AQ51: =COUNTIF($C$2:$R$2, T51) -> 1 | AR51: =COUNTIF($C$2:$R$2, U51) -> 1
B52: Manzala, Jeremy | C52: Packers | D52: Bills | E52: Panthers | F52: Lions | G52: Colts | H52: Chiefs | I52: Titans | J52: Bengals | K52: Seahawks | L52: Patriots | M52: 49ers | N52: Vikings | O52: Cowboys | P52: Saints | Q52: Rams | R52: Eagles | T52: Chargers | U52: Seahawks | W52: =SUM(Z52:AO52) -> 6 | X52: =SUM(AQ52:AR52) -> 0 | Z52: =IF(C52=C$2,1,0) -> 0 | AA52: =IF(D52=D$2,1,0) -> 1 | AB52: =IF(E52=E$2,1,0) -> 0 | AC52: =IF(F52=F$2,1,0) -> 1 | AD52: =IF(G52=G$2,1,0) -> 1 | AE52: =IF(H52=H$2,1,0) -> 1 | AF52: =IF(I52=I$2,1,0) -> 0 | AG52: =IF(J52=J$2,1,0) -> 0 | ... AO52: =IF(R52=R$2,1,0) -> 0 | AQ52: =COUNTIF($C$2:$R$2, T52) -> 0 | AR52: =COUNTIF($C$2:$R$2, U52) -> 0
B53: Manzala, Jerome | C53: Packers | D53: Bills | E53: Panthers | F53: Lions | G53: Colts | H53: Chiefs | I53: Giants | J53: Bengals | K53: Seahawks | L53: Jaguars | M53: 49ers | N53: Vikings | O53: Cowboys | P53: Saints | Q53: Broncos | R53: Bears | T53: Chiefs | U53: Packers | W53: =SUM(Z53:AO53) -> 10 | X53: =SUM(AQ53:AR53) -> 1 | Z53: =IF(C53=C$2,1,0) -> 0 | AA53: =IF(D53=D$2,1,0) -> 1 | AB53: =IF(E53=E$2,1,0) -> 0 | AC53: =IF(F53=F$2,1,0) -> 1 | AD53: =IF(G53=G$2,1,0) -> 1 | AE53: =IF(H53=H$2,1,0) -> 1 | AF53: =IF(I53=I$2,1,0) -> 1 | AG53: =IF(J53=J$2,1,0) -> 0 | ... AO53: =IF(R53=R$2,1,0) -> 1 | AQ53: =COUNTIF($C$2:$R$2, T53) -> 1 | AR53: =COUNTIF($C$2:$R$2, U53) -> 0
... B83: Vance, Jeremy | C83: Packers | D83: Bills | E83: Panthers | F83: Lions | G83: Colts | H83: Chiefs | I83: Titans | J83: Bengals | K83: Seahawks | L83: Jaguars | M83: 49ers | N83: Buccaneers | O83: Cowboys | P83: Saints | Q83: Rams | R83: Bears | T83: 49ers | U83: Chiefs | W83: =SUM(Z83:AO83) -> 7 | X83: =SUM(AQ83:AR83) -> 2 | Z83: =IF(C83=C$2,1,0) -> 0 | AA83: =IF(D83=D$2,1,0) -> 1 | AB83: =IF(E83=E$2,1,0) -> 0 | AC83: =IF(F83=F$2,1,0) -> 1 | AD83: =IF(G83=G$2,1,0) -> 1 | AE83: =IF(H83=H$2,1,0) -> 1 | AF83: =IF(I83=I$2,1,0) -> 0 | AG83: =IF(J83=J$2,1,0) -> 0 | ... AO83: =IF(R83=R$2,1,0) -> 1 | AQ83: =COUNTIF($C$2:$R$2, T83) -> 1 | AR83: =COUNTIF($C$2:$R$2, U83) -> 1
B84: West, Shannon | C84: Falcons* | D84: Bills | E84: Panthers | F84: Lions | G84: Texans | H84: Chiefs | I84: Giants | J84: Bengals | K84: Seahawks | L84: Jaguars | M84: 49ers | N84: Vikings | O84: Ravens | P84: Saints | Q84: Broncos | R84: Eagles | T84: 49ers | U84: Seahawks | W84: =SUM(Z84:AO84) -> 10 | X84: =SUM(AQ84:AR84) -> 1 | Z84: 1 | AA84: =IF(D84=D$2,1,0) -> 1 | AB84: =IF(E84=E$2,1,0) -> 0 | AC84: =IF(F84=F$2,1,0) -> 1 | AD84: =IF(G84=G$2,1,0) -> 0 | AE84: =IF(H84=H$2,1,0) -> 1 | AF84: =IF(I84=I$2,1,0) -> 1 | AG84: =IF(J84=J$2,1,0) -> 0 | AH84: =IF(K84=K$2,1,0) -> 0 | ... AO84: =IF(R84=R$2,1,0) -> 0 | AQ84: =COUNTIF($C$2:$R$2, T84) -> 1 | AR84: =COUNTIF($C$2:$R$2, U84) -> 0
B85: White, Shawn | C85: Packers | D85: Bills | E85: Panthers | F85: Lions | G85: Texans | H85: Chiefs | I85: Giants | J85: Bengals | K85: Seahawks | L85: Patriots | M85: 49ers | N85: Vikings | O85: Ravens | P85: Saints | Q85: Rams | R85: Eagles | T85: 49ers | U85: Chiefs | W85: =SUM(Z85:AO85) -> 7 | X85: =SUM(AQ85:AR85) -> 2 | Z85: =IF(C85=C$2,1,0) -> 0 | AA85: =IF(D85=D$2,1,0) -> 1 | AB85: =IF(E85=E$2,1,0) -> 0 | AC85: =IF(F85=F$2,1,0) -> 1 | AD85: =IF(G85=G$2,1,0) -> 0 | AE85: =IF(H85=H$2,1,0) -> 1 | AF85: =IF(I85=I$2,1,0) -> 1 | AG85: =IF(J85=J$2,1,0) -> 0 | ... AO85: =IF(R85=R$2,1,0) -> 0 | AQ85: =COUNTIF($C$2:$R$2, T85) -> 1 | AR85: =COUNTIF($C$2:$R$2, U85) -> 1
B86: Williams, Reilee | C86: Falcons | D86: Bills | E86: Panthers | F86: Lions | G86: Colts | H86: Chiefs | I86: Titans | J86: Bengals | K86: Seahawks | L86: Jaguars | M86: Cardinals | N86: Buccaneers | O86: Ravens | P86: Raiders | Q86: Rams | R86: Eagles | T86: Chiefs | U86: Lions | W86: =SUM(Z86:AO86) -> 8 | X86: =SUM(AQ86:AR86) -> 2 | Z86: =IF(C86=C$2,1,0) -> 1 | AA86: =IF(D86=D$2,1,0) -> 1 | AB86: =IF(E86=E$2,1,0) -> 0 | AC86: =IF(F86=F$2,1,0) -> 1 | AD86: =IF(G86=G$2,1,0) -> 1 | AE86: =IF(H86=H$2,1,0) -> 1 | AF86: =IF(I86=I$2,1,0) -> 0 | AG86: =IF(J86=J$2,1,0) -> 0 | ... AO86: =IF(R86=R$2,1,0) -> 0 | AQ86: =COUNTIF($C$2:$R$2, T86) -> 1 | AR86: =COUNTIF($C$2:$R$2, U86) -> 1
B87: Young, Michael | C87: Packers | D87: Bills | E87: Browns | F87: Lions | G87: Texans | H87: Chiefs | I87: Giants | J87: Bengals | K87: Seahawks | L87: Jaguars | M87: 49ers | N87: Buccaneers | O87: Cowboys | P87: Saints | Q87: Rams | R87: Eagles | T87: 49ers | U87: Eagles | W87: =SUM(Z87:AO87) -> 7 | X87: =SUM(AQ87:AR87) -> 1 | Z87: =IF(C87=C$2,1,0) -> 0 | AA87: =IF(D87=D$2,1,0) -> 1 | AB87: =IF(E87=E$2,1,0) -> 1 | AC87: =IF(F87=F$2,1,0) -> 1 | AD87: =IF(G87=G$2,1,0) -> 0 | AE87: =IF(H87=H$2,1,0) -> 1 | AF87: =IF(I87=I$2,1,0) -> 1 | AG87: =IF(J87=J$2,1,0) -> 0 | ... AO87: =IF(R87=R$2,1,0) -> 0 | AQ87: =COUNTIF($C$2:$R$2, T87) -> 1 | AR87: =COUNTIF($C$2:$R$2, U87) -> 0
B88: 77 Total | C88: Rule 3*

Sheet W04
B2: 2026 Week 04 Winners: | C2: Browns | D2: Colts | E2: Patriots | F2: Bears | G2: Jaguars | H2: Giants | I2: Rams | J2: Packers | K2: Ravens | L2: Cowboys | M2: Vikings | N2: Chiefs | O2: 49ers | P2: Seahawks | Q2: Panthers | R2: Falcons
T3: Guarantee | U3: Guarantee | W3: Correct | X3: Guar.
B4: FPLeague | C4: {=_xlfn.IFS(C7>C8, C5, C7<C8, C6, C7=C8, "EVEN")} -> Steelers | D4: {=_xlfn.IFS(D7>D8, D5, D7<D8, D6, D7=D8, "EVEN")} -> Colts | E4: {=_xlfn.IFS(E7>E8, E5, E7<E8, E6, E7=E8, "EVEN")} -> Bills | F4: {=_xlfn.IFS(F7>F8, F5, F7<F8, F6, F7=F8, "EVEN")} -> Bears | G4: {=_xlfn.IFS(G7>G8, G5, G7<G8, G6, G7=G8, "EVEN")} -> Bengals | H4: {=_xlfn.IFS(H7>H8, H5, H7<H8, H6, H7=H8, "EVEN")} -> Cardinals | I4: {=_xlfn.IFS(I7>I8, I5, I7<I8, I6, I7=I8, "EVEN")} -> Rams | J4: {=_xlfn.IFS(J7>J8, J5, J7<J8, J6, J7=J8, "EVEN")} -> Packers | ... R4: {=_xlfn.IFS(R7>R8, R5, R7<R8, R6, R7=R8, "EVEN")} -> Saints | T4: Ravens | U4: Vikings | W4: =SUM(Z4:AO4) -> 10 | X4: =SUM(AQ4:AR4) -> 2 | Z4: =IF(C4=C$2,1,0) -> 0 | AA4: =IF(D4=D$2,1,0) -> 1 | AB4: =IF(E4=E$2,1,0) -> 0 | AC4: =IF(F4=F$2,1,0) -> 1 | AD4: =IF(G4=G$2,1,0) -> 0 | AE4: =IF(H4=H$2,1,0) -> 0 | AF4: =IF(I4=I$2,1,0) -> 1 | AG4: =IF(J4=J$2,1,0) -> 1 | ... AO4: =IF(R4=R$2,1,0) -> 0 | AQ4: =COUNTIF($C$2:$R$2, T4) -> 1 | AR4: =COUNTIF($C$2:$R$2, U4) -> 1
B5: Line | C5: Steelers | D5: Colts | E5: Bills | F5: Bears | G5: Bengals | H5: Cardinals | I5: Rams | J5: Packers | K5: Ravens | L5: Texans | M5: Vikings | N5: Chiefs | O5: 49ers | P5: Seahawks | Q5: Lions | R5: Saints | T5: Ravens | U5: Vikings | W5: =SUM(Z5:AO5) -> 9 | X5: =SUM(AQ5:AR5) -> 2 | Z5: =IF(C5=C$2,1,0) -> 0 | AA5: =IF(D5=D$2,1,0) -> 1 | AB5: =IF(E5=E$2,1,0) -> 0 | AC5: =IF(F5=F$2,1,0) -> 1 | AD5: =IF(G5=G$2,1,0) -> 0 | AE5: =IF(H5=H$2,1,0) -> 0 | AF5: =IF(I5=I$2,1,0) -> 1 | AG5: =IF(J5=J$2,1,0) -> 1 | ... AO5: =IF(R5=R$2,1,0) -> 0 | AQ5: =COUNTIF($C$2:$R$2, T5) -> 1 | AR5: =COUNTIF($C$2:$R$2, U5) -> 1
B6: Underdogs | C6: Browns | D6: Commanders | E6: Patriots | F6: Jets | G6: Jaguars | H6: Giants | I6: Eagles | J6: Buccaneers | K6: Titans | L6: Cowboys | M6: Dolphins | N6: Raiders | O6: Broncos | P6: Chargers | Q6: Panthers | R6: Falcons
B7: Favorite Count | C7: =COUNTIF(C$11:C$87,C5) -> 54 | D7: =COUNTIF(D$11:D$87,D5) -> 56 | E7: =COUNTIF(E$11:E$87,E5) -> 71 | F7: =COUNTIF(F$11:F$87,F5) -> 69 | G7: =COUNTIF(G$11:G$87,G5) -> 48 | H7: =COUNTIF(H$11:H$87,H5) -> 38 | I7: =COUNTIF(I$11:I$87,I5) -> 57 | J7: =COUNTIF(J$11:J$87,J5) -> 55 | ... R7: =COUNTIF(R$11:R$87,R5) -> 57
B8: Underdog Count | C8: =COUNTIF(C$11:C$87,C6) -> 18 | D8: =COUNTIF(D$11:D$87,D6) -> 16 | E8: =COUNTIF(E$11:E$87,E6) -> 2 | F8: =COUNTIF(F$11:F$87,F6) -> 4 | G8: =COUNTIF(G$11:G$87,G6) -> 25 | H8: =COUNTIF(H$11:H$87,H6) -> 35 | I8: =COUNTIF(I$11:I$87,I6) -> 16 | J8: =COUNTIF(J$11:J$87,J6) -> 18 | ... R8: =COUNTIF(R$11:R$87,R6) -> 16
B10: Name | T10: Guarantee | U10: Guarantee | W10: Correct | X10: Guar.
B11: Abusaad, Hussein | C11: Browns | D11: Colts | E11: Bills | F11: Bears | G11: Bengals | H11: Giants | I11: Rams | J11: Buccaneers | K11: Ravens | L11: Cowboys | M11: Vikings | N11: Chiefs | O11: 49ers | P11: Chargers | Q11: Lions | R11: Saints | T11: 49ers | U11: Saints | W11: =SUM(Z11:AO11) -> 10 | X11: =SUM(AQ11:AR11) -> 1 | Z11: =IF(C11=C$2,1,0) -> 1 | AA11: =IF(D11=D$2,1,0) -> 1 | AB11: =IF(E11=E$2,1,0) -> 0 | AC11: =IF(F11=F$2,1,0) -> 1 | AD11: =IF(G11=G$2,1,0) -> 0 | AE11: =IF(H11=H$2,1,0) -> 1 | AF11: =IF(I11=I$2,1,0) -> 1 | AG11: =IF(J11=J$2,1,0) -> 0 | ... AO11: =IF(R11=R$2,1,0) -> 0 | AQ11: =COUNTIF($C$2:$R$2, T11) -> 1 | AR11: =COUNTIF($C$2:$R$2, U11) -> 0
B12: Alsobrook, Luke | C12: Steelers | D12: Colts | E12: Bills | F12: Bears | G12: Bengals | H12: Cardinals | I12: Rams | J12: Buccaneers | K12: Ravens | L12: Cowboys | M12: Vikings | N12: Chiefs | O12: 49ers | P12: Seahawks | Q12: Lions | R12: Falcons | T12: Ravens | U12: Vikings | W12: =SUM(Z12:AO12) -> 10 | X12: =SUM(AQ12:AR12) -> 2 | Z12: =IF(C12=C$2,1,0) -> 0 | AA12: =IF(D12=D$2,1,0) -> 1 | AB12: =IF(E12=E$2,1,0) -> 0 | AC12: =IF(F12=F$2,1,0) -> 1 | AD12: =IF(G12=G$2,1,0) -> 0 | AE12: =IF(H12=H$2,1,0) -> 0 | AF12: =IF(I12=I$2,1,0) -> 1 | AG12: =IF(J12=J$2,1,0) -> 0 | ... AO12: =IF(R12=R$2,1,0) -> 1 | AQ12: =COUNTIF($C$2:$R$2, T12) -> 1 | AR12: =COUNTIF($C$2:$R$2, U12) -> 1
B13: Anthis, Lincoln | C13: Steelers | D13: Colts | E13: Bills | F13: Bears | G13: Bengals | H13: Giants | I13: Rams | J13: Buccaneers | K13: Ravens | L13: Cowboys | M13: Vikings | N13: Chiefs | O13: Broncos | P13: Seahawks | Q13: Lions | R13: Saints | T13: Giants | U13: Lions | W13: =SUM(Z13:AO13) -> 9 | X13: =SUM(AQ13:AR13) -> 1 | Z13: =IF(C13=C$2,1,0) -> 0 | AA13: =IF(D13=D$2,1,0) -> 1 | AB13: =IF(E13=E$2,1,0) -> 0 | AC13: =IF(F13=F$2,1,0) -> 1 | AD13: =IF(G13=G$2,1,0) -> 0 | AE13: =IF(H13=H$2,1,0) -> 1 | AF13: =IF(I13=I$2,1,0) -> 1 | AG13: =IF(J13=J$2,1,0) -> 0 | ... AO13: =IF(R13=R$2,1,0) -> 0 | AQ13: =COUNTIF($C$2:$R$2, T13) -> 1 | AR13: =COUNTIF($C$2:$R$2, U13) -> 0
B14: Anthis, Micah | C14: Steelers | D14: Colts | E14: Bills | F14: Bears | G14: Bengals | H14: Giants | I14: Rams | J14: Packers | K14: Ravens | L14: Texans | M14: Vikings | N14: Chiefs | O14: 49ers | P14: Seahawks | Q14: Panthers | R14: Saints | T14: Bears | U14: Ravens | W14: =SUM(Z14:AO14) -> 11 | X14: =SUM(AQ14:AR14) -> 2 | Z14: =IF(C14=C$2,1,0) -> 0 | AA14: =IF(D14=D$2,1,0) -> 1 | AB14: =IF(E14=E$2,1,0) -> 0 | AC14: =IF(F14=F$2,1,0) -> 1 | AD14: =IF(G14=G$2,1,0) -> 0 | AE14: =IF(H14=H$2,1,0) -> 1 | AF14: =IF(I14=I$2,1,0) -> 1 | AG14: =IF(J14=J$2,1,0) -> 1 | ... AO14: =IF(R14=R$2,1,0) -> 0 | AQ14: =COUNTIF($C$2:$R$2, T14) -> 1 | AR14: =COUNTIF($C$2:$R$2, U14) -> 1
B15: Anthis, Michael | C15: Steelers | D15: Colts | E15: Bills | F15: Bears | G15: Bengals | H15: Giants | I15: Rams | J15: Packers | K15: Ravens | L15: Texans | M15: Vikings | N15: Raiders | O15: 49ers | P15: Seahawks | Q15: Lions | R15: Saints | T15: Bears | U15: Bills | W15: =SUM(Z15:AO15) -> 9 | X15: =SUM(AQ15:AR15) -> 1 | Z15: =IF(C15=C$2,1,0) -> 0 | AA15: =IF(D15=D$2,1,0) -> 1 | AB15: =IF(E15=E$2,1,0) -> 0 | AC15: =IF(F15=F$2,1,0) -> 1 | AD15: =IF(G15=G$2,1,0) -> 0 | AE15: =IF(H15=H$2,1,0) -> 1 | AF15: =IF(I15=I$2,1,0) -> 1 | AG15: =IF(J15=J$2,1,0) -> 1 | ... AO15: =IF(R15=R$2,1,0) -> 0 | AQ15: =COUNTIF($C$2:$R$2, T15) -> 1 | AR15: =COUNTIF($C$2:$R$2, U15) -> 0
B16: Ardill, Liam | C16: Steelers | D16: Colts | E16: Bills | F16: Bears | G16: Bengals | H16: Cardinals | I16: Rams | J16: Packers | K16: Ravens | L16: Cowboys | M16: Vikings | N16: Raiders | O16: 49ers | P16: Seahawks | Q16: Lions | R16: Saints | T16: Ravens | U16: Vikings | W16: =SUM(Z16:AO16) -> 9 | X16: =SUM(AQ16:AR16) -> 2 | Z16: =IF(C16=C$2,1,0) -> 0 | AA16: =IF(D16=D$2,1,0) -> 1 | AB16: =IF(E16=E$2,1,0) -> 0 | AC16: =IF(F16=F$2,1,0) -> 1 | AD16: =IF(G16=G$2,1,0) -> 0 | AE16: =IF(H16=H$2,1,0) -> 0 | AF16: =IF(I16=I$2,1,0) -> 1 | AG16: =IF(J16=J$2,1,0) -> 1 | ... AO16: =IF(R16=R$2,1,0) -> 0 | AQ16: =COUNTIF($C$2:$R$2, T16) -> 1 | AR16: =COUNTIF($C$2:$R$2, U16) -> 1
B17: Ardill, Scott | C17: Steelers | D17: Colts | E17: Bills | F17: Bears | G17: Bengals | H17: Cardinals | I17: Rams | J17: Packers | K17: Ravens | L17: Texans | M17: Vikings | N17: Chiefs | O17: 49ers | P17: Seahawks | Q17: Lions | R17: Saints | T17: Ravens | U17: Vikings | W17: =SUM(Z17:AO17) -> 9 | X17: =SUM(AQ17:AR17) -> 2 | Z17: =IF(C17=C$2,1,0) -> 0 | AA17: =IF(D17=D$2,1,0) -> 1 | AB17: =IF(E17=E$2,1,0) -> 0 | AC17: =IF(F17=F$2,1,0) -> 1 | AD17: =IF(G17=G$2,1,0) -> 0 | AE17: =IF(H17=H$2,1,0) -> 0 | AF17: =IF(I17=I$2,1,0) -> 1 | AG17: =IF(J17=J$2,1,0) -> 1 | ... AO17: =IF(R17=R$2,1,0) -> 0 | AQ17: =COUNTIF($C$2:$R$2, T17) -> 1 | AR17: =COUNTIF($C$2:$R$2, U17) -> 1
B18: Baker, Joel | C18: Steelers | D18: Commanders | E18: Bills | F18: Bears | G18: Jaguars | H18: Cardinals | I18: Rams | J18: Packers | K18: Ravens | L18: Cowboys | M18: Vikings | N18: Chiefs | O18: 49ers | P18: Seahawks | Q18: Lions | R18: Saints | T18: 49ers | U18: Bills | W18: =SUM(Z18:AO18) -> 10 | X18: =SUM(AQ18:AR18) -> 1 | Z18: =IF(C18=C$2,1,0) -> 0 | AA18: =IF(D18=D$2,1,0) -> 0 | AB18: =IF(E18=E$2,1,0) -> 0 | AC18: =IF(F18=F$2,1,0) -> 1 | AD18: =IF(G18=G$2,1,0) -> 1 | AE18: =IF(H18=H$2,1,0) -> 0 | AF18: =IF(I18=I$2,1,0) -> 1 | AG18: =IF(J18=J$2,1,0) -> 1 | ... AO18: =IF(R18=R$2,1,0) -> 0 | AQ18: =COUNTIF($C$2:$R$2, T18) -> 1 | AR18: =COUNTIF($C$2:$R$2, U18) -> 0
B19: Baker, Ruben | C19: Steelers | D19: Colts | E19: Bills | F19: Bears | G19: Bengals | H19: Cardinals | I19: Rams | J19: Packers | K19: Ravens | L19: Cowboys | M19: Vikings | N19: Chiefs | O19: 49ers | P19: Seahawks | Q19: Panthers | R19: Falcons | T19: 49ers | U19: Bills | W19: =SUM(Z19:AO19) -> 12 | X19: =SUM(AQ19:AR19) -> 1 | Z19: =IF(C19=C$2,1,0) -> 0 | AA19: =IF(D19=D$2,1,0) -> 1 | AB19: =IF(E19=E$2,1,0) -> 0 | AC19: =IF(F19=F$2,1,0) -> 1 | AD19: =IF(G19=G$2,1,0) -> 0 | AE19: =IF(H19=H$2,1,0) -> 0 | AF19: =IF(I19=I$2,1,0) -> 1 | AG19: =IF(J19=J$2,1,0) -> 1 | ... AO19: =IF(R19=R$2,1,0) -> 1 | AQ19: =COUNTIF($C$2:$R$2, T19) -> 1 | AR19: =COUNTIF($C$2:$R$2, U19) -> 0
B20: Baze, Drew | C20: Steelers | D20: Colts | E20: Bills | F20: Bears | G20: Bengals | H20: Cardinals | I20: Eagles | J20: Packers | K20: Ravens | L20: Cowboys | M20: Vikings | N20: Chiefs | O20: 49ers | P20: Seahawks | Q20: Lions | R20: Falcons | T20: 49ers | U20: Cowboys | W20: =SUM(Z20:AO20) -> 10 | X20: =SUM(AQ20:AR20) -> 2 | Z20: =IF(C20=C$2,1,0) -> 0 | AA20: =IF(D20=D$2,1,0) -> 1 | AB20: =IF(E20=E$2,1,0) -> 0 | AC20: =IF(F20=F$2,1,0) -> 1 | AD20: =IF(G20=G$2,1,0) -> 0 | AE20: =IF(H20=H$2,1,0) -> 0 | AF20: =IF(I20=I$2,1,0) -> 0 | AG20: =IF(J20=J$2,1,0) -> 1 | ... AO20: =IF(R20=R$2,1,0) -> 1 | AQ20: =COUNTIF($C$2:$R$2, T20) -> 1 | AR20: =COUNTIF($C$2:$R$2, U20) -> 1
B21: Buck, Darrell | C21: Browns | D21: Colts | E21: Bills | F21: Bears | G21: Bengals | H21: Cardinals | I21: Rams | J21: Buccaneers | K21: Ravens | L21: Cowboys | M21: Vikings | N21: Raiders | O21: 49ers | P21: Seahawks | Q21: Lions | R21: Saints | T21: Seahawks | U21: Vikings | W21: =SUM(Z21:AO21) -> 9 | X21: =SUM(AQ21:AR21) -> 2 | Z21: =IF(C21=C$2,1,0) -> 1 | AA21: =IF(D21=D$2,1,0) -> 1 | AB21: =IF(E21=E$2,1,0) -> 0 | AC21: =IF(F21=F$2,1,0) -> 1 | AD21: =IF(G21=G$2,1,0) -> 0 | AE21: =IF(H21=H$2,1,0) -> 0 | AF21: =IF(I21=I$2,1,0) -> 1 | AG21: =IF(J21=J$2,1,0) -> 0 | ... AO21: =IF(R21=R$2,1,0) -> 0 | AQ21: =COUNTIF($C$2:$R$2, T21) -> 1 | AR21: =COUNTIF($C$2:$R$2, U21) -> 1
B22: Carrasco, Eli | C22: Steelers | D22: Colts | E22: Bills | F22: Bears | G22: Jaguars | H22: Giants | I22: Rams | J22: Buccaneers | K22: Ravens | L22: Cowboys | M22: Vikings | N22: Chiefs | O22: 49ers | P22: Seahawks | Q22: Lions | R22: Saints | T22: Ravens | U22: Vikings | W22: =SUM(Z22:AO22) -> 11 | X22: =SUM(AQ22:AR22) -> 2 | Z22: =IF(C22=C$2,1,0) -> 0 | AA22: =IF(D22=D$2,1,0) -> 1 | AB22: =IF(E22=E$2,1,0) -> 0 | AC22: =IF(F22=F$2,1,0) -> 1 | AD22: =IF(G22=G$2,1,0) -> 1 | AE22: =IF(H22=H$2,1,0) -> 1 | AF22: =IF(I22=I$2,1,0) -> 1 | AG22: =IF(J22=J$2,1,0) -> 0 | ... AO22: =IF(R22=R$2,1,0) -> 0 | AQ22: =COUNTIF($C$2:$R$2, T22) -> 1 | AR22: =COUNTIF($C$2:$R$2, U22) -> 1
... B40: Harper, Kenneth | C40: Browns | D40: Commanders | E40: Bills | F40: Bears | G40: Bengals | H40: Giants | I40: Rams | J40: Buccaneers | K40: Ravens | L40: Cowboys | M40: Vikings | N40: Chiefs | O40: 49ers | P40: Seahawks | Q40: Lions | R40: Saints | T40: Bills | U40: Chiefs | W40: =SUM(Z40:AO40) -> 10 | X40: =SUM(AQ40:AR40) -> 1 | Z40: =IF(C40=C$2,1,0) -> 1 | AA40: =IF(D40=D$2,1,0) -> 0 | AB40: =IF(E40=E$2,1,0) -> 0 | AC40: =IF(F40=F$2,1,0) -> 1 | AD40: =IF(G40=G$2,1,0) -> 0 | AE40: =IF(H40=H$2,1,0) -> 1 | AF40: =IF(I40=I$2,1,0) -> 1 | AG40: =IF(J40=J$2,1,0) -> 0 | ... AO40: =IF(R40=R$2,1,0) -> 0 | AQ40: =COUNTIF($C$2:$R$2, T40) -> 0 | AR40: =COUNTIF($C$2:$R$2, U40) -> 1
B41: Hill, Jim | C41: Browns* | D41: Colts | E41: Bills | F41: Bears | G41: Bengals | H41: Cardinals | I41: Rams | J41: Packers | K41: Ravens | L41: Cowboys | M41: Vikings | N41: Chiefs | O41: Broncos | P41: Seahawks | Q41: Lions | R41: Saints | T41: Ravens | U41: Vikings | W41: =SUM(Z41:AO41) -> 10 | X41: =SUM(AQ41:AR41) -> 2 | Z41: 1 | AA41: =IF(D41=D$2,1,0) -> 1 | AB41: =IF(E41=E$2,1,0) -> 0 | AC41: =IF(F41=F$2,1,0) -> 1 | AD41: =IF(G41=G$2,1,0) -> 0 | AE41: =IF(H41=H$2,1,0) -> 0 | AF41: =IF(I41=I$2,1,0) -> 1 | AG41: =IF(J41=J$2,1,0) -> 1 | AH41: =IF(K41=K$2,1,0) -> 1 | ... AO41: =IF(R41=R$2,1,0) -> 0 | AQ41: =COUNTIF($C$2:$R$2, T41) -> 1 | AR41: =COUNTIF($C$2:$R$2, U41) -> 1
