Workbook

Sheet Rank2026
B1: 2026 Week 07
B2: Name | C2: Correct | D2: Total | E2: % | F2: Tiebreak | H2: W01 | I2: W02 | J2: W03 | K2: W04 | L2: W05 | M2: W06 | N2: W07 | O2: W08 | P2: W09 | Q2: W10 | R2: W11 | S2: W12 | T2: W13 | U2: W14 | V2: W15 | W2: W16 | X2: W17 | Y2: W18 | Z2: W19 | AA2: Total | AC2: G01 | AD2: G02 | AE2: G03 | AF2: G04 | AG2: G05 | AH2: G06 | AI2: G07 | AJ2: G08 | AK2: G09 | AL2: G10 | AM2: G11 | AN2: G12 | AO2: G13 | AP2: G14 | AQ2: G15 | AR2: G16 | AS2: G17 | AT2: G18 | AU2: G19 | AV2: Total | AX2: No <50% Wks
A3: 1 | B3: Seamands, Jorden | C3: =AA3 -> 68.5 | D3: =$AA$90 -> 107 | E3: =C3/D3 -> 0.64018692 | F3: =AV3 -> 10 | H3: =VLOOKUP(B3,'W01'!$B$4:$X$100,22, FALSE) -> 11 | I3: =VLOOKUP(B3,'W02'!$B$4:$X$100,22, FALSE) -> 11 | J3: =VLOOKUP(B3,'W03'!$B$4:$X$100,22, FALSE) -> 9 | K3: =VLOOKUP(B3,'W04'!$B$4:$X$100,22, FALSE) -> 11 | L3: =VLOOKUP(B3,'W05'!$B$4:$X$100,22, FALSE) -> 9.5 | M3: =VLOOKUP(B3,'W06'!$B$4:$X$100,22, FALSE) -> 8 | N3: =VLOOKUP(B3,'W07'!$B$4:$X$100,22, FALSE) -> 9 | AA3: =SUM(H3:Z3) -> 68.5 | AC3: =VLOOKUP(B3,'W01'!$B$4:$X$100,23, FALSE) -> 1 | AD3: =VLOOKUP(B3,'W02'!$B$4:$X$100,23, FALSE) -> 2 | AE3: =VLOOKUP(B3,'W03'!$B$4:$X$100,23, FALSE) -> 2 | AF3: =VLOOKUP(B3,'W04'!$B$4:$X$100,23, FALSE) -> 1 | AG3: =VLOOKUP(B3,'W05'!$B$4:$X$100,23, FALSE) -> 2 | AH3: =VLOOKUP(B3,'W06'!$B$4:$X$100,23, FALSE) -> 1 | AI3: =VLOOKUP(B3,'W07'!$B$4:$X$100,23, FALSE) -> 1 | AV3: =SUM(AC3:AU3) -> 10 | AX3: Y
A4: 2 | B4: Seamands, Natalie | C4: =AA4 -> 68.5 | D4: =$AA$90 -> 107 | E4: =C4/D4 -> 0.64018692 | F4: =AV4 -> 10 | H4: =VLOOKUP(B4,'W01'!$B$4:$X$100,22, FALSE) -> 12 | I4: =VLOOKUP(B4,'W02'!$B$4:$X$100,22, FALSE) -> 10 | J4: =VLOOKUP(B4,'W03'!$B$4:$X$100,22, FALSE) -> 9 | K4: =VLOOKUP(B4,'W04'!$B$4:$X$100,22, FALSE) -> 9 | L4: =VLOOKUP(B4,'W05'!$B$4:$X$100,22, FALSE) -> 10.5 | M4: =VLOOKUP(B4,'W06'!$B$4:$X$100,22, FALSE) -> 8 | N4: =VLOOKUP(B4,'W07'!$B$4:$X$100,22, FALSE) -> 10 | AA4: =SUM(H4:Z4) -> 68.5 | AC4: =VLOOKUP(B4,'W01'!$B$4:$X$100,23, FALSE) -> 2 | AD4: =VLOOKUP(B4,'W02'!$B$4:$X$100,23, FALSE) -> 1 | AE4: =VLOOKUP(B4,'W03'!$B$4:$X$100,23, FALSE) -> 1 | AF4: =VLOOKUP(B4,'W04'!$B$4:$X$100,23, FALSE) -> 2 | AG4: =VLOOKUP(B4,'W05'!$B$4:$X$100,23, FALSE) -> 2 | AH4: =VLOOKUP(B4,'W06'!$B$4:$X$100,23, FALSE) -> 1 | AI4: =VLOOKUP(B4,'W07'!$B$4:$X$100,23, FALSE) -> 1 | AV4: =SUM(AC4:AU4) -> 10 | AX4: Y
A5: 3 | B5: Seamands, Nathan | C5: =AA5 -> 67.5 | D5: =$AA$90 -> 107 | E5: =C5/D5 -> 0.63084112 | F5: =AV5 -> 11 | H5: =VLOOKUP(B5,'W01'!$B$4:$X$100,22, FALSE) -> 12 | I5: =VLOOKUP(B5,'W02'!$B$4:$X$100,22, FALSE) -> 10 | J5: =VLOOKUP(B5,'W03'!$B$4:$X$100,22, FALSE) -> 8 | K5: =VLOOKUP(B5,'W04'!$B$4:$X$100,22, FALSE) -> 11 | L5: =VLOOKUP(B5,'W05'!$B$4:$X$100,22, FALSE) -> 9.5 | M5: =VLOOKUP(B5,'W06'!$B$4:$X$100,22, FALSE) -> 9 | N5: =VLOOKUP(B5,'W07'!$B$4:$X$100,22, FALSE) -> 8 | AA5: =SUM(H5:Z5) -> 67.5 | AC5: =VLOOKUP(B5,'W01'!$B$4:$X$100,23, FALSE) -> 1 | AD5: =VLOOKUP(B5,'W02'!$B$4:$X$100,23, FALSE) -> 2 | AE5: =VLOOKUP(B5,'W03'!$B$4:$X$100,23, FALSE) -> 2 | AF5: =VLOOKUP(B5,'W04'!$B$4:$X$100,23, FALSE) -> 2 | AG5: =VLOOKUP(B5,'W05'!$B$4:$X$100,23, FALSE) -> 2 | AH5: =VLOOKUP(B5,'W06'!$B$4:$X$100,23, FALSE) -> 1 | AI5: =VLOOKUP(B5,'W07'!$B$4:$X$100,23, FALSE) -> 1 | AV5: =SUM(AC5:AU5) -> 11 | AX5: Y
A6: 4 | B6: Howard, Bill | C6: =AA6 -> 67.5 | D6: =$AA$90 -> 107 | E6: =C6/D6 -> 0.63084112 | F6: =AV6 -> 10 | H6: =VLOOKUP(B6,'W01'!$B$4:$X$100,22, FALSE) -> 11 | I6: =VLOOKUP(B6,'W02'!$B$4:$X$100,22, FALSE) -> 11 | J6: =VLOOKUP(B6,'W03'!$B$4:$X$100,22, FALSE) -> 6 | K6: =VLOOKUP(B6,'W04'!$B$4:$X$100,22, FALSE) -> 12 | L6: =VLOOKUP(B6,'W05'!$B$4:$X$100,22, FALSE) -> 11.5 | M6: =VLOOKUP(B6,'W06'!$B$4:$X$100,22, FALSE) -> 7 | N6: =VLOOKUP(B6,'W07'!$B$4:$X$100,22, FALSE) -> 9 | AA6: =SUM(H6:Z6) -> 67.5 | AC6: =VLOOKUP(B6,'W01'!$B$4:$X$100,23, FALSE) -> 1 | AD6: =VLOOKUP(B6,'W02'!$B$4:$X$100,23, FALSE) -> 2 | AE6: =VLOOKUP(B6,'W03'!$B$4:$X$100,23, FALSE) -> 2 | AF6: =VLOOKUP(B6,'W04'!$B$4:$X$100,23, FALSE) -> 1 | AG6: =VLOOKUP(B6,'W05'!$B$4:$X$100,23, FALSE) -> 1 | AH6: =VLOOKUP(B6,'W06'!$B$4:$X$100,23, FALSE) -> 2 | AI6: =VLOOKUP(B6,'W07'!$B$4:$X$100,23, FALSE) -> 1 | AV6: =SUM(AC6:AU6) -> 10
A7: 5 | B7: Meyer, Pat | C7: =AA7 -> 67.5 | D7: =$AA$90 -> 107 | E7: =C7/D7 -> 0.63084112 | F7: =AV7 -> 10 | H7: =VLOOKUP(B7,'W01'!$B$4:$X$100,22, FALSE) -> 11 | I7: =VLOOKUP(B7,'W02'!$B$4:$X$100,22, FALSE) -> 10 | J7: =VLOOKUP(B7,'W03'!$B$4:$X$100,22, FALSE) -> 9 | K7: =VLOOKUP(B7,'W04'!$B$4:$X$100,22, FALSE) -> 10 | L7: =VLOOKUP(B7,'W05'!$B$4:$X$100,22, FALSE) -> 9.5 | M7: =VLOOKUP(B7,'W06'!$B$4:$X$100,22, FALSE) -> 8 | N7: =VLOOKUP(B7,'W07'!$B$4:$X$100,22, FALSE) -> 10 | AA7: =SUM(H7:Z7) -> 67.5 | AC7: =VLOOKUP(B7,'W01'!$B$4:$X$100,23, FALSE) -> 1 | AD7: =VLOOKUP(B7,'W02'!$B$4:$X$100,23, FALSE) -> 2 | AE7: =VLOOKUP(B7,'W03'!$B$4:$X$100,23, FALSE) -> 2 | AF7: =VLOOKUP(B7,'W04'!$B$4:$X$100,23, FALSE) -> 2 | AG7: =VLOOKUP(B7,'W05'!$B$4:$X$100,23, FALSE) -> 1 | AH7: =VLOOKUP(B7,'W06'!$B$4:$X$100,23, FALSE) -> 1 | AI7: =VLOOKUP(B7,'W07'!$B$4:$X$100,23, FALSE) -> 1 | AV7: =SUM(AC7:AU7) -> 10 | AX7: Y
A8: 6 | B8: Carrasco, Marsha | C8: =AA8 -> 65.5 | D8: =$AA$90 -> 107 | E8: =C8/D8 -> 0.61214953 | F8: =AV8 -> 10 | H8: =VLOOKUP(B8,'W01'!$B$4:$X$100,22, FALSE) -> 10 | I8: =VLOOKUP(B8,'W02'!$B$4:$X$100,22, FALSE) -> 11 | J8: =VLOOKUP(B8,'W03'!$B$4:$X$100,22, FALSE) -> 8 | K8: =VLOOKUP(B8,'W04'!$B$4:$X$100,22, FALSE) -> 11 | L8: =VLOOKUP(B8,'W05'!$B$4:$X$100,22, FALSE) -> 8.5 | M8: =VLOOKUP(B8,'W06'!$B$4:$X$100,22, FALSE) -> 8 | N8: =VLOOKUP(B8,'W07'!$B$4:$X$100,22, FALSE) -> 9 | AA8: =SUM(H8:Z8) -> 65.5 | AC8: =VLOOKUP(B8,'W01'!$B$4:$X$100,23, FALSE) -> 1 | AD8: =VLOOKUP(B8,'W02'!$B$4:$X$100,23, FALSE) -> 1 | AE8: =VLOOKUP(B8,'W03'!$B$4:$X$100,23, FALSE) -> 2 | AF8: =VLOOKUP(B8,'W04'!$B$4:$X$100,23, FALSE) -> 2 | AG8: =VLOOKUP(B8,'W05'!$B$4:$X$100,23, FALSE) -> 2 | AH8: =VLOOKUP(B8,'W06'!$B$4:$X$100,23, FALSE) -> 1 | AI8: =VLOOKUP(B8,'W07'!$B$4:$X$100,23, FALSE) -> 1 | AV8: =SUM(AC8:AU8) -> 10 | AX8: Y
A9: 7 | B9: Curran, Kevin | C9: =AA9 -> 65.5 | D9: =$AA$90 -> 107 | E9: =C9/D9 -> 0.61214953 | F9: =AV9 -> 10 | H9: =VLOOKUP(B9,'W01'!$B$4:$X$100,22, FALSE) -> 11 | I9: =VLOOKUP(B9,'W02'!$B$4:$X$100,22, FALSE) -> 11 | J9: =VLOOKUP(B9,'W03'!$B$4:$X$100,22, FALSE) -> 7 | K9: =VLOOKUP(B9,'W04'!$B$4:$X$100,22, FALSE) -> 8 | L9: =VLOOKUP(B9,'W05'!$B$4:$X$100,22, FALSE) -> 11.5 | M9: =VLOOKUP(B9,'W06'!$B$4:$X$100,22, FALSE) -> 8 | N9: =VLOOKUP(B9,'W07'!$B$4:$X$100,22, FALSE) -> 9 | AA9: =SUM(H9:Z9) -> 65.5 | AC9: =VLOOKUP(B9,'W01'!$B$4:$X$100,23, FALSE) -> 1 | AD9: =VLOOKUP(B9,'W02'!$B$4:$X$100,23, FALSE) -> 1 | AE9: =VLOOKUP(B9,'W03'!$B$4:$X$100,23, FALSE) -> 1 | AF9: =VLOOKUP(B9,'W04'!$B$4:$X$100,23, FALSE) -> 2 | AG9: =VLOOKUP(B9,'W05'!$B$4:$X$100,23, FALSE) -> 2 | AH9: =VLOOKUP(B9,'W06'!$B$4:$X$100,23, FALSE) -> 2 | AI9: =VLOOKUP(B9,'W07'!$B$4:$X$100,23, FALSE) -> 1 | AV9: =SUM(AC9:AU9) -> 10
A10: 8 | B10: Honeycutt, Wanda | C10: =AA10 -> 65.5 | D10: =$AA$90 -> 107 | E10: =C10/D10 -> 0.61214953 | F10: =AV10 -> 9 | H10: =VLOOKUP(B10,'W01'!$B$4:$X$100,22, FALSE) -> 11 | I10: =VLOOKUP(B10,'W02'!$B$4:$X$100,22, FALSE) -> 11 | J10: =VLOOKUP(B10,'W03'!$B$4:$X$100,22, FALSE) -> 8 | K10: =VLOOKUP(B10,'W04'!$B$4:$X$100,22, FALSE) -> 9 | L10: =VLOOKUP(B10,'W05'!$B$4:$X$100,22, FALSE) -> 9.5 | M10: =VLOOKUP(B10,'W06'!$B$4:$X$100,22, FALSE) -> 8 | N10: =VLOOKUP(B10,'W07'!$B$4:$X$100,22, FALSE) -> 9 | AA10: =SUM(H10:Z10) -> 65.5 | AC10: =VLOOKUP(B10,'W01'!$B$4:$X$100,23, FALSE) -> 2 | AD10: =VLOOKUP(B10,'W02'!$B$4:$X$100,23, FALSE) -> 1 | AE10: =VLOOKUP(B10,'W03'!$B$4:$X$100,23, FALSE) -> 1 | AF10: =VLOOKUP(B10,'W04'!$B$4:$X$100,23, FALSE) -> 1 | AG10: =VLOOKUP(B10,'W05'!$B$4:$X$100,23, FALSE) -> 2 | AH10: =VLOOKUP(B10,'W06'!$B$4:$X$100,23, FALSE) -> 1 | AI10: =VLOOKUP(B10,'W07'!$B$4:$X$100,23, FALSE) -> 1 | AV10: =SUM(AC10:AU10) -> 9 | AX10: Y
A11: 9 | B11: Honeycutt, Terry | C11: =AA11 -> 65.5 | D11: =$AA$90 -> 107 | E11: =C11/D11 -> 0.61214953 | F11: =AV11 -> 8 | H11: =VLOOKUP(B11,'W01'!$B$4:$X$100,22, FALSE) -> 12 | I11: =VLOOKUP(B11,'W02'!$B$4:$X$100,22, FALSE) -> 10 | J11: =VLOOKUP(B11,'W03'!$B$4:$X$100,22, FALSE) -> 8 | K11: =VLOOKUP(B11,'W04'!$B$4:$X$100,22, FALSE) -> 10 | L11: =VLOOKUP(B11,'W05'!$B$4:$X$100,22, FALSE) -> 10.5 | M11: =VLOOKUP(B11,'W06'!$B$4:$X$100,22, FALSE) -> 7 | N11: =VLOOKUP(B11,'W07'!$B$4:$X$100,22, FALSE) -> 8 | AA11: =SUM(H11:Z11) -> 65.5 | AC11: =VLOOKUP(B11,'W01'!$B$4:$X$100,23, FALSE) -> 1 | AD11: =VLOOKUP(B11,'W02'!$B$4:$X$100,23, FALSE) -> 2 | AE11: =VLOOKUP(B11,'W03'!$B$4:$X$100,23, FALSE) -> 1 | AF11: =VLOOKUP(B11,'W04'!$B$4:$X$100,23, FALSE) -> 2 | AG11: =VLOOKUP(B11,'W05'!$B$4:$X$100,23, FALSE) -> 1 | AH11: =VLOOKUP(B11,'W06'!$B$4:$X$100,23, FALSE) -> 1 | AI11: =VLOOKUP(B11,'W07'!$B$4:$X$100,23, FALSE) -> 0 | AV11: =SUM(AC11:AU11) -> 8 | AX11: Y
A12: 10 | B12: Smith, Brad | C12: =AA12 -> 65.5 | D12: =$AA$90 -> 107 | E12: =C12/D12 -> 0.61214953 | F12: =AV12 -> 8 | H12: =VLOOKUP(B12,'W01'!$B$4:$X$100,22, FALSE) -> 12 | I12: =VLOOKUP(B12,'W02'!$B$4:$X$100,22, FALSE) -> 11 | J12: =VLOOKUP(B12,'W03'!$B$4:$X$100,22, FALSE) -> 10 | K12: =VLOOKUP(B12,'W04'!$B$4:$X$100,22, FALSE) -> 10 | L12: =VLOOKUP(B12,'W05'!$B$4:$X$100,22, FALSE) -> 9.5 | M12: =VLOOKUP(B12,'W06'!$B$4:$X$100,22, FALSE) -> 5 | N12: =VLOOKUP(B12,'W07'!$B$4:$X$100,22, FALSE) -> 8 | AA12: =SUM(H12:Z12) -> 65.5 | AC12: =VLOOKUP(B12,'W01'!$B$4:$X$100,23, FALSE) -> 1 | AD12: =VLOOKUP(B12,'W02'!$B$4:$X$100,23, FALSE) -> 2 | AE12: =VLOOKUP(B12,'W03'!$B$4:$X$100,23, FALSE) -> 1 | AF12: =VLOOKUP(B12,'W04'!$B$4:$X$100,23, FALSE) -> 2 | AG12: =VLOOKUP(B12,'W05'!$B$4:$X$100,23, FALSE) -> 1 | AH12: =VLOOKUP(B12,'W06'!$B$4:$X$100,23, FALSE) -> 0 | AI12: =VLOOKUP(B12,'W07'!$B$4:$X$100,23, FALSE) -> 1 | AV12: =SUM(AC12:AU12) -> 8
A13: 11 | B13: Ray, Bobby | C13: =AA13 -> 65.5 | D13: =$AA$90 -> 107 | E13: =C13/D13 -> 0.61214953 | F13: =AV13 -> 7 | H13: =VLOOKUP(B13,'W01'!$B$4:$X$100,22, FALSE) -> 11 | I13: =VLOOKUP(B13,'W02'!$B$4:$X$100,22, FALSE) -> 10 | J13: =VLOOKUP(B13,'W03'!$B$4:$X$100,22, FALSE) -> 9 | K13: =VLOOKUP(B13,'W04'!$B$4:$X$100,22, FALSE) -> 9 | L13: =VLOOKUP(B13,'W05'!$B$4:$X$100,22, FALSE) -> 6.5 | M13: =VLOOKUP(B13,'W06'!$B$4:$X$100,22, FALSE) -> 10 | N13: =VLOOKUP(B13,'W07'!$B$4:$X$100,22, FALSE) -> 10 | AA13: =SUM(H13:Z13) -> 65.5 | AC13: =VLOOKUP(B13,'W01'!$B$4:$X$100,23, FALSE) -> 0 | AD13: =VLOOKUP(B13,'W02'!$B$4:$X$100,23, FALSE) -> 1 | AE13: =VLOOKUP(B13,'W03'!$B$4:$X$100,23, FALSE) -> 1 | AF13: =VLOOKUP(B13,'W04'!$B$4:$X$100,23, FALSE) -> 2 | AG13: =VLOOKUP(B13,'W05'!$B$4:$X$100,23, FALSE) -> 2 | AH13: =VLOOKUP(B13,'W06'!$B$4:$X$100,23, FALSE) -> 1 | AI13: =VLOOKUP(B13,'W07'!$B$4:$X$100,23, FALSE) -> 0 | AV13: =SUM(AC13:AU13) -> 7
A14: 12 | B14: Baker, Ruben | C14: =AA14 -> 64.5 | D14: =$AA$90 -> 107 | E14: =C14/D14 -> 0.60280374 | F14: =AV14 -> 12 | H14: =VLOOKUP(B14,'W01'!$B$4:$X$100,22, FALSE) -> 11 | I14: =VLOOKUP(B14,'W02'!$B$4:$X$100,22, FALSE) -> 10 | J14: =VLOOKUP(B14,'W03'!$B$4:$X$100,22, FALSE) -> 6 | K14: =VLOOKUP(B14,'W04'!$B$4:$X$100,22, FALSE) -> 12 | L14: =VLOOKUP(B14,'W05'!$B$4:$X$100,22, FALSE) -> 9.5 | M14: =VLOOKUP(B14,'W06'!$B$4:$X$100,22, FALSE) -> 7 | N14: =VLOOKUP(B14,'W07'!$B$4:$X$100,22, FALSE) -> 9 | AA14: =SUM(H14:Z14) -> 64.5 | AC14: =VLOOKUP(B14,'W01'!$B$4:$X$100,23, FALSE) -> 1 | AD14: =VLOOKUP(B14,'W02'!$B$4:$X$100,23, FALSE) -> 2 | AE14: =VLOOKUP(B14,'W03'!$B$4:$X$100,23, FALSE) -> 2 | AF14: =VLOOKUP(B14,'W04'!$B$4:$X$100,23, FALSE) -> 1 | AG14: =VLOOKUP(B14,'W05'!$B$4:$X$100,23, FALSE) -> 2 | AH14: =VLOOKUP(B14,'W06'!$B$4:$X$100,23, FALSE) -> 2 | AI14: =VLOOKUP(B14,'W07'!$B$4:$X$100,23, FALSE) -> 2 | AV14: =SUM(AC14:AU14) -> 12
A15: 13 | B15: Greenwood, Douglas | C15: =AA15 -> 64.5 | D15: =$AA$90 -> 107 | E15: =C15/D15 -> 0.60280374 | F15: =AV15 -> 10 | H15: =VLOOKUP(B15,'W01'!$B$4:$X$100,22, FALSE) -> 11 | I15: =VLOOKUP(B15,'W02'!$B$4:$X$100,22, FALSE) -> 11 | J15: =VLOOKUP(B15,'W03'!$B$4:$X$100,22, FALSE) -> 8 | K15: =VLOOKUP(B15,'W04'!$B$4:$X$100,22, FALSE) -> 12 | L15: =VLOOKUP(B15,'W05'!$B$4:$X$100,22, FALSE) -> 8.5 | M15: =VLOOKUP(B15,'W06'!$B$4:$X$100,22, FALSE) -> 8 | N15: =VLOOKUP(B15,'W07'!$B$4:$X$100,22, FALSE) -> 6 | AA15: =SUM(H15:Z15) -> 64.5 | AC15: =VLOOKUP(B15,'W01'!$B$4:$X$100,23, FALSE) -> 1 | AD15: =VLOOKUP(B15,'W02'!$B$4:$X$100,23, FALSE) -> 1 | AE15: =VLOOKUP(B15,'W03'!$B$4:$X$100,23, FALSE) -> 2 | AF15: =VLOOKUP(B15,'W04'!$B$4:$X$100,23, FALSE) -> 1 | AG15: =VLOOKUP(B15,'W05'!$B$4:$X$100,23, FALSE) -> 2 | AH15: =VLOOKUP(B15,'W06'!$B$4:$X$100,23, FALSE) -> 2 | AI15: =VLOOKUP(B15,'W07'!$B$4:$X$100,23, FALSE) -> 1 | AV15: =SUM(AC15:AU15) -> 10
A16: 14 | B16: Seamands, Byron | C16: =AA16 -> 64.5 | D16: =$AA$90 -> 107 | E16: =C16/D16 -> 0.60280374 | F16: =AV16 -> 9 | H16: =VLOOKUP(B16,'W01'!$B$4:$X$100,22, FALSE) -> 12 | I16: =VLOOKUP(B16,'W02'!$B$4:$X$100,22, FALSE) -> 11 | J16: =VLOOKUP(B16,'W03'!$B$4:$X$100,22, FALSE) -> 7 | K16: =VLOOKUP(B16,'W04'!$B$4:$X$100,22, FALSE) -> 11 | L16: =VLOOKUP(B16,'W05'!$B$4:$X$100,22, FALSE) -> 9.5 | M16: =VLOOKUP(B16,'W06'!$B$4:$X$100,22, FALSE) -> 6 | N16: =VLOOKUP(B16,'W07'!$B$4:$X$100,22, FALSE) -> 8 | AA16: =SUM(H16:Z16) -> 64.5 | AC16: =VLOOKUP(B16,'W01'!$B$4:$X$100,23, FALSE) -> 1 | AD16: =VLOOKUP(B16,'W02'!$B$4:$X$100,23, FALSE) -> 1 | AE16: =VLOOKUP(B16,'W03'!$B$4:$X$100,23, FALSE) -> 2 | AF16: =VLOOKUP(B16,'W04'!$B$4:$X$100,23, FALSE) -> 2 | AG16: =VLOOKUP(B16,'W05'!$B$4:$X$100,23, FALSE) -> 1 | AH16: =VLOOKUP(B16,'W06'!$B$4:$X$100,23, FALSE) -> 1 | AI16: =VLOOKUP(B16,'W07'!$B$4:$X$100,23, FALSE) -> 1 | AV16: =SUM(AC16:AU16) -> 9
A17: 15 | B17: Rushing, Luke | C17: =AA17 -> 64.5 | D17: =$AA$90 -> 107 | E17: =C17/D17 -> 0.60280374 | F17: =AV17 -> 8 | H17: =VLOOKUP(B17,'W01'!$B$4:$X$100,22, FALSE) -> 10 | I17: =VLOOKUP(B17,'W02'!$B$4:$X$100,22, FALSE) -> 13 | J17: =VLOOKUP(B17,'W03'!$B$4:$X$100,22, FALSE) -> 7 | K17: =VLOOKUP(B17,'W04'!$B$4:$X$100,22, FALSE) -> 9 | L17: =VLOOKUP(B17,'W05'!$B$4:$X$100,22, FALSE) -> 7.5 | M17: =VLOOKUP(B17,'W06'!$B$4:$X$100,22, FALSE) -> 9 | N17: =VLOOKUP(B17,'W07'!$B$4:$X$100,22, FALSE) -> 9 | AA17: =SUM(H17:Z17) -> 64.5 | AC17: =VLOOKUP(B17,'W01'!$B$4:$X$100,23, FALSE) -> 1 | AD17: =VLOOKUP(B17,'W02'!$B$4:$X$100,23, FALSE) -> 2 | AE17: =VLOOKUP(B17,'W03'!$B$4:$X$100,23, FALSE) -> 1 | AF17: =VLOOKUP(B17,'W04'!$B$4:$X$100,23, FALSE) -> 0 | AG17: =VLOOKUP(B17,'W05'!$B$4:$X$100,23, FALSE) -> 2 | AH17: =VLOOKUP(B17,'W06'!$B$4:$X$100,23, FALSE) -> 2 | AI17: =VLOOKUP(B17,'W07'!$B$4:$X$100,23, FALSE) -> 0 | AV17: =SUM(AC17:AU17) -> 8
A18: 16 | B18: Seamands, Mike | C18: =AA18 -> 64.5 | D18: =$AA$90 -> 107 | E18: =C18/D18 -> 0.60280374 | F18: =AV18 -> 8 | H18: =VLOOKUP(B18,'W01'!$B$4:$X$100,22, FALSE) -> 9 | I18: =VLOOKUP(B18,'W02'!$B$4:$X$100,22, FALSE) -> 11 | J18: =VLOOKUP(B18,'W03'!$B$4:$X$100,22, FALSE) -> 8 | K18: =VLOOKUP(B18,'W04'!$B$4:$X$100,22, FALSE) -> 11 | L18: =VLOOKUP(B18,'W05'!$B$4:$X$100,22, FALSE) -> 9.5 | M18: =VLOOKUP(B18,'W06'!$B$4:$X$100,22, FALSE) -> 7 | N18: =VLOOKUP(B18,'W07'!$B$4:$X$100,22, FALSE) -> 9 | AA18: =SUM(H18:Z18) -> 64.5 | AC18: =VLOOKUP(B18,'W01'!$B$4:$X$100,23, FALSE) -> 1 | AD18: =VLOOKUP(B18,'W02'!$B$4:$X$100,23, FALSE) -> 2 | AE18: =VLOOKUP(B18,'W03'!$B$4:$X$100,23, FALSE) -> 2 | AF18: =VLOOKUP(B18,'W04'!$B$4:$X$100,23, FALSE) -> 2 | AG18: =VLOOKUP(B18,'W05'!$B$4:$X$100,23, FALSE) -> 0 | AH18: =VLOOKUP(B18,'W06'!$B$4:$X$100,23, FALSE) -> 1 | AI18: =VLOOKUP(B18,'W07'!$B$4:$X$100,23, FALSE) -> 0 | AV18: =SUM(AC18:AU18) -> 8 | AX18: Y
A19: 17 | B19: Smith, Payton | C19: =AA19 -> 64.5 | D19: =$AA$90 -> 107 | E19: =C19/D19 -> 0.60280374 | F19: =AV19 -> 8 | H19: =VLOOKUP(B19,'W01'!$B$4:$X$100,22, FALSE) -> 10 | I19: =VLOOKUP(B19,'W02'!$B$4:$X$100,22, FALSE) -> 12 | J19: =VLOOKUP(B19,'W03'!$B$4:$X$100,22, FALSE) -> 8 | K19: =VLOOKUP(B19,'W04'!$B$4:$X$100,22, FALSE) -> 10 | L19: =VLOOKUP(B19,'W05'!$B$4:$X$100,22, FALSE) -> 11.5 | M19: =VLOOKUP(B19,'W06'!$B$4:$X$100,22, FALSE) -> 7 | N19: =VLOOKUP(B19,'W07'!$B$4:$X$100,22, FALSE) -> 6 | AA19: =SUM(H19:Z19) -> 64.5 | AC19: =VLOOKUP(B19,'W01'!$B$4:$X$100,23, FALSE) -> 2 | AD19: =VLOOKUP(B19,'W02'!$B$4:$X$100,23, FALSE) -> 1 | AE19: =VLOOKUP(B19,'W03'!$B$4:$X$100,23, FALSE) -> 1 | AF19: =VLOOKUP(B19,'W04'!$B$4:$X$100,23, FALSE) -> 2 | AG19: =VLOOKUP(B19,'W05'!$B$4:$X$100,23, FALSE) -> 2 | AH19: =VLOOKUP(B19,'W06'!$B$4:$X$100,23, FALSE) -> 0 | AI19: =VLOOKUP(B19,'W07'!$B$4:$X$100,23, FALSE) -> 0 | AV19: =SUM(AC19:AU19) -> 8
A20: 18 | B20: Manzala, Jerome | C20: =AA20 -> 64.5 | D20: =$AA$90 -> 107 | E20: =C20/D20 -> 0.60280374 | F20: =AV20 -> 7 | H20: =VLOOKUP(B20,'W01'!$B$4:$X$100,22, FALSE) -> 6 | I20: =VLOOKUP(B20,'W02'!$B$4:$X$100,22, FALSE) -> 12 | J20: =VLOOKUP(B20,'W03'!$B$4:$X$100,22, FALSE) -> 10 | K20: =VLOOKUP(B20,'W04'!$B$4:$X$100,22, FALSE) -> 12 | L20: =VLOOKUP(B20,'W05'!$B$4:$X$100,22, FALSE) -> 9.5 | M20: =VLOOKUP(B20,'W06'!$B$4:$X$100,22, FALSE) -> 7 | N20: =VLOOKUP(B20,'W07'!$B$4:$X$100,22, FALSE) -> 8 | AA20: =SUM(H20:Z20) -> 64.5 | AC20: =VLOOKUP(B20,'W01'!$B$4:$X$100,23, FALSE) -> 0 | AD20: =VLOOKUP(B20,'W02'!$B$4:$X$100,23, FALSE) -> 2 | AE20: =VLOOKUP(B20,'W03'!$B$4:$X$100,23, FALSE) -> 1 | AF20: =VLOOKUP(B20,'W04'!$B$4:$X$100,23, FALSE) -> 1 | AG20: =VLOOKUP(B20,'W05'!$B$4:$X$100,23, FALSE) -> 1 | AH20: =VLOOKUP(B20,'W06'!$B$4:$X$100,23, FALSE) -> 1 | AI20: =VLOOKUP(B20,'W07'!$B$4:$X$100,23, FALSE) -> 1 | AV20: =SUM(AC20:AU20) -> 7 | AX20: Y
A21: 19 | B21: Greenwood, Nathan | C21: =AA21 -> 63.5 | D21: =$AA$90 -> 107 | E21: =C21/D21 -> 0.59345794 | F21: =AV21 -> 11 | H21: =VLOOKUP(B21,'W01'!$B$4:$X$100,22, FALSE) -> 9 | I21: =VLOOKUP(B21,'W02'!$B$4:$X$100,22, FALSE) -> 12 | J21: =VLOOKUP(B21,'W03'!$B$4:$X$100,22, FALSE) -> 8 | K21: =VLOOKUP(B21,'W04'!$B$4:$X$100,22, FALSE) -> 10 | L21: =VLOOKUP(B21,'W05'!$B$4:$X$100,22, FALSE) -> 8.5 | M21: =VLOOKUP(B21,'W06'!$B$4:$X$100,22, FALSE) -> 8 | N21: =VLOOKUP(B21,'W07'!$B$4:$X$100,22, FALSE) -> 8 | AA21: =SUM(H21:Z21) -> 63.5 | AC21: =VLOOKUP(B21,'W01'!$B$4:$X$100,23, FALSE) -> 1 | AD21: =VLOOKUP(B21,'W02'!$B$4:$X$100,23, FALSE) -> 2 | AE21: =VLOOKUP(B21,'W03'!$B$4:$X$100,23, FALSE) -> 1 | AF21: =VLOOKUP(B21,'W04'!$B$4:$X$100,23, FALSE) -> 2 | AG21: =VLOOKUP(B21,'W05'!$B$4:$X$100,23, FALSE) -> 2 | AH21: =VLOOKUP(B21,'W06'!$B$4:$X$100,23, FALSE) -> 2 | AI21: =VLOOKUP(B21,'W07'!$B$4:$X$100,23, FALSE) -> 1 | AV21: =SUM(AC21:AU21) -> 11 | AX21: Y
A22: 20 | B22: Southerland, Brett | C22: =AA22 -> 63.5 | D22: =$AA$90 -> 107 | E22: =C22/D22 -> 0.59345794 | F22: =AV22 -> 11 | H22: =VLOOKUP(B22,'W01'!$B$4:$X$100,22, FALSE) -> 10 | I22: =VLOOKUP(B22,'W02'!$B$4:$X$100,22, FALSE) -> 10 | J22: =VLOOKUP(B22,'W03'!$B$4:$X$100,22, FALSE) -> 8 | K22: =VLOOKUP(B22,'W04'!$B$4:$X$100,22, FALSE) -> 10 | L22: =VLOOKUP(B22,'W05'!$B$4:$X$100,22, FALSE) -> 10.5 | M22: =VLOOKUP(B22,'W06'!$B$4:$X$100,22, FALSE) -> 9 | N22: =VLOOKUP(B22,'W07'!$B$4:$X$100,22, FALSE) -> 6 | AA22: =SUM(H22:Z22) -> 63.5 | AC22: =VLOOKUP(B22,'W01'!$B$4:$X$100,23, FALSE) -> 1 | AD22: =VLOOKUP(B22,'W02'!$B$4:$X$100,23, FALSE) -> 2 | AE22: =VLOOKUP(B22,'W03'!$B$4:$X$100,23, FALSE) -> 1 | AF22: =VLOOKUP(B22,'W04'!$B$4:$X$100,23, FALSE) -> 2 | AG22: =VLOOKUP(B22,'W05'!$B$4:$X$100,23, FALSE) -> 2 | AH22: =VLOOKUP(B22,'W06'!$B$4:$X$100,23, FALSE) -> 2 | AI22: =VLOOKUP(B22,'W07'!$B$4:$X$100,23, FALSE) -> 1 | AV22: =SUM(AC22:AU22) -> 11
A23: 21 | B23: Carrasco, Eli | C23: =AA23 -> 63.5 | D23: =$AA$90 -> 107 | E23: =C23/D23 -> 0.59345794 | F23: =AV23 -> 10 | H23: =VLOOKUP(B23,'W01'!$B$4:$X$100,22, FALSE) -> 10 | I23: =VLOOKUP(B23,'W02'!$B$4:$X$100,22, FALSE) -> 12 | J23: =VLOOKUP(B23,'W03'!$B$4:$X$100,22, FALSE) -> 7 | K23: =VLOOKUP(B23,'W04'!$B$4:$X$100,22, FALSE) -> 11 | L23: =VLOOKUP(B23,'W05'!$B$4:$X$100,22, FALSE) -> 9.5 | M23: =VLOOKUP(B23,'W06'!$B$4:$X$100,22, FALSE) -> 6 | N23: =VLOOKUP(B23,'W07'!$B$4:$X$100,22, FALSE) -> 8 | AA23: =SUM(H23:Z23) -> 63.5 | AC23: =VLOOKUP(B23,'W01'!$B$4:$X$100,23, FALSE) -> 1 | AD23: =VLOOKUP(B23,'W02'!$B$4:$X$100,23, FALSE) -> 1 | AE23: =VLOOKUP(B23,'W03'!$B$4:$X$100,23, FALSE) -> 2 | AF23: =VLOOKUP(B23,'W04'!$B$4:$X$100,23, FALSE) -> 2 | AG23: =VLOOKUP(B23,'W05'!$B$4:$X$100,23, FALSE) -> 1 | AH23: =VLOOKUP(B23,'W06'!$B$4:$X$100,23, FALSE) -> 2 | AI23: =VLOOKUP(B23,'W07'!$B$4:$X$100,23, FALSE) -> 1 | AV23: =SUM(AC23:AU23) -> 10
A24: 22 | B24: Skipper, Eric | C24: =AA24 -> 63.5 | D24: =$AA$90 -> 107 | E24: =C24/D24 -> 0.59345794 | F24: =AV24 -> 9 | H24: =VLOOKUP(B24,'W01'!$B$4:$X$100,22, FALSE) -> 10 | I24: =VLOOKUP(B24,'W02'!$B$4:$X$100,22, FALSE) -> 9 | J24: =VLOOKUP(B24,'W03'!$B$4:$X$100,22, FALSE) -> 7 | K24: =VLOOKUP(B24,'W04'!$B$4:$X$100,22, FALSE) -> 12 | L24: =VLOOKUP(B24,'W05'!$B$4:$X$100,22, FALSE) -> 9.5 | M24: =VLOOKUP(B24,'W06'!$B$4:$X$100,22, FALSE) -> 8 | N24: =VLOOKUP(B24,'W07'!$B$4:$X$100,22, FALSE) -> 8 | AA24: =SUM(H24:Z24) -> 63.5 | AC24: =VLOOKUP(B24,'W01'!$B$4:$X$100,23, FALSE) -> 2 | AD24: =VLOOKUP(B24,'W02'!$B$4:$X$100,23, FALSE) -> 1 | AE24: =VLOOKUP(B24,'W03'!$B$4:$X$100,23, FALSE) -> 2 | AF24: =VLOOKUP(B24,'W04'!$B$4:$X$100,23, FALSE) -> 1 | AG24: =VLOOKUP(B24,'W05'!$B$4:$X$100,23, FALSE) -> 1 | AH24: =VLOOKUP(B24,'W06'!$B$4:$X$100,23, FALSE) -> 1 | AI24: =VLOOKUP(B24,'W07'!$B$4:$X$100,23, FALSE) -> 1 | AV24: =SUM(AC24:AU24) -> 9
A25: 23 | B25: Trant, Amon | C25: =AA25 -> 63.5 | D25: =$AA$90 -> 107 | E25: =C25/D25 -> 0.59345794 | F25: =AV25 -> 9 | H25: =VLOOKUP(B25,'W01'!$B$4:$X$100,22, FALSE) -> 7 | I25: =VLOOKUP(B25,'W02'!$B$4:$X$100,22, FALSE) -> 8 | J25: =VLOOKUP(B25,'W03'!$B$4:$X$100,22, FALSE) -> 10 | K25: =VLOOKUP(B25,'W04'!$B$4:$X$100,22, FALSE) -> 11 | L25: =VLOOKUP(B25,'W05'!$B$4:$X$100,22, FALSE) -> 10.5 | M25: =VLOOKUP(B25,'W06'!$B$4:$X$100,22, FALSE) -> 8 | N25: =VLOOKUP(B25,'W07'!$B$4:$X$100,22, FALSE) -> 9 | AA25: =SUM(H25:Z25) -> 63.5 | AC25: =VLOOKUP(B25,'W01'!$B$4:$X$100,23, FALSE) -> 1 | AD25: =VLOOKUP(B25,'W02'!$B$4:$X$100,23, FALSE) -> 1 | AE25: =VLOOKUP(B25,'W03'!$B$4:$X$100,23, FALSE) -> 2 | AF25: =VLOOKUP(B25,'W04'!$B$4:$X$100,23, FALSE) -> 2 | AG25: =VLOOKUP(B25,'W05'!$B$4:$X$100,23, FALSE) -> 1 | AH25: =VLOOKUP(B25,'W06'!$B$4:$X$100,23, FALSE) -> 2 | AI25: =VLOOKUP(B25,'W07'!$B$4:$X$100,23, FALSE) -> 0 | AV25: =SUM(AC25:AU25) -> 9
A26: 24 | B26: White, Shawn | C26: =AA26 -> 63.5 | D26: =$AA$90 -> 107 | E26: =C26/D26 -> 0.59345794 | F26: =AV26 -> 9 | H26: =VLOOKUP(B26,'W01'!$B$4:$X$100,22, FALSE) -> 12 | I26: =VLOOKUP(B26,'W02'!$B$4:$X$100,22, FALSE) -> 11 | J26: =VLOOKUP(B26,'W03'!$B$4:$X$100,22, FALSE) -> 7 | K26: =VLOOKUP(B26,'W04'!$B$4:$X$100,22, FALSE) -> 9 | L26: =VLOOKUP(B26,'W05'!$B$4:$X$100,22, FALSE) -> 8.5 | M26: =VLOOKUP(B26,'W06'!$B$4:$X$100,22, FALSE) -> 8 | N26: =VLOOKUP(B26,'W07'!$B$4:$X$100,22, FALSE) -> 8 | AA26: =SUM(H26:Z26) -> 63.5 | AC26: =VLOOKUP(B26,'W01'!$B$4:$X$100,23, FALSE) -> 1 | AD26: =VLOOKUP(B26,'W02'!$B$4:$X$100,23, FALSE) -> 1 | AE26: =VLOOKUP(B26,'W03'!$B$4:$X$100,23, FALSE) -> 2 | AF26: =VLOOKUP(B26,'W04'!$B$4:$X$100,23, FALSE) -> 2 | AG26: =VLOOKUP(B26,'W05'!$B$4:$X$100,23, FALSE) -> 1 | AH26: =VLOOKUP(B26,'W06'!$B$4:$X$100,23, FALSE) -> 1 | AI26: =VLOOKUP(B26,'W07'!$B$4:$X$100,23, FALSE) -> 1 | AV26: =SUM(AC26:AU26) -> 9
A27: 25 | B27: Meyer, Brennan | C27: =AA27 -> 63.5 | D27: =$AA$90 -> 107 | E27: =C27/D27 -> 0.59345794 | F27: =AV27 -> 5 | H27: =VLOOKUP(B27,'W01'!$B$4:$X$100,22, FALSE) -> 11 | I27: =VLOOKUP(B27,'W02'!$B$4:$X$100,22, FALSE) -> 12 | J27: =VLOOKUP(B27,'W03'!$B$4:$X$100,22, FALSE) -> 9 | K27: =VLOOKUP(B27,'W04'!$B$4:$X$100,22, FALSE) -> 5 | L27: =VLOOKUP(B27,'W05'!$B$4:$X$100,22, FALSE) -> 10.5 | M27: =VLOOKUP(B27,'W06'!$B$4:$X$100,22, FALSE) -> 7 | N27: =VLOOKUP(B27,'W07'!$B$4:$X$100,22, FALSE) -> 9 | AA27: =SUM(H27:Z27) -> 63.5 | AC27: =VLOOKUP(B27,'W01'!$B$4:$X$100,23, FALSE) -> 0 | AD27: =VLOOKUP(B27,'W02'!$B$4:$X$100,23, FALSE) -> 1 | AE27: =VLOOKUP(B27,'W03'!$B$4:$X$100,23, FALSE) -> 0 | AF27: =VLOOKUP(B27,'W04'!$B$4:$X$100,23, FALSE) -> 0 | AG27: =VLOOKUP(B27,'W05'!$B$4:$X$100,23, FALSE) -> 2 | AH27: =VLOOKUP(B27,'W06'!$B$4:$X$100,23, FALSE) -> 2 | AI27: =VLOOKUP(B27,'W07'!$B$4:$X$100,23, FALSE) -> 0 | AV27: =SUM(AC27:AU27) -> 5
A28: 26 | B28: Curran, Taylor | C28: =AA28 -> 62.5 | D28: =$AA$90 -> 107 | E28: =C28/D28 -> 0.58411215 | F28: =AV28 -> 11 | H28: =VLOOKUP(B28,'W01'!$B$4:$X$100,22, FALSE) -> 10 | I28: =VLOOKUP(B28,'W02'!$B$4:$X$100,22, FALSE) -> 12 | J28: =VLOOKUP(B28,'W03'!$B$4:$X$100,22, FALSE) -> 7 | K28: =VLOOKUP(B28,'W04'!$B$4:$X$100,22, FALSE) -> 9 | L28: =VLOOKUP(B28,'W05'!$B$4:$X$100,22, FALSE) -> 8.5 | M28: =VLOOKUP(B28,'W06'!$B$4:$X$100,22, FALSE) -> 8 | N28: =VLOOKUP(B28,'W07'!$B$4:$X$100,22, FALSE) -> 8 | AA28: =SUM(H28:Z28) -> 62.5 | AC28: =VLOOKUP(B28,'W01'!$B$4:$X$100,23, FALSE) -> 1 | AD28: =VLOOKUP(B28,'W02'!$B$4:$X$100,23, FALSE) -> 2 | AE28: =VLOOKUP(B28,'W03'!$B$4:$X$100,23, FALSE) -> 1 | AF28: =VLOOKUP(B28,'W04'!$B$4:$X$100,23, FALSE) -> 2 | AG28: =VLOOKUP(B28,'W05'!$B$4:$X$100,23, FALSE) -> 2 | AH28: =VLOOKUP(B28,'W06'!$B$4:$X$100,23, FALSE) -> 2 | AI28: =VLOOKUP(B28,'W07'!$B$4:$X$100,23, FALSE) -> 1 | AV28: =SUM(AC28:AU28) -> 11
A29: 27 | B29: Meyer, Dave | C29: =AA29 -> 62.5 | D29: =$AA$90 -> 107 | E29: =C29/D29 -> 0.58411215 | F29: =AV29 -> 11 | H29: =VLOOKUP(B29,'W01'!$B$4:$X$100,22, FALSE) -> 10 | I29: =VLOOKUP(B29,'W02'!$B$4:$X$100,22, FALSE) -> 11 | J29: =VLOOKUP(B29,'W03'!$B$4:$X$100,22, FALSE) -> 7 | K29: =VLOOKUP(B29,'W04'!$B$4:$X$100,22, FALSE) -> 11 | L29: =VLOOKUP(B29,'W05'!$B$4:$X$100,22, FALSE) -> 7.5 | M29: =VLOOKUP(B29,'W06'!$B$4:$X$100,22, FALSE) -> 8 | N29: =VLOOKUP(B29,'W07'!$B$4:$X$100,22, FALSE) -> 8 | AA29: =SUM(H29:Z29) -> 62.5 | AC29: =VLOOKUP(B29,'W01'!$B$4:$X$100,23, FALSE) -> 2 | AD29: =VLOOKUP(B29,'W02'!$B$4:$X$100,23, FALSE) -> 1 | AE29: =VLOOKUP(B29,'W03'!$B$4:$X$100,23, FALSE) -> 1 | AF29: =VLOOKUP(B29,'W04'!$B$4:$X$100,23, FALSE) -> 1 | AG29: =VLOOKUP(B29,'W05'!$B$4:$X$100,23, FALSE) -> 2 | AH29: =VLOOKUP(B29,'W06'!$B$4:$X$100,23, FALSE) -> 2 | AI29: =VLOOKUP(B29,'W07'!$B$4:$X$100,23, FALSE) -> 2 | AV29: =SUM(AC29:AU29) -> 11
A30: 28 | B30: Prothro, Tom | C30: =AA30 -> 62.5 | D30: =$AA$90 -> 107 | E30: =C30/D30 -> 0.58411215 | F30: =AV30 -> 11 | H30: =VLOOKUP(B30,'W01'!$B$4:$X$100,22, FALSE) -> 11 | I30: =VLOOKUP(B30,'W02'!$B$4:$X$100,22, FALSE) -> 10 | J30: =VLOOKUP(B30,'W03'!$B$4:$X$100,22, FALSE) -> 8 | K30: =VLOOKUP(B30,'W04'!$B$4:$X$100,22, FALSE) -> 9 | L30: =VLOOKUP(B30,'W05'!$B$4:$X$100,22, FALSE) -> 9.5 | M30: =VLOOKUP(B30,'W06'!$B$4:$X$100,22, FALSE) -> 8 | N30: =VLOOKUP(B30,'W07'!$B$4:$X$100,22, FALSE) -> 7 | AA30: =SUM(H30:Z30) -> 62.5 | AC30: =VLOOKUP(B30,'W01'!$B$4:$X$100,23, FALSE) -> 1 | AD30: =VLOOKUP(B30,'W02'!$B$4:$X$100,23, FALSE) -> 2 | AE30: =VLOOKUP(B30,'W03'!$B$4:$X$100,23, FALSE) -> 1 | AF30: =VLOOKUP(B30,'W04'!$B$4:$X$100,23, FALSE) -> 2 | AG30: =VLOOKUP(B30,'W05'!$B$4:$X$100,23, FALSE) -> 2 | AH30: =VLOOKUP(B30,'W06'!$B$4:$X$100,23, FALSE) -> 2 | AI30: =VLOOKUP(B30,'W07'!$B$4:$X$100,23, FALSE) -> 1 | AV30: =SUM(AC30:AU30) -> 11 | AX30: Y
A31: 29 | B31: Baze, Drew | C31: =AA31 -> 62.5 | D31: =$AA$90 -> 107 | E31: =C31/D31 -> 0.58411215 | F31: =AV31 -> 10 | H31: =VLOOKUP(B31,'W01'!$B$4:$X$100,22, FALSE) -> 12 | I31: =VLOOKUP(B31,'W02'!$B$4:$X$100,22, FALSE) -> 9 | J31: =VLOOKUP(B31,'W03'!$B$4:$X$100,22, FALSE) -> 7 | K31: =VLOOKUP(B31,'W04'!$B$4:$X$100,22, FALSE) -> 10 | L31: =VLOOKUP(B31,'W05'!$B$4:$X$100,22, FALSE) -> 11.5 | M31: =VLOOKUP(B31,'W06'!$B$4:$X$100,22, FALSE) -> 5 | N31: =VLOOKUP(B31,'W07'!$B$4:$X$100,22, FALSE) -> 8 | AA31: =SUM(H31:Z31) -> 62.5 | AC31: =VLOOKUP(B31,'W01'!$B$4:$X$100,23, FALSE) -> 1 | AD31: =VLOOKUP(B31,'W02'!$B$4:$X$100,23, FALSE) -> 2 | AE31: =VLOOKUP(B31,'W03'!$B$4:$X$100,23, FALSE) -> 1 | AF31: =VLOOKUP(B31,'W04'!$B$4:$X$100,23, FALSE) -> 2 | AG31: =VLOOKUP(B31,'W05'!$B$4:$X$100,23, FALSE) -> 1 | AH31: =VLOOKUP(B31,'W06'!$B$4:$X$100,23, FALSE) -> 2 | AI31: =VLOOKUP(B31,'W07'!$B$4:$X$100,23, FALSE) -> 1 | AV31: =SUM(AC31:AU31) -> 10
A32: 30 | B32: Mattson, Nick | C32: =AA32 -> 62.5 | D32: =$AA$90 -> 107 | E32: =C32/D32 -> 0.58411215 | F32: =AV32 -> 10 | H32: =VLOOKUP(B32,'W01'!$B$4:$X$100,22, FALSE) -> 11 | I32: =VLOOKUP(B32,'W02'!$B$4:$X$100,22, FALSE) -> 11 | J32: =VLOOKUP(B32,'W03'!$B$4:$X$100,22, FALSE) -> 9 | K32: =VLOOKUP(B32,'W04'!$B$4:$X$100,22, FALSE) -> 8 | L32: =VLOOKUP(B32,'W05'!$B$4:$X$100,22, FALSE) -> 8.5 | M32: =VLOOKUP(B32,'W06'!$B$4:$X$100,22, FALSE) -> 9 | N32: =VLOOKUP(B32,'W07'!$B$4:$X$100,22, FALSE) -> 6 | AA32: =SUM(H32:Z32) -> 62.5 | AC32: =VLOOKUP(B32,'W01'!$B$4:$X$100,23, FALSE) -> 0 | AD32: =VLOOKUP(B32,'W02'!$B$4:$X$100,23, FALSE) -> 1 | AE32: =VLOOKUP(B32,'W03'!$B$4:$X$100,23, FALSE) -> 2 | AF32: =VLOOKUP(B32,'W04'!$B$4:$X$100,23, FALSE) -> 2 | AG32: =VLOOKUP(B32,'W05'!$B$4:$X$100,23, FALSE) -> 2 | AH32: =VLOOKUP(B32,'W06'!$B$4:$X$100,23, FALSE) -> 1 | AI32: =VLOOKUP(B32,'W07'!$B$4:$X$100,23, FALSE) -> 2 | AV32: =SUM(AC32:AU32) -> 10
A33: 31 | B33: Purschwitz, Dan | C33: =AA33 -> 62.5 | D33: =$AA$90 -> 107 | E33: =C33/D33 -> 0.58411215 | F33: =AV33 -> 10 | H33: =VLOOKUP(B33,'W01'!$B$4:$X$100,22, FALSE) -> 10 | I33: =VLOOKUP(B33,'W02'!$B$4:$X$100,22, FALSE) -> 11 | J33: =VLOOKUP(B33,'W03'!$B$4:$X$100,22, FALSE) -> 7 | K33: =VLOOKUP(B33,'W04'!$B$4:$X$100,22, FALSE) -> 12 | L33: =VLOOKUP(B33,'W05'!$B$4:$X$100,22, FALSE) -> 10.5 | M33: =VLOOKUP(B33,'W06'!$B$4:$X$100,22, FALSE) -> 8 | N33: =VLOOKUP(B33,'W07'!$B$4:$X$100,22, FALSE) -> 4 | AA33: =SUM(H33:Z33) -> 62.5 | AC33: =VLOOKUP(B33,'W01'!$B$4:$X$100,23, FALSE) -> 1 | AD33: =VLOOKUP(B33,'W02'!$B$4:$X$100,23, FALSE) -> 1 | AE33: =VLOOKUP(B33,'W03'!$B$4:$X$100,23, FALSE) -> 1 | AF33: =VLOOKUP(B33,'W04'!$B$4:$X$100,23, FALSE) -> 2 | AG33: =VLOOKUP(B33,'W05'!$B$4:$X$100,23, FALSE) -> 2 | AH33: =VLOOKUP(B33,'W06'!$B$4:$X$100,23, FALSE) -> 2 | AI33: =VLOOKUP(B33,'W07'!$B$4:$X$100,23, FALSE) -> 1 | AV33: =SUM(AC33:AU33) -> 10
A34: 32 | B34: Manzala, Jeremy | C34: =AA34 -> 62.5 | D34: =$AA$90 -> 107 | E34: =C34/D34 -> 0.58411215 | F34: =AV34 -> 9 | H34: =VLOOKUP(B34,'W01'!$B$4:$X$100,22, FALSE) -> 10 | I34: =VLOOKUP(B34,'W02'!$B$4:$X$100,22, FALSE) -> 11 | J34: =VLOOKUP(B34,'W03'!$B$4:$X$100,22, FALSE) -> 6 | K34: =VLOOKUP(B34,'W04'!$B$4:$X$100,22, FALSE) -> 11 | L34: =VLOOKUP(B34,'W05'!$B$4:$X$100,22, FALSE) -> 7.5 | M34: =VLOOKUP(B34,'W06'!$B$4:$X$100,22, FALSE) -> 9 | N34: =VLOOKUP(B34,'W07'!$B$4:$X$100,22, FALSE) -> 8 | AA34: =SUM(H34:Z34) -> 62.5 | AC34: =VLOOKUP(B34,'W01'!$B$4:$X$100,23, FALSE) -> 1 | AD34: =VLOOKUP(B34,'W02'!$B$4:$X$100,23, FALSE) -> 2 | AE34: =VLOOKUP(B34,'W03'!$B$4:$X$100,23, FALSE) -> 0 | AF34: =VLOOKUP(B34,'W04'!$B$4:$X$100,23, FALSE) -> 2 | AG34: =VLOOKUP(B34,'W05'!$B$4:$X$100,23, FALSE) -> 1 | AH34: =VLOOKUP(B34,'W06'!$B$4:$X$100,23, FALSE) -> 2 | AI34: =VLOOKUP(B34,'W07'!$B$4:$X$100,23, FALSE) -> 1 | AV34: =SUM(AC34:AU34) -> 9
A35: 33 | B35: Alsobrook, Luke | C35: =AA35 -> 61.5 | D35: =$AA$90 -> 107 | E35: =C35/D35 -> 0.57476636 | F35: =AV35 -> 9 | H35: =VLOOKUP(B35,'W01'!$B$4:$X$100,22, FALSE) -> 12 | I35: =VLOOKUP(B35,'W02'!$B$4:$X$100,22, FALSE) -> 11 | J35: =VLOOKUP(B35,'W03'!$B$4:$X$100,22, FALSE) -> 8 | K35: =VLOOKUP(B35,'W04'!$B$4:$X$100,22, FALSE) -> 10 | L35: =VLOOKUP(B35,'W05'!$B$4:$X$100,22, FALSE) -> 7.5 | M35: =VLOOKUP(B35,'W06'!$B$4:$X$100,22, FALSE) -> 6 | N35: =VLOOKUP(B35,'W07'!$B$4:$X$100,22, FALSE) -> 7 | AA35: =SUM(H35:Z35) -> 61.5 | AC35: =VLOOKUP(B35,'W01'!$B$4:$X$100,23, FALSE) -> 1 | AD35: =VLOOKUP(B35,'W02'!$B$4:$X$100,23, FALSE) -> 1 | AE35: =VLOOKUP(B35,'W03'!$B$4:$X$100,23, FALSE) -> 1 | AF35: =VLOOKUP(B35,'W04'!$B$4:$X$100,23, FALSE) -> 2 | AG35: =VLOOKUP(B35,'W05'!$B$4:$X$100,23, FALSE) -> 1 | AH35: =VLOOKUP(B35,'W06'!$B$4:$X$100,23, FALSE) -> 1 | AI35: =VLOOKUP(B35,'W07'!$B$4:$X$100,23, FALSE) -> 2 | AV35: =SUM(AC35:AU35) -> 9
A36: 34 | B36: Ardill, Scott | C36: =AA36 -> 61.5 | D36: =$AA$90 -> 107 | E36: =C36/D36 -> 0.57476636 | F36: =AV36 -> 9 | H36: =VLOOKUP(B36,'W01'!$B$4:$X$100,22, FALSE) -> 11 | I36: =VLOOKUP(B36,'W02'!$B$4:$X$100,22, FALSE) -> 8 | J36: =VLOOKUP(B36,'W03'!$B$4:$X$100,22, FALSE) -> 7 | K36: =VLOOKUP(B36,'W04'!$B$4:$X$100,22, FALSE) -> 9 | L36: =VLOOKUP(B36,'W05'!$B$4:$X$100,22, FALSE) -> 9.5 | M36: =VLOOKUP(B36,'W06'!$B$4:$X$100,22, FALSE) -> 8 | N36: =VLOOKUP(B36,'W07'!$B$4:$X$100,22, FALSE) -> 9 | AA36: =SUM(H36:Z36) -> 61.5 | AC36: =VLOOKUP(B36,'W01'!$B$4:$X$100,23, FALSE) -> 1 | AD36: =VLOOKUP(B36,'W02'!$B$4:$X$100,23, FALSE) -> 1 | AE36: =VLOOKUP(B36,'W03'!$B$4:$X$100,23, FALSE) -> 2 | AF36: =VLOOKUP(B36,'W04'!$B$4:$X$100,23, FALSE) -> 2 | AG36: =VLOOKUP(B36,'W05'!$B$4:$X$100,23, FALSE) -> 1 | AH36: =VLOOKUP(B36,'W06'!$B$4:$X$100,23, FALSE) -> 1 | AI36: =VLOOKUP(B36,'W07'!$B$4:$X$100,23, FALSE) -> 1 | AV36: =SUM(AC36:AU36) -> 9
A37: 35 | B37: Rapisand, Ryan | C37: =AA37 -> 61.5 | D37: =$AA$90 -> 107 | E37: =C37/D37 -> 0.57476636 | F37: =AV37 -> 9 | H37: =VLOOKUP(B37,'W01'!$B$4:$X$100,22, FALSE) -> 11 | I37: =VLOOKUP(B37,'W02'!$B$4:$X$100,22, FALSE) -> 8 | J37: =VLOOKUP(B37,'W03'!$B$4:$X$100,22, FALSE) -> 8 | K37: =VLOOKUP(B37,'W04'!$B$4:$X$100,22, FALSE) -> 10 | L37: =VLOOKUP(B37,'W05'!$B$4:$X$100,22, FALSE) -> 10.5 | M37: =VLOOKUP(B37,'W06'!$B$4:$X$100,22, FALSE) -> 8 | N37: =VLOOKUP(B37,'W07'!$B$4:$X$100,22, FALSE) -> 6 | AA37: =SUM(H37:Z37) -> 61.5 | AC37: =VLOOKUP(B37,'W01'!$B$4:$X$100,23, FALSE) -> 1 | AD37: =VLOOKUP(B37,'W02'!$B$4:$X$100,23, FALSE) -> 1 | AE37: =VLOOKUP(B37,'W03'!$B$4:$X$100,23, FALSE) -> 2 | AF37: =VLOOKUP(B37,'W04'!$B$4:$X$100,23, FALSE) -> 2 | AG37: =VLOOKUP(B37,'W05'!$B$4:$X$100,23, FALSE) -> 1 | AH37: =VLOOKUP(B37,'W06'!$B$4:$X$100,23, FALSE) -> 1 | AI37: =VLOOKUP(B37,'W07'!$B$4:$X$100,23, FALSE) -> 1 | AV37: =SUM(AC37:AU37) -> 9
A38: 36 | B38: Seamands, Sarah | C38: =AA38 -> 61.5 | D38: =$AA$90 -> 107 | E38: =C38/D38 -> 0.57476636 | F38: =AV38 -> 9 | H38: =VLOOKUP(B38,'W01'!$B$4:$X$100,22, FALSE) -> 12 | I38: =VLOOKUP(B38,'W02'!$B$4:$X$100,22, FALSE) -> 9 | J38: =VLOOKUP(B38,'W03'!$B$4:$X$100,22, FALSE) -> 8 | K38: =VLOOKUP(B38,'W04'!$B$4:$X$100,22, FALSE) -> 6 | L38: =VLOOKUP(B38,'W05'!$B$4:$X$100,22, FALSE) -> 9.5 | M38: =VLOOKUP(B38,'W06'!$B$4:$X$100,22, FALSE) -> 9 | N38: =VLOOKUP(B38,'W07'!$B$4:$X$100,22, FALSE) -> 8 | AA38: =SUM(H38:Z38) -> 61.5 | AC38: =VLOOKUP(B38,'W01'!$B$4:$X$100,23, FALSE) -> 1 | AD38: =VLOOKUP(B38,'W02'!$B$4:$X$100,23, FALSE) -> 1 | AE38: =VLOOKUP(B38,'W03'!$B$4:$X$100,23, FALSE) -> 2 | AF38: =VLOOKUP(B38,'W04'!$B$4:$X$100,23, FALSE) -> 2 | AG38: =VLOOKUP(B38,'W05'!$B$4:$X$100,23, FALSE) -> 1 | AH38: =VLOOKUP(B38,'W06'!$B$4:$X$100,23, FALSE) -> 1 | AI38: =VLOOKUP(B38,'W07'!$B$4:$X$100,23, FALSE) -> 1 | AV38: =SUM(AC38:AU38) -> 9
A39: 37 | B39: Young, Michael | C39: =AA39 -> 61.5 | D39: =$AA$90 -> 107 | E39: =C39/D39 -> 0.57476636 | F39: =AV39 -> 9 | H39: =VLOOKUP(B39,'W01'!$B$4:$X$100,22, FALSE) -> 13 | I39: =VLOOKUP(B39,'W02'!$B$4:$X$100,22, FALSE) -> 9 | J39: =VLOOKUP(B39,'W03'!$B$4:$X$100,22, FALSE) -> 7 | K39: =VLOOKUP(B39,'W04'!$B$4:$X$100,22, FALSE) -> 12 | L39: =VLOOKUP(B39,'W05'!$B$4:$X$100,22, FALSE) -> 7.5 | M39: =VLOOKUP(B39,'W06'!$B$4:$X$100,22, FALSE) -> 5 | N39: =VLOOKUP(B39,'W07'!$B$4:$X$100,22, FALSE) -> 8 | AA39: =SUM(H39:Z39) -> 61.5 | AC39: =VLOOKUP(B39,'W01'!$B$4:$X$100,23, FALSE) -> 2 | AD39: =VLOOKUP(B39,'W02'!$B$4:$X$100,23, FALSE) -> 1 | AE39: =VLOOKUP(B39,'W03'!$B$4:$X$100,23, FALSE) -> 1 | AF39: =VLOOKUP(B39,'W04'!$B$4:$X$100,23, FALSE) -> 2 | AG39: =VLOOKUP(B39,'W05'!$B$4:$X$100,23, FALSE) -> 1 | AH39: =VLOOKUP(B39,'W06'!$B$4:$X$100,23, FALSE) -> 1 | AI39: =VLOOKUP(B39,'W07'!$B$4:$X$100,23, FALSE) -> 1 | AV39: =SUM(AC39:AU39) -> 9
A40: 38 | B40: Hyde, Todd | C40: =AA40 -> 61.5 | D40: =$AA$90 -> 107 | E40: =C40/D40 -> 0.57476636 | F40: =AV40 -> 8 | H40: =VLOOKUP(B40,'W01'!$B$4:$X$100,22, FALSE) -> 8 | I40: =VLOOKUP(B40,'W02'!$B$4:$X$100,22, FALSE) -> 11 | J40: =VLOOKUP(B40,'W03'!$B$4:$X$100,22, FALSE) -> 7 | K40: =VLOOKUP(B40,'W04'!$B$4:$X$100,22, FALSE) -> 11 | L40: =VLOOKUP(B40,'W05'!$B$4:$X$100,22, FALSE) -> 9.5 | M40: =VLOOKUP(B40,'W06'!$B$4:$X$100,22, FALSE) -> 7 | N40: =VLOOKUP(B40,'W07'!$B$4:$X$100,22, FALSE) -> 8 | AA40: =SUM(H40:Z40) -> 61.5 | AC40: =VLOOKUP(B40,'W01'!$B$4:$X$100,23, FALSE) -> 0 | AD40: =VLOOKUP(B40,'W02'!$B$4:$X$100,23, FALSE) -> 1 | AE40: =VLOOKUP(B40,'W03'!$B$4:$X$100,23, FALSE) -> 1 | AF40: =VLOOKUP(B40,'W04'!$B$4:$X$100,23, FALSE) -> 1 | AG40: =VLOOKUP(B40,'W05'!$B$4:$X$100,23, FALSE) -> 2 | AH40: =VLOOKUP(B40,'W06'!$B$4:$X$100,23, FALSE) -> 2 | AI40: =VLOOKUP(B40,'W07'!$B$4:$X$100,23, FALSE) -> 1 | AV40: =SUM(AC40:AU40) -> 8
...

Sheet Weeks
B1: 2026 Week 01 | I1: 2026 Week 02 | P1: 2026 Week 03 | W1: 2026 Week 04 | AD1: 2026 Week 05 | AK1: 2026 Week 06 | AR1: 2026 Week 07
B2: Name | C2: Correct | D2: Total | E2: % | F2: Tiebreak | I2: Name | J2: Correct | K2: Total | L2: % | M2: Tiebreak | P2: Name | Q2: Correct | R2: Total | S2: % | T2: Tiebreak | W2: Name | X2: Correct | Y2: Total | Z2: % | AA2: Tiebreak | AD2: Name | AE2: Correct | AF2: Total | AG2: % | AH2: Tiebreak | AK2: Name | AL2: Correct | AM2: Total | AN2: % | AO2: Tiebreak | AR2: Name | AS2: Correct | AT2: Total | AU2: % | AV2: Tiebreak
B3: Young, Michael | C3: 13 | D3: 16 | E3: 0.8125 | F3: 2 | H3: 1 | I3: Roberts, Jeff | J3: 23 | K3: 32 | L3: 0.71875 | M3: 4 | O3: 1 | P3: Smith, Brad | Q3: 33 | R3: 48 | S3: 0.6875 | T3: 4 | V3: 1 | W3: Smith, Brad | X3: 43 | Y3: 64 | Z3: 0.671875 | AA3: 6 | AC3: 1 | AD3: Smith, Brad | AE3: 52.5 | AF3: 79 | AG3: 0.66455696 | AH3: 7 | AJ3: 1 | AK3: Seamands, Nathan | AL3: 59.5 | AM3: 93 | AN3: 0.63978495 | AO3: 10 | AQ3: 1-T | AR3: Seamands, Jorden | AS3: 68.5 | AT3: 107 | AU3: 0.64018692 | AV3: 10
B4: Buck, Darrell | C4: 12 | D4: 16 | E4: 0.75 | F4: 2 | H4: 2-T | I4: Smith, Brad | J4: 23 | K4: 32 | L4: 0.71875 | M4: 3 | O4: 2 | P4: Meyer, Brennan | Q4: 32 | R4: 48 | S4: 0.66666667 | T4: 1 | V4: 2 | W4: Seamands, Jorden | X4: 42 | Y4: 64 | Z4: 0.65625 | AA4: 6 | AC4: 2-T | AD4: Seamands, Jorden | AE4: 51.5 | AF4: 79 | AG4: 0.65189873 | AH4: 8 | AJ4: 2 | AK4: Seamands, Jorden | AL4: 59.5 | AM4: 93 | AN4: 0.63978495 | AO4: 9 | AQ4: 1-T | AR4: Seamands, Natalie | AS4: 68.5 | AT4: 107 | AU4: 0.64018692 | AV4: 10
B5: Lucido, Jordan | C5: 12 | D5: 16 | E5: 0.75 | F5: 2 | H5: 2-T | I5: Rushing, Luke | J5: 23 | K5: 32 | L5: 0.71875 | M5: 3 | O5: 3 | P5: Seamands, Jorden | Q5: 31 | R5: 48 | S5: 0.64583333 | T5: 5 | V5: 3 | W5: Greenwood, Douglas | X5: 42 | Y5: 64 | Z5: 0.65625 | AA5: 5 | AC5: 2-T | AD5: Smith, Payton | AE5: 51.5 | AF5: 79 | AG5: 0.65189873 | AH5: 8 | AJ5: 3-T | AK5: Greenwood, Douglas | AL5: 58.5 | AM5: 93 | AN5: 0.62903226 | AO5: 9 | AQ5: 3 | AR5: Seamands, Nathan | AS5: 67.5 | AT5: 107 | AU5: 0.63084112 | AV5: 11
B6: Roberts, Jeff | C6: 12 | D6: 16 | E6: 0.75 | F6: 2 | H6: 4-T | I6: Alsobrook, Luke | J6: 23 | K6: 32 | L6: 0.71875 | M6: 2 | O6: 4 | P6: Seamands, Natalie | Q6: 31 | R6: 48 | S6: 0.64583333 | T6: 4 | V6: 4 | W6: Seamands, Nathan | X6: 41 | Y6: 64 | Z6: 0.640625 | AA6: 7 | AC6: 4 | AD6: Howard, Bill | AE6: 51.5 | AF6: 79 | AG6: 0.65189873 | AH6: 7 | AJ6: 3-T | AK6: Howard, Bill | AL6: 58.5 | AM6: 93 | AN6: 0.62903226 | AO6: 9 | AQ6: 4-T | AR6: Howard, Bill | AS6: 67.5 | AT6: 107 | AU6: 0.63084112 | AV6: 10
B7: Seamands, Natalie | C7: 12 | D7: 16 | E7: 0.75 | F7: 2 | H7: 4-T | I7: Seamands, Byron | J7: 23 | K7: 32 | L7: 0.71875 | M7: 2 | O7: 5-T | P7: Alsobrook, Luke | Q7: 31 | R7: 48 | S7: 0.64583333 | T7: 3 | V7: 5-T | W7: Seamands, Byron | X7: 41 | Y7: 64 | Z7: 0.640625 | AA7: 6 | AC7: 5 | AD7: Seamands, Nathan | AE7: 50.5 | AF7: 79 | AG7: 0.63924051 | AH7: 9 | AJ7: 3-T | AK7: Purschwitz, Dan | AL7: 58.5 | AM7: 93 | AN7: 0.62903226 | AO7: 9 | AQ7: 4-T | AR7: Meyer, Pat | AS7: 67.5 | AT7: 107 | AU7: 0.63084112 | AV7: 10
B8: Alsobrook, Luke | C8: 12 | D8: 16 | E8: 0.75 | F8: 1 | H8: 4-T | I8: White, Shawn | J8: 23 | K8: 32 | L8: 0.71875 | M8: 2 | O8: 5-T | P8: Mattson, Nick | Q8: 31 | R8: 48 | S8: 0.64583333 | T8: 3 | V8: 5-T | W8: Young, Michael | X8: 41 | Y8: 64 | Z8: 0.640625 | AA8: 6 | AC8: 6 | AD8: Anthis, Micah | AE8: 50.5 | AF8: 79 | AG8: 0.63924051 | AH8: 8.5 | AJ8: 3-T | AK8: Seamands, Natalie | AL8: 58.5 | AM8: 93 | AN8: 0.62903226 | AO8: 9 | AQ8: 6-T | AR8: Carrasco, Marsha | AS8: 65.5 | AT8: 107 | AU8: 0.61214953 | AV8: 10
B9: Baze, Drew | C9: 12 | D9: 16 | E9: 0.75 | F9: 1 | H9: 7 | I9: Meyer, Brennan | J9: 23 | K9: 32 | L9: 0.71875 | M9: 1 | O9: 7-T | P9: Easley, Jordan | Q9: 30 | R9: 48 | S9: 0.625 | T9: 5 | V9: 7-T | W9: Frias, Adan | X9: 41 | Y9: 64 | Z9: 0.640625 | AA9: 5 | AC9: 7 | AD9: Seamands, Natalie | AE9: 50.5 | AF9: 79 | AG9: 0.63924051 | AH9: 8 | AJ9: 7 | AK9: Smith, Payton | AL9: 58.5 | AM9: 93 | AN9: 0.62903226 | AO9: 8 | AQ9: 6-T | AR9: Curran, Kevin | AS9: 65.5 | AT9: 107 | AU9: 0.61214953 | AV9: 10
B10: Harper, Kenneth | C10: 12 | D10: 16 | E10: 0.75 | F10: 1 | H10: 8 | I10: Easley, Jordan | J10: 22 | K10: 32 | L10: 0.6875 | M10: 4 | O10: 7-T | P10: Seamands, Nathan | Q10: 30 | R10: 48 | S10: 0.625 | T10: 5 | V10: 7-T | W10: Alsobrook, Luke | X10: 41 | Y10: 64 | Z10: 0.640625 | AA10: 5 | AC10: 8-T | AD10: Greenwood, Douglas | AE10: 50.5 | AF10: 79 | AG10: 0.63924051 | AH10: 7 | AJ10: 8 | AK10: Southerland, Brett | AL10: 57.5 | AM10: 93 | AN10: 0.61827957 | AO10: 10 | AQ10: 8 | AR10: Honeycutt, Wanda | AS10: 65.5 | AT10: 107 | AU10: 0.61214953 | AV10: 9
B11: Hill, Jim | C11: 12 | D11: 16 | E11: 0.75 | F11: 1 | H11: 9-T | I11: Young, Michael | J11: 22 | K11: 32 | L11: 0.6875 | M11: 3 | O11: 7-T | P11: Meyer, Pat | Q11: 30 | R11: 48 | S11: 0.625 | T11: 5 | V11: 9-T | W11: Meyer, Pat | X11: 40 | Y11: 64 | Z11: 0.625 | AA11: 7 | AC11: 8-T | AD11: Seamands, Byron | AE11: 50.5 | AF11: 79 | AG11: 0.63924051 | AH11: 7 | AJ11: 9 | AK11: Anthis, Micah | AL11: 57.5 | AM11: 93 | AN11: 0.61827957 | AO11: 9.5 | AQ11: 9-T | AR11: Honeycutt, Terry | AS11: 65.5 | AT11: 107 | AU11: 0.61214953 | AV11: 8
B12: Honeycutt, Terry | C12: 12 | D12: 16 | E12: 0.75 | F12: 1 | H12: 9-T | I12: Seamands, Natalie | J12: 22 | K12: 32 | L12: 0.6875 | M12: 3 | O12: 7-T | P12: West, Shannon | Q12: 30 | R12: 48 | S12: 0.625 | T12: 5 | V12: 9-T | W12: Anthis, Micah | X12: 40 | Y12: 64 | Z12: 0.625 | AA12: 7 | AC12: 8-T | AD12: Honeycutt, Terry | AE12: 50.5 | AF12: 79 | AG12: 0.63924051 | AH12: 7 | AJ12: 10 | AK12: Meyer, Pat | AL12: 57.5 | AM12: 93 | AN12: 0.61827957 | AO12: 9 | AQ12: 9-T | AR12: Smith, Brad | AS12: 65.5 | AT12: 107 | AU12: 0.61214953 | AV12: 8
B13: Seamands, Byron | C13: 12 | D13: 16 | E13: 0.75 | F13: 1 | H13: 9-T | I13: Hill, Jim | J13: 22 | K13: 32 | L13: 0.6875 | M13: 3 | P13: Rushing, Luke | Q13: 30 | R13: 48 | S13: 0.625 | T13: 4 | V13: 9-T | W13: Conklin, Don | X13: 40 | Y13: 64 | Z13: 0.625 | AA13: 7 | AC13: 8-T | AD13: Purschwitz, Dan | AE13: 50.5 | AF13: 79 | AG13: 0.63924051 | AH13: 7 | AK13: Honeycutt, Terry | AL13: 57.5 | AM13: 93 | AN13: 0.61827957 | AO13: 8 | AR13: Ray, Bobby | AS13: 65.5 | AT13: 107 | AU13: 0.61214953 | AV13: 7
B14: Seamands, Nathan | C14: 12 | D14: 16 | E14: 0.75 | F14: 1 | H14: 9-T | I14: Honeycutt, Terry | J14: 22 | K14: 32 | L14: 0.6875 | M14: 3 | P14: Seamands, Byron | Q14: 30 | R14: 48 | S14: 0.625 | T14: 4 | W14: Seamands, Natalie | X14: 40 | Y14: 64 | Z14: 0.625 | AA14: 6 | AD14: Meyer, Pat | AE14: 49.5 | AF14: 79 | AG14: 0.62658228 | AH14: 8 | AK14: Smith, Brad | AL14: 57.5 | AM14: 93 | AN14: 0.61827957 | AO14: 7 | AR14: Baker, Ruben | AS14: 64.5 | AT14: 107 | AU14: 0.60280374 | AV14: 12
B15: Seamands, Sarah | C15: 12 | D15: 16 | E15: 0.75 | F15: 1 | H15: 9-T | I15: Seamands, Nathan | J15: 22 | K15: 32 | L15: 0.6875 | M15: 3 | P15: White, Shawn | Q15: 30 | R15: 48 | S15: 0.625 | T15: 4 | W15: Honeycutt, Terry | X15: 40 | Y15: 64 | Z15: 0.625 | AA15: 6 | AD15: Carrasco, Eli | AE15: 49.5 | AF15: 79 | AG15: 0.62658228 | AH15: 7 | AK15: Carrasco, Marsha | AL15: 56.5 | AM15: 93 | AN15: 0.60752688 | AO15: 9 | AR15: Greenwood, Douglas | AS15: 64.5 | AT15: 107 | AU15: 0.60280374 | AV15: 10
B16: Smith, Brad | C16: 12 | D16: 16 | E16: 0.75 | F16: 1 | H16: 9-T | I16: Honeycutt, Wanda | J16: 22 | K16: 32 | L16: 0.6875 | M16: 3 | P16: Honeycutt, Terry | Q16: 30 | R16: 48 | S16: 0.625 | T16: 4 | W16: Smith, Payton | X16: 40 | Y16: 64 | Z16: 0.625 | AA16: 6 | AD16: Baze, Drew | AE16: 49.5 | AF16: 79 | AG16: 0.62658228 | AH16: 7 | AK16: Curran, Kevin | AL16: 56.5 | AM16: 93 | AN16: 0.60752688 | AO16: 9 | AR16: Seamands, Byron | AS16: 64.5 | AT16: 107 | AU16: 0.60280374 | AV16: 9
B17: White, Shawn | C17: 12 | D17: 16 | E17: 0.75 | F17: 1 | H17: 9-T | I17: Howard, Bill | J17: 22 | K17: 32 | L17: 0.6875 | M17: 3 | P17: Honeycutt, Wanda | Q17: 30 | R17: 48 | S17: 0.625 | T17: 4 | W17: Hill, Jim | X17: 40 | Y17: 64 | Z17: 0.625 | AA17: 6 | AD17: Manzala, Jerome | AE17: 49.5 | AF17: 79 | AG17: 0.62658228 | AH17: 5 | AK17: Honeycutt, Wanda | AL17: 56.5 | AM17: 93 | AN17: 0.60752688 | AO17: 8 | AR17: Rushing, Luke | AS17: 64.5 | AT17: 107 | AU17: 0.60280374 | AV17: 8
B18: Honeycutt, Wanda | C18: 11 | D18: 16 | E18: 0.6875 | F18: 2 | H18: 9-T | I18: Seamands, Jorden | J18: 22 | K18: 32 | L18: 0.6875 | M18: 3 | P18: Smith, Payton | Q18: 30 | R18: 48 | S18: 0.625 | T18: 4 | W18: Carrasco, Eli | X18: 40 | Y18: 64 | Z18: 0.625 | AA18: 6 | AD18: McElfish, John | AE18: 48.5 | AF18: 79 | AG18: 0.61392405 | AH18: 10 | AK18: Mattson, Nick | AL18: 56.5 | AM18: 93 | AN18: 0.60752688 | AO18: 8 | AR18: Seamands, Mike | AS18: 64.5 | AT18: 107 | AU18: 0.60280374 | AV18: 8
B19: Meyer, Austen | C19: 11 | D19: 16 | E19: 0.6875 | F19: 2 | H19: 9-T | I19: Smith, Payton | J19: 22 | K19: 32 | L19: 0.6875 | M19: 3 | P19: Harper, Kenneth | Q19: 30 | R19: 48 | S19: 0.625 | T19: 4 | W19: Carrasco, Marsha | X19: 40 | Y19: 64 | Z19: 0.625 | AA19: 6 | AD19: Carrasco, Marsha | AE19: 48.5 | AF19: 79 | AG19: 0.61392405 | AH19: 8 | AK19: Seamands, Byron | AL19: 56.5 | AM19: 93 | AN19: 0.60752688 | AO19: 8 | AR19: Smith, Payton | AS19: 64.5 | AT19: 107 | AU19: 0.60280374 | AV19: 8
B20: West, Shannon | C20: 11 | D20: 16 | E20: 0.6875 | F20: 2 | H20: 9-T | I20: Curran, Taylor | J20: 22 | K20: 32 | L20: 0.6875 | M20: 3 | P20: Greenwood, Douglas | Q20: 30 | R20: 48 | S20: 0.625 | T20: 4 | W20: Howard, Bill | X20: 40 | Y20: 64 | Z20: 0.625 | AA20: 6 | AD20: Baker, Ruben | AE20: 48.5 | AF20: 79 | AG20: 0.61392405 | AH20: 8 | AK20: Manzala, Jerome | AL20: 56.5 | AM20: 93 | AN20: 0.60752688 | AO20: 6 | AR20: Manzala, Jerome | AS20: 64.5 | AT20: 107 | AU20: 0.60280374 | AV20: 7
B21: Ardill, Scott | C21: 11 | D21: 16 | E21: 0.6875 | F21: 1 | I21: Harper, Kenneth | J21: 22 | K21: 32 | L21: 0.6875 | M21: 2 | P21: Anthis, Lincoln | Q21: 30 | R21: 48 | S21: 0.625 | T21: 4 | W21: Harper, Kenneth | X21: 40 | Y21: 64 | Z21: 0.625 | AA21: 5 | AD21: Southerland, Brett | AE21: 48.5 | AF21: 79 | AG21: 0.61392405 | AH21: 8 | AK21: Baker, Ruben | AL21: 55.5 | AM21: 93 | AN21: 0.59677419 | AO21: 10 | AR21: Greenwood, Nathan | AS21: 63.5 | AT21: 107 | AU21: 0.59345794 | AV21: 11
B22: Baker, Ruben | C22: 11 | D22: 16 | E22: 0.6875 | F22: 1 | I22: Curran, Kevin | J22: 22 | K22: 32 | L22: 0.6875 | M22: 2 | P22: Hill, Jim | Q22: 30 | R22: 48 | S22: 0.625 | T22: 4 | W22: Purschwitz, Dan | X22: 40 | Y22: 64 | Z22: 0.625 | AA22: 5 | AD22: Young, Michael | AE22: 48.5 | AF22: 79 | AG22: 0.61392405 | AH22: 7 | AK22: Greenwood, Nathan | AL22: 55.5 | AM22: 93 | AN22: 0.59677419 | AO22: 10 | AR22: Southerland, Brett | AS22: 63.5 | AT22: 107 | AU22: 0.59345794 | AV22: 11
B23: Curran, Kevin | C23: 11 | D23: 16 | E23: 0.6875 | F23: 1 | I23: Greenwood, Douglas | J23: 22 | K23: 32 | L23: 0.6875 | M23: 2 | P23: Frias, Adan | Q23: 30 | R23: 48 | S23: 0.625 | T23: 3 | W23: Manzala, Jerome | X23: 40 | Y23: 64 | Z23: 0.625 | AA23: 4 | AD23: Honeycutt, Wanda | AE23: 48.5 | AF23: 79 | AG23: 0.61392405 | AH23: 7 | AK23: Prothro, Tom | AL23: 55.5 | AM23: 93 | AN23: 0.59677419 | AO23: 10 | AR23: Carrasco, Eli | AS23: 63.5 | AT23: 107 | AU23: 0.59345794 | AV23: 10
B24: Greenwood, Douglas | C24: 11 | D24: 16 | E24: 0.6875 | F24: 1 | I24: Carrasco, Eli | J24: 22 | K24: 32 | L24: 0.6875 | M24: 2 | P24: Ray, Bobby | Q24: 30 | R24: 48 | S24: 0.625 | T24: 2 | W24: Easley, Jordan | X24: 39 | Y24: 64 | Z24: 0.609375 | AA24: 7 | AD24: Curran, Kevin | AE24: 48.5 | AF24: 79 | AG24: 0.61392405 | AH24: 7 | AK24: Carrasco, Eli | AL24: 55.5 | AM24: 93 | AN24: 0.59677419 | AO24: 9 | AR24: Skipper, Eric | AS24: 63.5 | AT24: 107 | AU24: 0.59345794 | AV24: 9
B25: Howard, Bill | C25: 11 | D25: 16 | E25: 0.6875 | F25: 1 | I25: Mattson, Nick | J25: 22 | K25: 32 | L25: 0.6875 | M25: 1 | P25: Lucido, Jordan | Q25: 29 | R25: 48 | S25: 0.60416667 | T25: 5 | W25: Seamands, Mike | X25: 39 | Y25: 64 | Z25: 0.609375 | AA25: 7 | AD25: Seamands, Mike | AE25: 48.5 | AF25: 79 | AG25: 0.61392405 | AH25: 7 | AK25: Rapisand, Ryan | AL25: 55.5 | AM25: 93 | AN25: 0.59677419 | AO25: 8 | AR25: Trant, Amon | AS25: 63.5 | AT25: 107 | AU25: 0.59345794 | AV25: 9
B26: Meyer, Pat | C26: 11 | D26: 16 | E26: 0.6875 | F26: 1 | I26: Buck, Darrell | J26: 21 | K26: 32 | L26: 0.65625 | M26: 4 | P26: Anthis, Micah | Q26: 29 | R26: 48 | S26: 0.60416667 | T26: 5 | W26: White, Shawn | X26: 39 | Y26: 64 | Z26: 0.609375 | AA26: 6 | AD26: Alsobrook, Luke | AE26: 48.5 | AF26: 79 | AG26: 0.61392405 | AH26: 6 | AK26: Rushing, Luke | AL26: 55.5 | AM26: 93 | AN26: 0.59677419 | AO26: 8 | AR26: White, Shawn | AS26: 63.5 | AT26: 107 | AU26: 0.59345794 | AV26: 9
B27: Prothro, Tom | C27: 11 | D27: 16 | E27: 0.6875 | F27: 1 | I27: Lucido, Jordan | J27: 21 | K27: 32 | L27: 0.65625 | M27: 4 | P27: Conklin, Don | Q27: 29 | R27: 48 | S27: 0.60416667 | T27: 5 | W27: Greenwood, Nathan | X27: 39 | Y27: 64 | Z27: 0.609375 | AA27: 6 | AD27: Anthis, Lincoln | AE27: 48.5 | AF27: 79 | AG27: 0.61392405 | AH27: 6 | AK27: Seamands, Mike | AL27: 55.5 | AM27: 93 | AN27: 0.59677419 | AO27: 8 | AR27: Meyer, Brennan | AS27: 63.5 | AT27: 107 | AU27: 0.59345794 | AV27: 5
B28: Rapisand, Ryan | C28: 11 | D28: 16 | E28: 0.6875 | F28: 1 | I28: Anthis, Micah | J28: 21 | K28: 32 | L28: 0.65625 | M28: 4 | P28: Scoville, Jordan | Q28: 29 | R28: 48 | S28: 0.60416667 | T28: 5 | W28: Baker, Ruben | X28: 39 | Y28: 64 | Z28: 0.609375 | AA28: 6 | AD28: Prothro, Tom | AE28: 47.5 | AF28: 79 | AG28: 0.60126582 | AH28: 8 | AK28: Skipper, Eric | AL28: 55.5 | AM28: 93 | AN28: 0.59677419 | AO28: 8 | AR28: Curran, Taylor | AS28: 62.5 | AT28: 107 | AU28: 0.58411215 | AV28: 11
B29: Scoville, Jordan | C29: 11 | D29: 16 | E29: 0.6875 | F29: 1 | I29: Conklin, Don | J29: 21 | K29: 32 | L29: 0.65625 | M29: 4 | P29: Anthis, Michael | Q29: 29 | R29: 48 | S29: 0.60416667 | T29: 5 | W29: Mattson, Nick | X29: 39 | Y29: 64 | Z29: 0.609375 | AA29: 5 | AD29: Greenwood, Nathan | AE29: 47.5 | AF29: 79 | AG29: 0.60126582 | AH29: 8 | AK29: White, Shawn | AL29: 55.5 | AM29: 93 | AN29: 0.59677419 | AO29: 8 | AR29: Meyer, Dave | AS29: 62.5 | AT29: 107 | AU29: 0.58411215 | AV29: 11
B30: Seamands, Jorden | C30: 11 | D30: 16 | E30: 0.6875 | F30: 1 | I30: Baze, Drew | J30: 21 | K30: 32 | L30: 0.65625 | M30: 3 | P30: Young, Michael | Q30: 29 | R30: 48 | S30: 0.60416667 | T30: 4 | W30: Honeycutt, Wanda | X30: 39 | Y30: 64 | Z30: 0.609375 | AA30: 5 | AD30: Conklin, Don | AE30: 47.5 | AF30: 79 | AG30: 0.60126582 | AH30: 7 | AK30: Ray, Bobby | AL30: 55.5 | AM30: 93 | AN30: 0.59677419 | AO30: 7 | AR30: Prothro, Tom | AS30: 62.5 | AT30: 107 | AU30: 0.58411215 | AV30: 11
B31: Mattson, Nick | C31: 11 | D31: 16 | E31: 0.6875 | F31: 0 | I31: Baker, Ruben | J31: 21 | K31: 32 | L31: 0.65625 | M31: 3 | P31: Curran, Taylor | Q31: 29 | R31: 48 | S31: 0.60416667 | T31: 4 | W31: Anthis, Lincoln | X31: 39 | Y31: 64 | Z31: 0.609375 | AA31: 5 | AD31: Harper, Kenneth | AE31: 47.5 | AF31: 79 | AG31: 0.60126582 | AH31: 7 | AK31: McElfish, John | AL31: 54.5 | AM31: 93 | AN31: 0.58602151 | AO31: 12 | AR31: Baze, Drew | AS31: 62.5 | AT31: 107 | AU31: 0.58411215 | AV31: 10
B32: Meyer, Brennan | C32: 11 | D32: 16 | E32: 0.6875 | F32: 0 | I32: Meyer, Pat | J32: 21 | K32: 32 | L32: 0.65625 | M32: 3 | P32: Carrasco, Eli | Q32: 29 | R32: 48 | S32: 0.60416667 | T32: 4 | W32: Meyer, Dave | X32: 39 | Y32: 64 | Z32: 0.609375 | AA32: 5 | AD32: White, Shawn | AE32: 47.5 | AF32: 79 | AG32: 0.60126582 | AH32: 7 | AK32: Ardill, Liam | AL32: 54.5 | AM32: 93 | AN32: 0.58602151 | AO32: 10 | AR32: Mattson, Nick | AS32: 62.5 | AT32: 107 | AU32: 0.58411215 | AV32: 10
... B81: FPLeague | C81: 11 | D81: 16 | E81: 0.6875 | F81: 1 | I81: FPLeague | J81: 22 | K81: 32 | L81: 0.6875 | M81: 3 | P81: FPLeague | Q81: 30 | R81: 48 | S81: 0.625 | T81: 5 | W81: FPLeague | X81: 40 | Y81: 64 | Z81: 0.625 | AA81: 7 | AD81: FPLeague | AE81: 48.5 | AF81: 79 | AG81: 0.61392405 | AH81: 8 | AK81: FPLeague | AL81: 55.5 | AM81: 93 | AN81: 0.59677419 | AO81: 10 | AR81: FPLeague | AS81: 64.5 | AT81: 107 | AU81: 0.60280374 | AV81: 11

Sheet FPL
B1: W01 | D1: W02 | F1: W03 | H1: W04 | J1: W05 | L1: W06 | N1: W07 | P1: W08 | R1: W09 | T1: W10 | V1: W11 | X1: W12 | Z1: W13 | AB1: W14 | AD1: W15 | AF1: W16 | AH1: W17 | AJ1: W18 | AL1: WC | AN1: DIV | AP1: CON | AR1: SB
B2: 49ers | D2: 49ers | F2: 49ers | H2: 49ers | J2: 49ers | L2: 49ers | N2: 49ers
B3: 49ers | D3: 49ers | F3: 49ers | H3: 49ers | J3: 49ers | L3: 49ers | N3: 49ers
B4: Bears | D4: 49ers | F4: 49ers | H4: 49ers | J4: 49ers | L4: 49ers | N4: 49ers
B5: Bears | D5: 49ers | F5: 49ers | H5: 49ers | J5: 49ers | L5: 49ers | N5: 49ers
B6: Bears | D6: 49ers | F6: 49ers | H6: 49ers | J6: 49ers | L6: 49ers | N6: 49ers
B7: Bears | D7: 49ers | F7: 49ers | H7: 49ers | J7: 49ers | L7: 49ers | N7: 49ers
B8: Bears | D8: 49ers | F8: 49ers | H8: 49ers | J8: Bears | L8: 49ers | N8: 49ers
B9: Bears | D9: 49ers | F9: 49ers | H9: Bears | J9: Bengals | L9: 49ers | N9: 49ers
B10: Bears | D10: 49ers | F10: 49ers | H10: Bears | J10: Bengals | L10: 49ers | N10: 49ers
B11: Bears | D11: 49ers | F11: 49ers | H11: Bears | J11: Bengals | L11: 49ers | N11: 49ers
B12: Bears | D12: 49ers | F12: 49ers | H12: Bears | J12: Bengals | L12: 49ers | N12: 49ers
B13: Bears | D13: 49ers | F13: 49ers | H13: Bears | J13: Bengals | L13: 49ers | N13: 49ers
... B34: Chargers | D34: 49ers | F34: 49ers | H34: Chiefs | J34: Bengals | L34: 49ers | N34: Broncos
B35: Chargers | D35: 49ers | E35: 34 | F35: 49ers | H35: Chiefs | J35: Bengals | L35: 49ers | N35: Broncos
B36: Chargers | D36: 49ers | F36: Bengals | H36: Chiefs | J36: Bengals | L36: 49ers | N36: Broncos
B37: Chargers | D37: 49ers | F37: Bengals | H37: Chiefs | J37: Bengals | L37: 49ers | N37: Browns
B38: Chargers | D38: 49ers | F38: Bengals | H38: Chiefs | J38: Bengals | K38: 37 | L38: 49ers | N38: Browns
B39: Chargers | D39: 49ers | F39: Bills | H39: Chiefs | J39: Bengals | L39: Bills | N39: Browns
B40: Chargers | D40: 49ers | F40: Bills | H40: Colts | I40: 32 | J40: Bengals | L40: Bills | N40: Browns
B41: Chargers | D41: 49ers | F41: Bills | H41: Cowboys | J41: Bills | L41: Bills | N41: Chiefs
B42: Chargers | D42: 49ers | F42: Bills | H42: Cowboys | J42: Broncos | L42: Bills | N42: Chiefs
B43: Chargers | D43: 49ers | F43: Bills | H43: Cowboys | J43: Broncos | L43: Bills | N43: Chiefs
B44: Chargers | D44: 49ers | F44: Bills | H44: Giants | J44: Broncos | L44: Bills | N44: Chiefs
B45: Chargers | D45: 49ers | F45: Bills | H45: Giants | J45: Broncos | L45: Bills | N45: Chiefs
B46: Chargers | D46: 49ers | F46: Bills | H46: Lions | J46: Broncos | L46: Bills | N46: Chiefs
B47: Chargers | D47: 49ers | F47: Bills | H47: Lions | J47: Broncos | L47: Bills | N47: Cowboys
B48: Chargers | D48: 49ers | F48: Bills | H48: Lions | J48: Broncos | L48: Bills | N48: Cowboys
B49: Chargers | D49: 49ers | F49: Bills | H49: Lions | J49: Broncos | L49: Bills | N49: Cowboys
B50: Chargers | D50: 49ers | F50: Bills | H50: Lions | J50: Browns | L50: Bills | N50: Cowboys
B51: Chargers | D51: 49ers | F51: Bills | H51: N/A | J51: Browns | L51: Bills | N51: Eagles
B52: Chargers | C52: 51 | D52: 49ers | F52: Bills | H52: N/A | J52: Chargers | L52: Bills | N52: Eagles
B53: Chargers | D53: Bears | F53: Bills | H53: N/A | J53: Colts | L53: Buccaneers | N53: Jets
B54: Chargers | D54: Bears | F54: Bills | H54: N/A | J54: Commanders | L54: Chiefs | N54: Jets
B55: Chargers | D55: Bears | F55: Bills | H55: N/A | J55: Commanders | L55: Chiefs | N55: Jets
B56: Chargers | D56: Bears | F56: Chargers | H56: N/A | J56: Cowboys | L56: Chiefs | N56: Jets
B57: Chargers | D57: Bengals | F57: Chiefs | H57: N/A | J57: Cowboys | L57: Chiefs | N57: Jets
B58: Chargers | D58: Bills | F58: Chiefs | H58: N/A | J58: Cowboys | L58: Chiefs | N58: Lions
B59: Chargers | D59: Bills | F59: Chiefs | H59: Packers | J59: Cowboys | L59: Chiefs | N59: Lions
A60: 37 | B60: Chargers | D60: Bills | F60: Chiefs | H60: Raiders | J60: Cowboys | L60: Chiefs | N60: N/A
...

Sheet W01
B2: 2026 Week 01 Winners: | C2: Seahawks | D2: 49ers | E2: Bengals | F2: Lions | G2: Jets | H2: Ravens | I2: Steelers | J2: Bears | K2: Jaguars | L2: Bills | M2: Raiders | N2: Vikings | O2: Eagles | P2: Cardinals | Q2: Giants | R2: Chiefs
T3: Guarantee | U3: Guarantee | W3: Correct | X3: Guar.
B4: FPLeague | C4: {=_xlfn.IFS(C7>C8, C5, C7<C8, C6, C7=C8, "EVEN")} -> Seahawks | D4: {=_xlfn.IFS(D7>D8, D5, D7<D8, D6, D7=D8, "EVEN")} -> Rams | E4: {=_xlfn.IFS(E7>E8, E5, E7<E8, E6, E7=E8, "EVEN")} -> Bengals | F4: {=_xlfn.IFS(F7>F8, F5, F7<F8, F6, F7=F8, "EVEN")} -> Lions | G4: {=_xlfn.IFS(G7>G8, G5, G7<G8, G6, G7=G8, "EVEN")} -> Titans | H4: {=_xlfn.IFS(H7>H8, H5, H7<H8, H6, H7=H8, "EVEN")} -> Ravens | I4: {=_xlfn.IFS(I7>I8, I5, I7<I8, I6, I7=I8, "EVEN")} -> Steelers | J4: {=_xlfn.IFS(J7>J8, J5, J7<J8, J6, J7=J8, "EVEN")} -> Bears | ... R4: {=_xlfn.IFS(R7>R8, R5, R7<R8, R6, R7=R8, "EVEN")} -> Chiefs | T4: Chargers | U4: Lions | W4: =SUM(Z4:AO4) -> 11 | X4: =SUM(AQ4:AR4) -> 1 | Z4: =IF(C4=C$2,1,0) -> 1 | AA4: =IF(D4=D$2,1,0) -> 0 | AB4: =IF(E4=E$2,1,0) -> 1 | AC4: =IF(F4=F$2,1,0) -> 1 | AD4: =IF(G4=G$2,1,0) -> 0 | AE4: =IF(H4=H$2,1,0) -> 1 | AF4: =IF(I4=I$2,1,0) -> 1 | AG4: =IF(J4=J$2,1,0) -> 1 | ... AO4: =IF(R4=R$2,1,0) -> 1 | AQ4: =COUNTIF($C$2:$R$2, T4) -> 0 | AR4: =COUNTIF($C$2:$R$2, U4) -> 1
B5: Line | C5: Seahawks | D5: Rams | E5: Bengals | F5: Lions | G5: Titans | H5: Ravens | I5: Steelers | J5: Bears | K5: Jaguars | L5: Bills | M5: Raiders | N5: Vikings | O5: Eagles | P5: Chargers | Q5: Cowboys | R5: Chiefs | T5: Chargers | U5: Jaguars | W5: =SUM(Z5:AO5) -> 12 | X5: =SUM(AQ5:AR5) -> 1 | Z5: =IF(C5=C$2,1,0) -> 1 | AA5: =IF(D5=D$2,1,0) -> 0 | AB5: =IF(E5=E$2,1,0) -> 1 | AC5: =IF(F5=F$2,1,0) -> 1 | AD5: =IF(G5=G$2,1,0) -> 0 | AE5: =IF(H5=H$2,1,0) -> 1 | AF5: =IF(I5=I$2,1,0) -> 1 | AG5: =IF(J5=J$2,1,0) -> 1 | ... AO5: =IF(R5=R$2,1,0) -> 1 | AQ5: =COUNTIF($C$2:$R$2, T5) -> 0 | AR5: =COUNTIF($C$2:$R$2, U5) -> 1
B6: Underdogs | C6: Patriots | D6: 49ers | E6: Buccaneers | F6: Saints | G6: Jets | H6: Colts | I6: Falcons | J6: Panthers | K6: Browns | L6: Texans | M6: Dolphins | N6: Packers | O6: Commanders | P6: Cardinals | Q6: Giants | R6: Broncos
B7: Favorite Count | C7: =COUNTIF(C$11:C$87,C5) -> 61 | D7: =COUNTIF(D$11:D$87,D5) -> 68 | E7: =COUNTIF(E$11:E$87,E5) -> 55 | F7: =COUNTIF(F$11:F$87,F5) -> 76 | G7: =COUNTIF(G$11:G$87,G5) -> 61 | H7: =COUNTIF(H$11:H$87,H5) -> 64 | I7: =COUNTIF(I$11:I$87,I5) -> 66 | J7: =COUNTIF(J$11:J$87,J5) -> 66 | ... R7: =COUNTIF(R$11:R$87,R5) -> 52
B8: Underdog Count | C8: =COUNTIF(C$11:C$87,C6) -> 13 | D8: =COUNTIF(D$11:D$87,D6) -> 7 | E8: =COUNTIF(E$11:E$87,E6) -> 22 | F8: =COUNTIF(F$11:F$87,F6) -> 1 | G8: =COUNTIF(G$11:G$87,G6) -> 16 | H8: =COUNTIF(H$11:H$87,H6) -> 13 | I8: =COUNTIF(I$11:I$87,I6) -> 11 | J8: =COUNTIF(J$11:J$87,J6) -> 11 | ... R8: =COUNTIF(R$11:R$87,R6) -> 25
B10: Name | T10: Guarantee | U10: Guarantee | W10: Correct | X10: Guar.
