Workbook

Sheet Rank2004
B1: 2004 FPLeague
B2: Name | C2: Correct | D2: Total | E2: % | F2: Points | H2: w1 | I2: w2 | J2: w3 | K2: w4 | L2: w5 | M2: w6 | N2: w7 | O2: w8 | P2: w9 | Q2: w10 | R2: w11 | S2: w12 | T2: w13 | U2: w14 | V2: w15 | W2: w16 | X2: w17 | Y2: w18 | Z2: Total
A3: 1 | B3: Seamands, Jorden | C3: =Z3 -> 176 | D3: =$Z$30 -> 267 | E3: =C3/D3 -> 0.65917603 | F3: 1387 | H3: =VLOOKUP(B3,'W01'!$A$3:$B$55,2, FALSE) -> 12 | I3: =VLOOKUP(B3,'W02'!$A$3:$B$55,2, FALSE) -> 12 | J3: =VLOOKUP(B3,'W03'!$A$3:$B$55,2, FALSE) -> 9 | K3: =VLOOKUP(B3,'W04'!$A$3:$B$55,2, FALSE) -> 7 | L3: =VLOOKUP(B3,'W05'!$A$3:$B$55,2, FALSE) -> 7 | M3: =VLOOKUP(B3,'W06'!$A$3:$B$55,2, FALSE) -> 9 | N3: =VLOOKUP(B3,'W07'!$A$3:$B$55,2, FALSE) -> 9 | O3: =VLOOKUP(B3,'W08'!$A$3:$B$55,2, FALSE) -> 10 | P3: =VLOOKUP(B3,'W09'!$A$3:$B$55,2, FALSE) -> 6 | Q3: =VLOOKUP(B3,'W10'!$A$3:$B$55,2, FALSE) -> 8 | R3: =VLOOKUP(B3,'W11'!$A$3:$B$55,2, FALSE) -> 14 | S3: =VLOOKUP(B3,'W12'!$A$3:$B$55,2, FALSE) -> 10 | T3: =VLOOKUP(B3,'W13'!$A$3:$B$55,2, FALSE) -> 12 | U3: =VLOOKUP(B3,'W14'!$A$3:$B$55,2, FALSE) -> 13 | V3: =VLOOKUP(B3,'W15'!$A$3:$B$55,2, FALSE) -> 12 | W3: =VLOOKUP(B3,'W16'!$A$3:$B$55,2, FALSE) -> 12 | X3: =VLOOKUP(B3,'W17'!$A$3:$B$55,2, FALSE) -> 7 | Y3: =VLOOKUP(B3,'W18'!$A$3:$B$54,2, FALSE) -> 7 | Z3: =SUM(H3:Y3) -> 176
A4: 2 | B4: Honea, Randy | C4: =Z4 -> 174 | D4: =$Z$30 -> 267 | E4: =C4/D4 -> 0.65168539 | F4: 1353 | H4: =VLOOKUP(B4,'W01'!$A$3:$B$55,2, FALSE) -> 7 | I4: =VLOOKUP(B4,'W02'!$A$3:$B$55,2, FALSE) -> 11 | J4: =VLOOKUP(B4,'W03'!$A$3:$B$55,2, FALSE) -> 9 | K4: =VLOOKUP(B4,'W04'!$A$3:$B$55,2, FALSE) -> 8 | L4: =VLOOKUP(B4,'W05'!$A$3:$B$55,2, FALSE) -> 8 | M4: =VLOOKUP(B4,'W06'!$A$3:$B$55,2, FALSE) -> 11 | N4: =VLOOKUP(B4,'W07'!$A$3:$B$55,2, FALSE) -> 6 | O4: =VLOOKUP(B4,'W08'!$A$3:$B$55,2, FALSE) -> 11 | P4: =VLOOKUP(B4,'W09'!$A$3:$B$55,2, FALSE) -> 8 | Q4: =VLOOKUP(B4,'W10'!$A$3:$B$55,2, FALSE) -> 8 | R4: =VLOOKUP(B4,'W11'!$A$3:$B$55,2, FALSE) -> 14 | S4: =VLOOKUP(B4,'W12'!$A$3:$B$55,2, FALSE) -> 14 | T4: =VLOOKUP(B4,'W13'!$A$3:$B$55,2, FALSE) -> 11 | U4: =VLOOKUP(B4,'W14'!$A$3:$B$55,2, FALSE) -> 13 | V4: =VLOOKUP(B4,'W15'!$A$3:$B$55,2, FALSE) -> 10 | W4: =VLOOKUP(B4,'W16'!$A$3:$B$55,2, FALSE) -> 11 | X4: =VLOOKUP(B4,'W17'!$A$3:$B$55,2, FALSE) -> 7 | Y4: =VLOOKUP(B4,'W18'!$A$3:$B$54,2, FALSE) -> 7 | Z4: =SUM(H4:Y4) -> 174
A5: 3 | B5: Ardill, Scott | C5: =Z5 -> 171 | D5: =$Z$30 -> 267 | E5: =C5/D5 -> 0.64044944 | H5: =VLOOKUP(B5,'W01'!$A$3:$B$55,2, FALSE) -> 8 | I5: =VLOOKUP(B5,'W02'!$A$3:$B$55,2, FALSE) -> 10 | J5: =VLOOKUP(B5,'W03'!$A$3:$B$55,2, FALSE) -> 10 | K5: =VLOOKUP(B5,'W04'!$A$3:$B$55,2, FALSE) -> 8 | L5: =VLOOKUP(B5,'W05'!$A$3:$B$55,2, FALSE) -> 7 | M5: =VLOOKUP(B5,'W06'!$A$3:$B$55,2, FALSE) -> 11 | N5: =VLOOKUP(B5,'W07'!$A$3:$B$55,2, FALSE) -> 6 | O5: =VLOOKUP(B5,'W08'!$A$3:$B$55,2, FALSE) -> 8 | P5: =VLOOKUP(B5,'W09'!$A$3:$B$55,2, FALSE) -> 7 | Q5: =VLOOKUP(B5,'W10'!$A$3:$B$55,2, FALSE) -> 10 | R5: =VLOOKUP(B5,'W11'!$A$3:$B$55,2, FALSE) -> 13 | S5: =VLOOKUP(B5,'W12'!$A$3:$B$55,2, FALSE) -> 11 | T5: =VLOOKUP(B5,'W13'!$A$3:$B$55,2, FALSE) -> 10 | U5: =VLOOKUP(B5,'W14'!$A$3:$B$55,2, FALSE) -> 12 | V5: =VLOOKUP(B5,'W15'!$A$3:$B$55,2, FALSE) -> 10 | W5: =VLOOKUP(B5,'W16'!$A$3:$B$55,2, FALSE) -> 13 | X5: =VLOOKUP(B5,'W17'!$A$3:$B$55,2, FALSE) -> 9 | Y5: =VLOOKUP(B5,'W18'!$A$3:$B$54,2, FALSE) -> 8 | Z5: =SUM(H5:Y5) -> 171
A6: 4 | B6: Prothro, Tom | C6: =Z6 -> 167 | D6: =$Z$30 -> 267 | E6: =C6/D6 -> 0.62546816 | H6: =VLOOKUP(B6,'W01'!$A$3:$B$55,2, FALSE) -> 9 | I6: =VLOOKUP(B6,'W02'!$A$3:$B$55,2, FALSE) -> 6 | J6: =VLOOKUP(B6,'W03'!$A$3:$B$55,2, FALSE) -> 10 | K6: =VLOOKUP(B6,'W04'!$A$3:$B$55,2, FALSE) -> 8 | L6: =VLOOKUP(B6,'W05'!$A$3:$B$55,2, FALSE) -> 7 | M6: =VLOOKUP(B6,'W06'!$A$3:$B$55,2, FALSE) -> 11 | N6: =VLOOKUP(B6,'W07'!$A$3:$B$55,2, FALSE) -> 8 | O6: =VLOOKUP(B6,'W08'!$A$3:$B$55,2, FALSE) -> 10 | P6: =VLOOKUP(B6,'W09'!$A$3:$B$55,2, FALSE) -> 6 | Q6: =VLOOKUP(B6,'W10'!$A$3:$B$55,2, FALSE) -> 9 | R6: =VLOOKUP(B6,'W11'!$A$3:$B$55,2, FALSE) -> 14 | S6: =VLOOKUP(B6,'W12'!$A$3:$B$55,2, FALSE) -> 12 | T6: =VLOOKUP(B6,'W13'!$A$3:$B$55,2, FALSE) -> 10 | U6: =VLOOKUP(B6,'W14'!$A$3:$B$55,2, FALSE) -> 12 | V6: =VLOOKUP(B6,'W15'!$A$3:$B$55,2, FALSE) -> 12 | W6: =VLOOKUP(B6,'W16'!$A$3:$B$55,2, FALSE) -> 10 | X6: =VLOOKUP(B6,'W17'!$A$3:$B$55,2, FALSE) -> 7 | Y6: =VLOOKUP(B6,'W18'!$A$3:$B$54,2, FALSE) -> 6 | Z6: =SUM(H6:Y6) -> 167
A7: 5 | B7: McGarr, Elizabeth | C7: =Z7 -> 163 | D7: =$Z$30 -> 267 | E7: =C7/D7 -> 0.61048689 | H7: =VLOOKUP(B7,'W01'!$A$3:$B$55,2, FALSE) -> 9 | I7: =VLOOKUP(B7,'W02'!$A$3:$B$55,2, FALSE) -> 12 | J7: =VLOOKUP(B7,'W03'!$A$3:$B$55,2, FALSE) -> 7 | K7: =VLOOKUP(B7,'W04'!$A$3:$B$55,2, FALSE) -> 11 | L7: =VLOOKUP(B7,'W05'!$A$3:$B$55,2, FALSE) -> 9 | M7: =VLOOKUP(B7,'W06'!$A$3:$B$55,2, FALSE) -> 9 | N7: =VLOOKUP(B7,'W07'!$A$3:$B$55,2, FALSE) -> 6 | O7: =VLOOKUP(B7,'W08'!$A$3:$B$55,2, FALSE) -> 10 | P7: =VLOOKUP(B7,'W09'!$A$3:$B$55,2, FALSE) -> 6 | Q7: =VLOOKUP(B7,'W10'!$A$3:$B$55,2, FALSE) -> 9 | R7: =VLOOKUP(B7,'W11'!$A$3:$B$55,2, FALSE) -> 11 | S7: =VLOOKUP(B7,'W12'!$A$3:$B$55,2, FALSE) -> 9 | T7: =VLOOKUP(B7,'W13'!$A$3:$B$55,2, FALSE) -> 12 | U7: =VLOOKUP(B7,'W14'!$A$3:$B$55,2, FALSE) -> 11 | V7: =VLOOKUP(B7,'W15'!$A$3:$B$55,2, FALSE) -> 7 | W7: =VLOOKUP(B7,'W16'!$A$3:$B$55,2, FALSE) -> 11 | X7: =VLOOKUP(B7,'W17'!$A$3:$B$55,2, FALSE) -> 8 | Y7: =VLOOKUP(B7,'W18'!$A$3:$B$54,2, FALSE) -> 6 | Z7: =SUM(H7:Y7) -> 163
A8: 6 | B8: Huggins, Jonathan | C8: =Z8 -> 162 | D8: =$Z$30 -> 267 | E8: =C8/D8 -> 0.60674157 | H8: =VLOOKUP(B8,'W01'!$A$3:$B$55,2, FALSE) -> 10 | I8: =VLOOKUP(B8,'W02'!$A$3:$B$55,2, FALSE) -> 10 | J8: =VLOOKUP(B8,'W03'!$A$3:$B$55,2, FALSE) -> 10 | K8: =VLOOKUP(B8,'W04'!$A$3:$B$55,2, FALSE) -> 9 | L8: =VLOOKUP(B8,'W05'!$A$3:$B$55,2, FALSE) -> 5 | M8: =VLOOKUP(B8,'W06'!$A$3:$B$55,2, FALSE) -> 11 | N8: =VLOOKUP(B8,'W07'!$A$3:$B$55,2, FALSE) -> 4 | O8: =VLOOKUP(B8,'W08'!$A$3:$B$55,2, FALSE) -> 9 | P8: =VLOOKUP(B8,'W09'!$A$3:$B$55,2, FALSE) -> 6 | Q8: =VLOOKUP(B8,'W10'!$A$3:$B$55,2, FALSE) -> 7 | R8: =VLOOKUP(B8,'W11'!$A$3:$B$55,2, FALSE) -> 12 | S8: =VLOOKUP(B8,'W12'!$A$3:$B$55,2, FALSE) -> 11 | T8: =VLOOKUP(B8,'W13'!$A$3:$B$55,2, FALSE) -> 11 | U8: =VLOOKUP(B8,'W14'!$A$3:$B$55,2, FALSE) -> 11 | V8: =VLOOKUP(B8,'W15'!$A$3:$B$55,2, FALSE) -> 11 | W8: =VLOOKUP(B8,'W16'!$A$3:$B$55,2, FALSE) -> 12 | X8: =VLOOKUP(B8,'W17'!$A$3:$B$55,2, FALSE) -> 6 | Y8: =VLOOKUP(B8,'W18'!$A$3:$B$54,2, FALSE) -> 7 | Z8: =SUM(H8:Y8) -> 162
A9: 7 | B9: Zorn, Chad | C9: =Z9 -> 160 | D9: =$Z$30 -> 267 | E9: =C9/D9 -> 0.59925094 | H9: =VLOOKUP(B9,'W01'!$A$3:$B$55,2, FALSE) -> 11 | I9: =VLOOKUP(B9,'W02'!$A$3:$B$55,2, FALSE) -> 10 | J9: =VLOOKUP(B9,'W03'!$A$3:$B$55,2, FALSE) -> 10 | K9: =VLOOKUP(B9,'W04'!$A$3:$B$55,2, FALSE) -> 6 | L9: =VLOOKUP(B9,'W05'!$A$3:$B$55,2, FALSE) -> 8 | M9: =VLOOKUP(B9,'W06'!$A$3:$B$55,2, FALSE) -> 8 | N9: =VLOOKUP(B9,'W07'!$A$3:$B$55,2, FALSE) -> 9 | O9: =VLOOKUP(B9,'W08'!$A$3:$B$55,2, FALSE) -> 5 | P9: =VLOOKUP(B9,'W09'!$A$3:$B$55,2, FALSE) -> 7 | Q9: =VLOOKUP(B9,'W10'!$A$3:$B$55,2, FALSE) -> 10 | R9: =VLOOKUP(B9,'W11'!$A$3:$B$55,2, FALSE) -> 12 | S9: =VLOOKUP(B9,'W12'!$A$3:$B$55,2, FALSE) -> 10 | T9: =VLOOKUP(B9,'W13'!$A$3:$B$55,2, FALSE) -> 10 | U9: =VLOOKUP(B9,'W14'!$A$3:$B$55,2, FALSE) -> 13 | V9: =VLOOKUP(B9,'W15'!$A$3:$B$55,2, FALSE) -> 6 | W9: =VLOOKUP(B9,'W16'!$A$3:$B$55,2, FALSE) -> 13 | X9: =VLOOKUP(B9,'W17'!$A$3:$B$55,2, FALSE) -> 8 | Y9: =VLOOKUP(B9,'W18'!$A$3:$B$54,2, FALSE) -> 4 | Z9: =SUM(H9:Y9) -> 160
A10: 8-T | B10: Seamands, Mike | C10: =Z10 -> 159 | D10: =$Z$30 -> 267 | E10: =C10/D10 -> 0.59550562 | H10: =VLOOKUP(B10,'W01'!$A$3:$B$55,2, FALSE) -> 8 | I10: =VLOOKUP(B10,'W02'!$A$3:$B$55,2, FALSE) -> 13 | J10: =VLOOKUP(B10,'W03'!$A$3:$B$55,2, FALSE) -> 11 | K10: =VLOOKUP(B10,'W04'!$A$3:$B$55,2, FALSE) -> 7 | L10: =VLOOKUP(B10,'W05'!$A$3:$B$55,2, FALSE) -> 9 | M10: =VLOOKUP(B10,'W06'!$A$3:$B$55,2, FALSE) -> 9 | N10: =VLOOKUP(B10,'W07'!$A$3:$B$55,2, FALSE) -> 9 | O10: =VLOOKUP(B10,'W08'!$A$3:$B$55,2, FALSE) -> 8 | P10: =VLOOKUP(B10,'W09'!$A$3:$B$55,2, FALSE) -> 7 | Q10: =VLOOKUP(B10,'W10'!$A$3:$B$55,2, FALSE) -> 6 | R10: =VLOOKUP(B10,'W11'!$A$3:$B$55,2, FALSE) -> 8 | S10: =VLOOKUP(B10,'W12'!$A$3:$B$55,2, FALSE) -> 9 | T10: =VLOOKUP(B10,'W13'!$A$3:$B$55,2, FALSE) -> 10 | U10: =VLOOKUP(B10,'W14'!$A$3:$B$55,2, FALSE) -> 13 | V10: =VLOOKUP(B10,'W15'!$A$3:$B$55,2, FALSE) -> 10 | W10: =VLOOKUP(B10,'W16'!$A$3:$B$55,2, FALSE) -> 9 | X10: =VLOOKUP(B10,'W17'!$A$3:$B$55,2, FALSE) -> 8 | Y10: =VLOOKUP(B10,'W18'!$A$3:$B$54,2, FALSE) -> 5 | Z10: =SUM(H10:Y10) -> 159
A11: 8-T | B11: Trant, Ashley | C11: =Z11 -> 159 | D11: =$Z$30 -> 267 | E11: =C11/D11 -> 0.59550562 | H11: =VLOOKUP(B11,'W01'!$A$3:$B$55,2, FALSE) -> 10 | I11: =VLOOKUP(B11,'W02'!$A$3:$B$55,2, FALSE) -> 9 | J11: =VLOOKUP(B11,'W03'!$A$3:$B$55,2, FALSE) -> 8 | K11: =VLOOKUP(B11,'W04'!$A$3:$B$55,2, FALSE) -> 7 | L11: =VLOOKUP(B11,'W05'!$A$3:$B$55,2, FALSE) -> 9 | M11: =VLOOKUP(B11,'W06'!$A$3:$B$55,2, FALSE) -> 10 | N11: =VLOOKUP(B11,'W07'!$A$3:$B$55,2, FALSE) -> 8 | O11: =VLOOKUP(B11,'W08'!$A$3:$B$55,2, FALSE) -> 5 | P11: =VLOOKUP(B11,'W09'!$A$3:$B$55,2, FALSE) -> 9 | Q11: =VLOOKUP(B11,'W10'!$A$3:$B$55,2, FALSE) -> 7 | R11: =VLOOKUP(B11,'W11'!$A$3:$B$55,2, FALSE) -> 12 | S11: =VLOOKUP(B11,'W12'!$A$3:$B$55,2, FALSE) -> 9 | T11: =VLOOKUP(B11,'W13'!$A$3:$B$55,2, FALSE) -> 9 | U11: =VLOOKUP(B11,'W14'!$A$3:$B$55,2, FALSE) -> 13 | V11: =VLOOKUP(B11,'W15'!$A$3:$B$55,2, FALSE) -> 10 | W11: =VLOOKUP(B11,'W16'!$A$3:$B$55,2, FALSE) -> 13 | X11: =VLOOKUP(B11,'W17'!$A$3:$B$55,2, FALSE) -> 8 | Y11: =VLOOKUP(B11,'W18'!$A$3:$B$54,2, FALSE) -> 3 | Z11: =SUM(H11:Y11) -> 159
A12: 10 | B12: Curran, Kevin | C12: =Z12 -> 155 | D12: =$Z$30 -> 267 | E12: =C12/D12 -> 0.58052434 | H12: =VLOOKUP(B12,'W01'!$A$3:$B$55,2, FALSE) -> 9 | I12: =VLOOKUP(B12,'W02'!$A$3:$B$55,2, FALSE) -> 6 | J12: =VLOOKUP(B12,'W03'!$A$3:$B$55,2, FALSE) -> 9 | K12: =VLOOKUP(B12,'W04'!$A$3:$B$55,2, FALSE) -> 8 | L12: =VLOOKUP(B12,'W05'!$A$3:$B$55,2, FALSE) -> 7 | M12: =VLOOKUP(B12,'W06'!$A$3:$B$55,2, FALSE) -> 9 | N12: =VLOOKUP(B12,'W07'!$A$3:$B$55,2, FALSE) -> 6 | O12: =VLOOKUP(B12,'W08'!$A$3:$B$55,2, FALSE) -> 5 | P12: =VLOOKUP(B12,'W09'!$A$3:$B$55,2, FALSE) -> 9 | Q12: =VLOOKUP(B12,'W10'!$A$3:$B$55,2, FALSE) -> 7 | R12: =VLOOKUP(B12,'W11'!$A$3:$B$55,2, FALSE) -> 13 | S12: =VLOOKUP(B12,'W12'!$A$3:$B$55,2, FALSE) -> 12 | T12: =VLOOKUP(B12,'W13'!$A$3:$B$55,2, FALSE) -> 9 | U12: =VLOOKUP(B12,'W14'!$A$3:$B$55,2, FALSE) -> 12 | V12: =VLOOKUP(B12,'W15'!$A$3:$B$55,2, FALSE) -> 11 | W12: =VLOOKUP(B12,'W16'!$A$3:$B$55,2, FALSE) -> 7 | X12: =VLOOKUP(B12,'W17'!$A$3:$B$55,2, FALSE) -> 8 | Y12: =VLOOKUP(B12,'W18'!$A$3:$B$54,2, FALSE) -> 8 | Z12: =SUM(H12:Y12) -> 155
A13: 11 | B13: Trant, Travis | C13: =Z13 -> 154 | D13: =$Z$30 -> 267 | E13: =C13/D13 -> 0.57677903 | H13: =VLOOKUP(B13,'W01'!$A$3:$B$55,2, FALSE) -> 9 | I13: =VLOOKUP(B13,'W02'!$A$3:$B$55,2, FALSE) -> 8 | J13: =VLOOKUP(B13,'W03'!$A$3:$B$55,2, FALSE) -> 10 | K13: =VLOOKUP(B13,'W04'!$A$3:$B$55,2, FALSE) -> 9 | L13: =VLOOKUP(B13,'W05'!$A$3:$B$55,2, FALSE) -> 6 | M13: =VLOOKUP(B13,'W06'!$A$3:$B$55,2, FALSE) -> 9 | N13: =VLOOKUP(B13,'W07'!$A$3:$B$55,2, FALSE) -> 5 | O13: =VLOOKUP(B13,'W08'!$A$3:$B$55,2, FALSE) -> 9 | P13: =VLOOKUP(B13,'W09'!$A$3:$B$55,2, FALSE) -> 7 | Q13: =VLOOKUP(B13,'W10'!$A$3:$B$55,2, FALSE) -> 8 | R13: =VLOOKUP(B13,'W11'!$A$3:$B$55,2, FALSE) -> 12 | S13: =VLOOKUP(B13,'W12'!$A$3:$B$55,2, FALSE) -> 10 | T13: =VLOOKUP(B13,'W13'!$A$3:$B$55,2, FALSE) -> 7 | U13: =VLOOKUP(B13,'W14'!$A$3:$B$55,2, FALSE) -> 11 | V13: =VLOOKUP(B13,'W15'!$A$3:$B$55,2, FALSE) -> 12 | W13: =VLOOKUP(B13,'W16'!$A$3:$B$55,2, FALSE) -> 11 | X13: =VLOOKUP(B13,'W17'!$A$3:$B$55,2, FALSE) -> 7 | Y13: =VLOOKUP(B13,'W18'!$A$3:$B$54,2, FALSE) -> 4 | Z13: =SUM(H13:Y13) -> 154
A14: 12 | B14: Manuel, Greg | C14: =Z14 -> 152 | D14: =$Z$30 -> 267 | E14: =C14/D14 -> 0.56928839 | H14: =VLOOKUP(B14,'W01'!$A$3:$B$55,2, FALSE) -> 8 | I14: =VLOOKUP(B14,'W02'!$A$3:$B$55,2, FALSE) -> 9 | J14: =VLOOKUP(B14,'W03'!$A$3:$B$55,2, FALSE) -> 10 | K14: =VLOOKUP(B14,'W04'!$A$3:$B$55,2, FALSE) -> 11 | L14: =VLOOKUP(B14,'W05'!$A$3:$B$55,2, FALSE) -> 6 | M14: =VLOOKUP(B14,'W06'!$A$3:$B$55,2, FALSE) -> 10 | N14: =VLOOKUP(B14,'W07'!$A$3:$B$55,2, FALSE) -> 8 | O14: =VLOOKUP(B14,'W08'!$A$3:$B$55,2, FALSE) -> 6 | P14: =VLOOKUP(B14,'W09'!$A$3:$B$55,2, FALSE) -> 6 | Q14: =VLOOKUP(B14,'W10'!$A$3:$B$55,2, FALSE) -> 8 | R14: =VLOOKUP(B14,'W11'!$A$3:$B$55,2, FALSE) -> 12 | S14: =VLOOKUP(B14,'W12'!$A$3:$B$55,2, FALSE) -> 5 | T14: =VLOOKUP(B14,'W13'!$A$3:$B$55,2, FALSE) -> 8 | U14: =VLOOKUP(B14,'W14'!$A$3:$B$55,2, FALSE) -> 14 | V14: =VLOOKUP(B14,'W15'!$A$3:$B$55,2, FALSE) -> 11 | W14: =VLOOKUP(B14,'W16'!$A$3:$B$55,2, FALSE) -> 6 | X14: =VLOOKUP(B14,'W17'!$A$3:$B$55,2, FALSE) -> 8 | Y14: =VLOOKUP(B14,'W18'!$A$3:$B$54,2, FALSE) -> 6 | Z14: =SUM(H14:Y14) -> 152
A15: 13 | B15: Harvey, Chet | C15: =Z15 -> 150 | D15: =$Z$30 -> 267 | E15: =C15/D15 -> 0.56179775 | H15: =VLOOKUP(B15,'W01'!$A$3:$B$55,2, FALSE) -> 8 | I15: =VLOOKUP(B15,'W02'!$A$3:$B$55,2, FALSE) -> 8 | J15: =VLOOKUP(B15,'W03'!$A$3:$B$55,2, FALSE) -> 11 | K15: =VLOOKUP(B15,'W04'!$A$3:$B$55,2, FALSE) -> 7 | L15: =VLOOKUP(B15,'W05'!$A$3:$B$55,2, FALSE) -> 7 | M15: =VLOOKUP(B15,'W06'!$A$3:$B$55,2, FALSE) -> 11 | N15: =VLOOKUP(B15,'W07'!$A$3:$B$55,2, FALSE) -> 7 | O15: =VLOOKUP(B15,'W08'!$A$3:$B$55,2, FALSE) -> 11 | P15: =VLOOKUP(B15,'W09'!$A$3:$B$55,2, FALSE) -> 4 | Q15: =VLOOKUP(B15,'W10'!$A$3:$B$55,2, FALSE) -> 9 | R15: =VLOOKUP(B15,'W11'!$A$3:$B$55,2, FALSE) -> 11 | S15: =VLOOKUP(B15,'W12'!$A$3:$B$55,2, FALSE) -> 9 | T15: =VLOOKUP(B15,'W13'!$A$3:$B$55,2, FALSE) -> 11 | U15: =VLOOKUP(B15,'W14'!$A$3:$B$55,2, FALSE) -> 12 | V15: =VLOOKUP(B15,'W15'!$A$3:$B$55,2, FALSE) -> 11 | W15: =VLOOKUP(B15,'W16'!$A$3:$B$55,2, FALSE) -> 9 | X15: =VLOOKUP(B15,'W17'!$A$3:$B$55,2, FALSE) -> 4 | Y15: =VLOOKUP(B15,'W18'!$A$3:$B$54,2, FALSE) -> 0 | Z15: =SUM(H15:Y15) -> 150
A16: 14 | B16: Skipper, Eric | C16: =Z16 -> 143 | D16: =$Z$30 -> 267 | E16: =C16/D16 -> 0.53558052 | H16: =VLOOKUP(B16,'W01'!$A$3:$B$55,2, FALSE) -> 6 | I16: =VLOOKUP(B16,'W02'!$A$3:$B$55,2, FALSE) -> 10 | J16: =VLOOKUP(B16,'W03'!$A$3:$B$55,2, FALSE) -> 10 | K16: =VLOOKUP(B16,'W04'!$A$3:$B$55,2, FALSE) -> 5 | L16: =VLOOKUP(B16,'W05'!$A$3:$B$55,2, FALSE) -> 7 | M16: =VLOOKUP(B16,'W06'!$A$3:$B$55,2, FALSE) -> 6 | N16: =VLOOKUP(B16,'W07'!$A$3:$B$55,2, FALSE) -> 5 | O16: =VLOOKUP(B16,'W08'!$A$3:$B$55,2, FALSE) -> 11 | P16: =VLOOKUP(B16,'W09'!$A$3:$B$55,2, FALSE) -> 6 | Q16: =VLOOKUP(B16,'W10'!$A$3:$B$55,2, FALSE) -> 8 | R16: =VLOOKUP(B16,'W11'!$A$3:$B$55,2, FALSE) -> 8 | S16: =VLOOKUP(B16,'W12'!$A$3:$B$55,2, FALSE) -> 5 | T16: =VLOOKUP(B16,'W13'!$A$3:$B$55,2, FALSE) -> 12 | U16: =VLOOKUP(B16,'W14'!$A$3:$B$55,2, FALSE) -> 12 | V16: =VLOOKUP(B16,'W15'!$A$3:$B$55,2, FALSE) -> 9 | W16: =VLOOKUP(B16,'W16'!$A$3:$B$55,2, FALSE) -> 12 | X16: =VLOOKUP(B16,'W17'!$A$3:$B$55,2, FALSE) -> 5 | Y16: =VLOOKUP(B16,'W18'!$A$3:$B$54,2, FALSE) -> 6 | Z16: =SUM(H16:Y16) -> 143
A17: 15 | B17: Prothro, Kim | C17: =Z17 -> 138 | D17: =$Z$30 -> 267 | E17: =C17/D17 -> 0.51685393 | H17: =VLOOKUP(B17,'W01'!$A$3:$B$55,2, FALSE) -> 5 | I17: =VLOOKUP(B17,'W02'!$A$3:$B$55,2, FALSE) -> 6 | J17: =VLOOKUP(B17,'W03'!$A$3:$B$55,2, FALSE) -> 7 | K17: =VLOOKUP(B17,'W04'!$A$3:$B$55,2, FALSE) -> 7 | L17: =VLOOKUP(B17,'W05'!$A$3:$B$55,2, FALSE) -> 8 | M17: =VLOOKUP(B17,'W06'!$A$3:$B$55,2, FALSE) -> 11 | N17: =VLOOKUP(B17,'W07'!$A$3:$B$55,2, FALSE) -> 5 | O17: =VLOOKUP(B17,'W08'!$A$3:$B$55,2, FALSE) -> 4 | P17: =VLOOKUP(B17,'W09'!$A$3:$B$55,2, FALSE) -> 5 | Q17: =VLOOKUP(B17,'W10'!$A$3:$B$55,2, FALSE) -> 7 | R17: =VLOOKUP(B17,'W11'!$A$3:$B$55,2, FALSE) -> 13 | S17: =VLOOKUP(B17,'W12'!$A$3:$B$55,2, FALSE) -> 13 | T17: =VLOOKUP(B17,'W13'!$A$3:$B$55,2, FALSE) -> 9 | U17: =VLOOKUP(B17,'W14'!$A$3:$B$55,2, FALSE) -> 10 | V17: =VLOOKUP(B17,'W15'!$A$3:$B$55,2, FALSE) -> 9 | W17: =VLOOKUP(B17,'W16'!$A$3:$B$55,2, FALSE) -> 8 | X17: =VLOOKUP(B17,'W17'!$A$3:$B$55,2, FALSE) -> 8 | Y17: =VLOOKUP(B17,'W18'!$A$3:$B$54,2, FALSE) -> 3 | Z17: =SUM(H17:Y17) -> 138
A18: 16 | B18: Markel, Lori | C18: =Z18 -> 135 | D18: =$Z$30 -> 267 | E18: =C18/D18 -> 0.50561798 | H18: =VLOOKUP(B18,'W01'!$A$3:$B$55,2, FALSE) -> 11 | I18: =VLOOKUP(B18,'W02'!$A$3:$B$55,2, FALSE) -> 6 | J18: =VLOOKUP(B18,'W03'!$A$3:$B$55,2, FALSE) -> 6 | K18: =VLOOKUP(B18,'W04'!$A$3:$B$55,2, FALSE) -> 6 | L18: =VLOOKUP(B18,'W05'!$A$3:$B$55,2, FALSE) -> 9 | M18: =VLOOKUP(B18,'W06'!$A$3:$B$55,2, FALSE) -> 10 | N18: =VLOOKUP(B18,'W07'!$A$3:$B$55,2, FALSE) -> 8 | O18: =VLOOKUP(B18,'W08'!$A$3:$B$55,2, FALSE) -> 6 | P18: =VLOOKUP(B18,'W09'!$A$3:$B$55,2, FALSE) -> 10 | Q18: =VLOOKUP(B18,'W10'!$A$3:$B$55,2, FALSE) -> 7 | R18: =VLOOKUP(B18,'W11'!$A$3:$B$55,2, FALSE) -> 9 | S18: =VLOOKUP(B18,'W12'!$A$3:$B$55,2, FALSE) -> 6 | T18: =VLOOKUP(B18,'W13'!$A$3:$B$55,2, FALSE) -> 6 | U18: =VLOOKUP(B18,'W14'!$A$3:$B$55,2, FALSE) -> 13 | V18: =VLOOKUP(B18,'W15'!$A$3:$B$55,2, FALSE) -> 4 | W18: =VLOOKUP(B18,'W16'!$A$3:$B$55,2, FALSE) -> 8 | X18: =VLOOKUP(B18,'W17'!$A$3:$B$55,2, FALSE) -> 8 | Y18: =VLOOKUP(B18,'W18'!$A$3:$B$54,2, FALSE) -> 2 | Z18: =SUM(H18:Y18) -> 135
A19: 17 | B19: Prothro, Evan ** | C19: =Z19 -> 134 | D19: 256 | E19: =C19/D19 -> 0.5234375 | H19: 10 | I19: 5 | J19: 8 | K19: 8 | L19: 8 | M19: 9 | N19: 7 | O19: 7 | P19: 3 | Q19: 5 | R19: 14 | S19: 5 | T19: 13 | U19: 11 | V19: 3 | W19: 14 | X19: 4 | Y19: - | Z19: =SUM(H19:Y19) -> 134
A20: 18 | B20: Baze, Drew | C20: =Z20 -> 133 | D20: =$Z$30 -> 267 | E20: =C20/D20 -> 0.49812734 | H20: =VLOOKUP(B20,'W01'!$A$3:$B$55,2, FALSE) -> 7 | I20: =VLOOKUP(B20,'W02'!$A$3:$B$55,2, FALSE) -> 9 | J20: =VLOOKUP(B20,'W03'!$A$3:$B$55,2, FALSE) -> 9 | K20: =VLOOKUP(B20,'W04'!$A$3:$B$55,2, FALSE) -> 7 | L20: =VLOOKUP(B20,'W05'!$A$3:$B$55,2, FALSE) -> 7 | M20: =VLOOKUP(B20,'W06'!$A$3:$B$55,2, FALSE) -> 7 | N20: =VLOOKUP(B20,'W07'!$A$3:$B$55,2, FALSE) -> 4 | O20: =VLOOKUP(B20,'W08'!$A$3:$B$55,2, FALSE) -> 8 | P20: =VLOOKUP(B20,'W09'!$A$3:$B$55,2, FALSE) -> 5 | Q20: =VLOOKUP(B20,'W10'!$A$3:$B$55,2, FALSE) -> 6 | R20: =VLOOKUP(B20,'W11'!$A$3:$B$55,2, FALSE) -> 14 | S20: =VLOOKUP(B20,'W12'!$A$3:$B$55,2, FALSE) -> 8 | T20: =VLOOKUP(B20,'W13'!$A$3:$B$55,2, FALSE) -> 11 | U20: =VLOOKUP(B20,'W14'!$A$3:$B$55,2, FALSE) -> 10 | V20: =VLOOKUP(B20,'W15'!$A$3:$B$55,2, FALSE) -> 8 | W20: =VLOOKUP(B20,'W16'!$A$3:$B$55,2, FALSE) -> 7 | X20: =VLOOKUP(B20,'W17'!$A$3:$B$55,2, FALSE) -> 5 | Y20: =VLOOKUP(B20,'W18'!$A$3:$B$54,2, FALSE) -> 1 | Z20: =SUM(H20:Y20) -> 133
A21: 19 | B21: Pasumarthy, Praveen ** | C21: =Z21 -> 125 | D21: 256 | E21: =C21/D21 -> 0.48828125 | H21: 5 | I21: 8 | J21: 10 | K21: 7 | L21: 6 | M21: 10 | N21: 6 | O21: 6 | P21: 6 | Q21: 5 | R21: 12 | S21: 14 | T21: 7 | U21: 10 | V21: 3 | W21: 6 | X21: 4 | Y21: - | Z21: =SUM(H21:Y21) -> 125
A22: 20 | B22: Hall, Bernie ** | C22: =Z22 -> 122 | D22: 224 | E22: =C22/D22 -> 0.54464286 | H22: 10 | I22: 7 | J22: 7 | K22: 11 | L22: 10 | M22: 7 | N22: 10 | O22: 8 | P22: 9 | Q22: 9 | R22: 11 | S22: 5 | T22: 5 | U22: 10 | V22: 3 | W22: - | X22: - | Y22: - | Z22: =SUM(H22:Y22) -> 122
A23: 21 | B23: Alsobrook, Luke ** | C23: =Z23 -> 118 | D23: 224 | E23: =C23/D23 -> 0.52678571 | H23: 10 | I23: 12 | J23: 10 | K23: 7 | L23: 9 | M23: 10 | N23: 6 | O23: 9 | P23: 3 | Q23: 7 | R23: 12 | S23: 5 | T23: 5 | U23: 10 | V23: 3 | W23: - | X23: - | Y23: - | Z23: =SUM(H23:Y23) -> 118
A24: 22 | B24: Pierce, Art ** | C24: =Z24 -> 116 | D24: 224 | E24: =C24/D24 -> 0.51785714 | H24: 10 | I24: 9 | J24: 10 | K24: 7 | L24: 8 | M24: 10 | N24: 6 | O24: 9 | P24: 3 | Q24: 7 | R24: 14 | S24: 5 | T24: 5 | U24: 10 | V24: 3 | W24: - | X24: - | Y24: - | Z24: =SUM(H24:Y24) -> 116
A25: 23 | B25: Hall, Katy ** | C25: =Z25 -> 108 | D25: 208 | E25: =C25/D25 -> 0.51923077 | H25: 10 | I25: 11 | J25: 7 | K25: 7 | L25: 7 | M25: 8 | N25: 7 | O25: 9 | P25: 7 | Q25: 7 | R25: 8 | S25: 5 | T25: 5 | U25: 10 | V25: - | W25: - | X25: - | Y25: - | Z25: =SUM(H25:Y25) -> 108
A26: 24 | B26: Carrasco, Jason ** | C26: =Z26 -> 54 | D26: 116 | E26: =C26/D26 -> 0.46551724 | H26: 11 | I26: 9 | J26: 9 | K26: 8 | L26: 4 | M26: 6 | N26: 3 | O26: 4 | P26: - | Q26: - | R26: - | S26: - | T26: - | U26: - | V26: - | W26: - | X26: - | Y26: - | Z26: =SUM(H26:Y26) -> 54
A27: 25 | B27: Rushing, Luke ** | C27: =Z27 -> 49 | D27: 130 | E27: =C27/D27 -> 0.37692308 | H27: 8 | I27: 5 | J27: 5 | K27: 8 | L27: 4 | M27: 6 | N27: 6 | O27: 4 | P27: 3 | Q27: - | R27: - | S27: - | T27: - | U27: - | V27: - | W27: - | X27: - | Y27: - | Z27: =SUM(H27:Y27) -> 49
B29: FPLeague 2004 | C29: =Z29 -> 173.5 | D29: =$Z$30 -> 267 | E29: =C29/D29 -> 0.64981273 | H29: =VLOOKUP(B29,'W01'!$A$3:$B$55,2, FALSE) -> 10.5 | I29: =VLOOKUP(B29,'W02'!$A$3:$B$55,2, FALSE) -> 11 | J29: =VLOOKUP(B29,'W03'!$A$3:$B$55,2, FALSE) -> 10 | K29: =VLOOKUP(B29,'W04'!$A$3:$B$55,2, FALSE) -> 7 | L29: =VLOOKUP(B29,'W05'!$A$3:$B$55,2, FALSE) -> 7 | M29: =VLOOKUP(B29,'W06'!$A$3:$B$55,2, FALSE) -> 11 | N29: =VLOOKUP(B29,'W07'!$A$3:$B$55,2, FALSE) -> 6.5 | O29: =VLOOKUP(B29,'W08'!$A$3:$B$55,2, FALSE) -> 9.5 | P29: =VLOOKUP(B29,'W09'!$A$3:$B$55,2, FALSE) -> 7.5 | Q29: =VLOOKUP(B29,'W10'!$A$3:$B$55,2, FALSE) -> 7 | R29: =VLOOKUP(B29,'W11'!$A$3:$B$55,2, FALSE) -> 14 | S29: =VLOOKUP(B29,'W12'!$A$3:$B$55,2, FALSE) -> 10 | T29: =VLOOKUP(B29,'W13'!$A$3:$B$55,2, FALSE) -> 11 | U29: =VLOOKUP(B29,'W14'!$A$3:$B$55,2, FALSE) -> 13 | V29: =VLOOKUP(B29,'W15'!$A$3:$B$55,2, FALSE) -> 12 | W29: =VLOOKUP(B29,'W16'!$A$3:$B$55,2, FALSE) -> 13 | X29: =VLOOKUP(B29,'W17'!$A$3:$B$55,2, FALSE) -> 6.5 | Y29: =VLOOKUP(B29,'W18'!$A$3:$B$54,2, FALSE) -> 7 | Z29: =SUM(H29:Y29) -> 173.5
H30: 16 | I30: 16 | J30: 14 | K30: 14 | L30: 14 | M30: 14 | N30: 14 | O30: 14 | P30: 14 | Q30: 14 | R30: 16 | S30: 16 | T30: 16 | U30: 16 | V30: 16 | W30: 16 | X30: 16 | Y30: 11 | Z30: =SUM(H30:Y30) -> 267

Sheet W01
A1: 2004 FPLeague Predictions
A2: WEEK 1
A3: Alsobrook, Luke | B3: 10 | C3: /16 | D3: NE | E3: Tenn | F3: StL | G3: Balt | H3: NYJ | I3: Det | J3: Buff | K3: Pitt | L3: Houst | M3: Seat | N3: Wash | O3: Atl | P3: Dallas | Q3: Phil | R3: KC | S3: Car
A4: Ardill, Scott | B4: 8 | C4: /16 | D4: NE | E4: Tenn | F4: StL | G4: Balt | H4: Cincy | I4: Chic | J4: Jax | K4: Oak | L4: Houst | M4: NO | N4: TB | O4: Atl | P4: Minn | Q4: Phil | R4: Den | S4: Car
A5: Baze, Drew | B5: 7 | C5: /16 | D5: Indy | E5: Tenn | F5: Ariz | G5: Balt | H5: NYJ | I5: Chic | J5: Jax | K5: Pitt | L5: Houst | M5: NO | N5: TB | O5: SF | P5: Minn | Q5: Phil | R5: KC | S5: GB
A6: Carrasco, Jason | B6: 11 | C6: /16 | D6: N/A | E6: N/A | F6: Ariz | G6: Clev | H6: NYJ | I6: Det | J6: Buff | K6: Pitt | L6: SD | M6: NO | N6: Wash | O6: Atl | P6: Minn | Q6: Phil | R6: Den | S6: GB
A7: Curran, Kevin | B7: 9 | C7: /16 | D7: Indy | E7: Tenn | F7: StL | G7: Balt | H7: Cincy | I7: Det | J7: Jax | K7: Pitt | L7: Houst | M7: Seat | N7: TB | O7: SF | P7: Minn | Q7: Phil | R7: KC | S7: GB
A8: Hall, Bernie | B8: 10 | C8: /16 | D8: NE | E8: Miami | F8: StL | G8: Balt | H8: Cincy | I8: Det | J8: Buff | K8: Oak | L8: Houst | M8: Seat | N8: Wash | O8: Atl | P8: Minn | Q8: Phil | R8: Den | S8: GB
A9: Hall, Katy | B9: 10 | C9: /16 | D9: NE | E9: Miami | F9: StL | G9: Balt | H9: Cincy | I9: Chic | J9: Jax | K9: Oak | L9: Houst | M9: Seat | N9: Wash | O9: Atl | P9: Minn | Q9: Phil | R9: Den | S9: GB
A10: Harvey, Chet | B10: 8 | C10: /16 | D10: Indy | E10: Tenn | F10: StL | G10: Balt | H10: NYJ | I10: Det | J10: Buff | K10: Oak | L10: Houst | M10: Seat | N10: Wash | O10: Atl | P10: Dallas | Q10: Phil | R10: KC | S10: Car
A11: Honea, Randy | B11: 7 | C11: /16 | D11: Indy | E11: Tenn | F11: StL | G11: Balt | H11: NYJ | I11: Chic | J11: Buff | K11: Oak | L11: Houst | M11: NO | N11: TB | O11: Atl | P11: Minn | Q11: Phil | R11: Den | S11: Car
A12: Huggins, Jonathan | B12: 10 | C12: /16 | D12: Indy | E12: Tenn | F12: StL | G12: Clev | H12: NYJ | I12: Chic | J12: Buff | K12: Pitt | L12: Houst | M12: Seat | N12: Wash | O12: SF | P12: Dallas | Q12: Phil | R12: Den | S12: GB
A13: Manuel, Greg | B13: 8 | C13: /16 | D13: Indy | E13: Tenn | F13: StL | G13: Balt | H13: Cincy | I13: Det | J13: Jax | K13: Oak | L13: Houst | M13: Seat | N13: TB | O13: Atl | P13: Minn | Q13: Phil | R13: KC | S13: Car
A14: Markel, Lori | B14: 11 | C14: /16 | D14: Indy | E14: Miami | F14: StL | G14: Clev | H14: NYJ | I14: Det | J14: Jax | K14: Oak | L14: SD | M14: Seat | N14: TB | O14: Atl | P14: Minn | Q14: NYG | R14: Den | S14: GB
... A28: FPLeague 2004 | B28: 10.5 | C28: /16 | D28: Indy | E28: Tenn | F28: StL | G28: Balt | H28: NYJ | I28: EVEN | J28: Buff | K28: Pitt | L28: Houst | M28: Seat | N28: Wash | O28: Atl | P28: Minn | Q28: Phil | R28: EVEN | S28: EVEN
A29: 25 Total
A30: * Rule 3 Violation
A31: ** Rule 4 Violation

Sheet W02
A1: 2004 FPLeague Predictions
A2: WEEK 2
A3: Alsobrook, Luke | B3: 12 | C3: /16 | D3: KC | E3: GB | F3: Den | G3: Det | H3: Indy | I3: Balt | J3: NO | K3: Atl | L3: Wash | M3: Seat | N3: Oak | O3: Dallas | P3: NE | Q3: NYJ | R3: Cincy | S3: Phil
A4: Ardill, Scott | B4: 10 | C4: /16 | D4: KC | E4: GB | F4: Den | G4: Houst | H4: Tenn | I4: Balt | J4: NO | K4: Atl | L4: Wash | M4: Seat | N4: Oak | O4: Dallas | P4: NE | Q4: NYJ | R4: Cincy | S4: Phil
A5: Baze, Drew | B5: 9 | C5: /16 | D5: Car | E5: GB | F5: Jax | G5: Det | H5: Indy | I5: Pitt | J5: SF | K5: StL | L5: Wash | M5: TB | N5: Oak | O5: Dallas | P5: NE | Q5: NYJ | R5: Cincy | S5: Minn
A6: Carrasco, Jason | B6: 9 | C6: /16 | D6: KC | E6: GB | F6: Den | G6: Det | H6: Tenn | I6: Pitt | J6: NO | K6: Atl | L6: Wash | M6: Seat | N6: Oak | O6: Clev | P6: NE | Q6: NYJ | R6: Cincy | S6: Phil
A7: Curran, Kevin | B7: 6 | C7: /16 | D7: KC | E7: GB | F7: Den | G7: Houst | H7: Tenn | I7: Pitt | J7: SF | K7: StL | L7: Wash | M7: Seat | N7: Oak | O7: Clev | P7: NE | Q7: NYJ | R7: Cincy | S7: Phil
A8: Hall, Bernie | B8: 7 | C8: /16 | D8: KC | E8: GB | F8: Den | G8: Houst | H8: Indy | I8: Balt | J8: SF | K8: StL | L8: Wash | M8: Seat | N8: Oak | O8: Clev | P8: NE | Q8: NYJ | R8: Cincy | S8: Minn
A9: Hall, Katy | B9: 11 | C9: /16 | D9: KC | E9: GB | F9: Den | G9: Houst | H9: Indy | I9: Balt | J9: NO | K9: Atl | L9: Wash | M9: Seat | N9: Oak | O9: Dallas | P9: NE | Q9: NYJ | R9: Cincy | S9: Phil
A10: Harvey, Chet | B10: 8 | C10: /16 | D10: KC | E10: GB | F10: Den | G10: Houst | H10: Indy | I10: Balt | J10: NO | K10: Atl | L10: Wash | M10: Seat | N10: Buff | O10: Dallas | P10: NE | Q10: NYJ | R10: Miami | S10: Minn
A11: Honea, Randy | B11: 11 | C11: /16 | D11: KC | E11: GB | F11: Den | G11: Det | H11: Indy | I11: Pitt | J11: NO | K11: Atl | L11: Wash | M11: Seat | N11: Oak | O11: Dallas | P11: NE | Q11: NYJ | R11: Cincy | S11: Phil
A12: Huggins, Jonathan | B12: 10 | C12: /16 | D12: KC | E12: GB | F12: Den | G12: Houst | H12: Indy | I12: Pitt | J12: NO | K12: Atl | L12: Wash | M12: Seat | N12: Oak | O12: Dallas | P12: NE | Q12: NYJ | R12: Cincy | S12: Phil
A13: Manuel, Greg | B13: 9 | C13: /16 | D13: KC | E13: GB | F13: Den | G13: Houst | H13: Indy | I13: Balt | J13: NO | K13: Atl | L13: Wash | M13: Seat | N13: Oak | O13: Clev | P13: NE | Q13: NYJ | R13: Cincy | S13: Minn
A14: Markel, Lori | B14: 6 | C14: /16 | D14: KC | E14: GB | F14: Den | G14: Det | H14: Indy | I14: Pitt | J14: NO | K14: Atl | L14: Wash | M14: TB | N14: Oak | O14: Clev | P14: NE | Q14: SD | R14: Miami | S14: Minn
... A28: FPLeague 2004 | B28: 11 | C28: /16 | D28: KC | E28: GB | F28: Den | G28: Houst | H28: Indy | I28: Balt | J28: NO | K28: Atl | L28: Wash | M28: Seat | N28: Oak | O28: Dallas | P28: NE | Q28: NYJ | R28: Cincy | S28: Phil
A29: 25 Total
A30: ** Rule 4 Violation

Sheet W03
A1: 2004 FPLeague Predictions
A2: WEEK 3
A3: Alsobrook, Luke | B3: 10 | C3: /14 | D3: Atl | E3: Balt | F3: Minn | G3: NYG | H3: KC | I3: Tenn | J3: StL | K3: Phil | L3: Miami | M3: Den | N3: Indy | O3: Seat | P3: Oak | Q3: Dallas
A4: Ardill, Scott | B4: 10 | C4: /14 | D4: Atl | E4: Balt | F4: Chic | G4: NYG | H4: Houst | I4: Tenn | J4: StL | K4: Phil | L4: Miami | M4: Den | N4: Indy | O4: Seat | P4: Oak | Q4: Dallas
A5: Baze, Drew | B5: 9 | C5: /14 | D5: Ariz | E5: Balt | F5: Minn | G5: NYG | H5: Houst | I5: Jax | J5: StL | K5: Phil | L5: Pitt | M5: SD | N5: Indy | O5: SF | P5: TB | Q5: Dallas
A6: Carrasco, Jason | B6: 9 | C6: /14 | D6: Atl | E6: Balt | F6: Minn | G6: NYG | H6: KC | I6: Tenn | J6: NO | K6: Phil | L6: Miami | M6: SD | N6: Indy | O6: Seat | P6: TB | Q6: Dallas
A7: Curran, Kevin | B7: 9 | C7: /14 | D7: Atl | E7: Balt | F7: Minn | G7: Clev | H7: KC | I7: Tenn | J7: StL | K7: Phil | L7: Pitt | M7: Den | N7: Indy | O7: Seat | P7: Oak | Q7: Wash
A8: Hall, Bernie | B8: 7 | C8: /14 | D8: Atl | E8: Balt | F8: Minn | G8: Clev | H8: Houst | I8: Tenn | J8: StL | K8: Phil | L8: Miami | M8: Den | N8: GB | O8: SF | P8: Oak | Q8: Wash
A9: Hall, Katy | B9: 7 | C9: /14 | D9: Atl | E9: Cincy | F9: Chic | G9: NYG | H9: KC | I9: Jax | J9: StL | K9: Det | L9: Miami | M9: Den | N9: GB | O9: Seat | P9: Oak | Q9: Dallas
A10: Harvey, Chet | B10: 11 | C10: /14 | D10: Atl | E10: Cincy | F10: Minn | G10: NYG | H10: KC | I10: Tenn | J10: NO | K10: Phil | L10: Pitt | M10: Den | N10: Indy | O10: Seat | P10: Oak | Q10: Dallas
A11: Honea, Randy | B11: 9 | C11: /14 | D11: Atl | E11: Cincy | F11: Minn | G11: NYG | H11: KC | I11: Tenn | J11: StL | K11: Phil | L11: Miami | M11: Den | N11: Indy | O11: Seat | P11: Oak | Q11: Dallas
A12: Huggins, Jonathan | B12: 10 | C12: /14 | D12: Atl | E12: Cincy | F12: Minn | G12: Clev | H12: Houst | I12: Tenn | J12: NO | K12: Phil | L12: Miami | M12: Den | N12: Indy | O12: Seat | P12: Oak | Q12: Dallas
A13: Manuel, Greg | B13: 10 | C13: /14 | D13: Atl | E13: Balt | F13: Minn | G13: Clev | H13: KC | I13: Tenn | J13: StL | K13: Phil | L13: Pitt | M13: Den | N13: Indy | O13: Seat | P13: Oak | Q13: Dallas
A14: Markel, Lori | B14: 6 | C14: /14 | D14: Atl | E14: Balt | F14: Minn | G14: NYG | H14: KC | I14: Tenn | J14: StL | K14: Det | L14: Miami | M14: Den | N14: GB | O14: Seat | P14: TB | Q14: Wash
... A28: FPLeague 2004 | B28: 10 | C28: /14 | D28: Atl | E28: Balt | F28: Minn | G28: NYG | H28: KC | I28: Tenn | J28: StL | K28: Phil | L28: Miami | M28: Den | N28: Indy | O28: Seat | P28: Oak | Q28: Dallas
A29: 25 Total
A30: ** Rule 4 Violation

Sheet W04
A1: 2004 NFL Predictions
A2: WEEK 4
A3: Alsobrook, Luke | B3: 7 | C3: /14 | D3: Pitt | E3: Indy | F3: NE | G3: GB | H3: Oak | I3: Phil | J3: Wash | K3: Car | L3: NO | M3: Den | N3: NYJ | O3: Tenn | P3: StL | Q3: Balt
A4: Ardill, Scott | B4: 8 | C4: /14 | D4: Pitt | E4: Indy | F4: NE | G4: GB | H4: Oak | I4: Phil | J4: Wash | K4: Atl | L4: NO | M4: Den | N4: NYJ | O4: Tenn | P4: StL | Q4: Balt
A5: Baze, Drew | B5: 7 | C5: /14 | D5: Pitt | E5: Jax | F5: NE | G5: GB | H5: Houst | I5: Phil | J5: Wash | K5: Car | L5: NO | M5: TB | N5: NYJ | O5: Tenn | P5: StL | Q5: KC
A6: Carrasco, Jason | B6: 8 | C6: /14 | D6: Pitt | E6: Jax | F6: NE | G6: NYG | H6: Oak | I6: Phil | J6: Clev | K6: Atl | L6: NO | M6: Den | N6: Miami | O6: Tenn | P6: StL | Q6: Balt
A7: Curran, Kevin | B7: 8 | C7: /14 | D7: Pitt | E7: Indy | F7: NE | G7: GB | H7: Oak | I7: Phil | J7: Wash | K7: Car | L7: NO | M7: Den | N7: NYJ | O7: Tenn | P7: StL | Q7: KC
A8: Hall, Bernie | B8: 11 | C8: /14 | D8: Pitt | E8: Indy | F8: NE | G8: GB | H8: Houst | I8: Phil | J8: Clev | K8: Atl | L8: Ariz | M8: Den | N8: NYJ | O8: Tenn | P8: SF | Q8: KC
A9: Hall, Katy | B9: 7 | C9: /14 | D9: Cincy | E9: Indy | F9: NE | G9: GB | H9: Houst | I9: Chic | J9: Wash | K9: Atl | L9: Ariz | M9: TB | N9: Miami | O9: Tenn | P9: StL | Q9: KC
A10: Harvey, Chet | B10: 7 | C10: /14 | D10: Cincy | E10: Indy | F10: NE | G10: GB | H10: Houst | I10: Phil | J10: Wash | K10: Car | L10: NO | M10: TB | N10: NYJ | O10: Tenn | P10: StL | Q10: KC
A11: Honea, Randy | B11: 8 | C11: /14 | D11: Pitt | E11: Jax | F11: NE | G11: GB | H11: Houst | I11: Phil | J11: Wash | K11: Car | L11: NO | M11: Den | N11: NYJ | O11: SD | P11: StL | Q11: Balt
A12: Huggins, Jonathan | B12: 9 | C12: /14 | D12: Cincy | E12: Indy | F12: NE | G12: NYG | H12: Houst | I12: Phil | J12: Wash | K12: Car | L12: NO | M12: Den | N12: NYJ | O12: Tenn | P12: StL | Q12: KC
A13: Manuel, Greg | B13: 11 | C13: /14 | D13: Pitt | E13: Indy | F13: NE | G13: GB | H13: Houst | I13: Phil | J13: Clev | K13: Atl | L13: NO | M13: Den | N13: NYJ | O13: Tenn | P13: StL | Q13: KC
A14: Markel, Lori | B14: 6 | C14: /14 | D14: Cincy | E14: Indy | F14: NE | G14: GB | H14: Oak | I14: Phil | J14: Wash | K14: Atl | L14: NO | M14: TB | N14: NYJ | O14: Tenn | P14: StL | Q14: Balt
... A28: FPLeague 2004 | B28: 7 | C28: /14 | D28: Pitt | E28: Indy | F28: NE | G28: GB | H28: Oak | I28: Phil | J28: Wash | K28: Car | L28: NO | M28: Den | N28: NYJ | O28: Tenn | P28: StL | Q28: Balt
A29: 25 Total
A30: ** Rule 4 Violation

Sheet W05
A1: 2004 NFL Predictions
A2: WEEK 5
A3: Alsobrook, Luke | B3: 9 | C3: /14 | D3: Pitt | E3: Atl | F3: NE | G3: Minn | H3: Dallas | I3: Indy | J3: TB | K3: NYJ | L3: SD | M3: Ariz | N3: Den | O3: Seat | P3: Balt | Q3: GB
A4: Ardill, Scott | B4: 7 | C4: /14 | D4: Pitt | E4: Atl | F4: NE | G4: Minn | H4: Dallas | I4: Indy | J4: NO | K4: NYJ | L4: Jax | M4: Ariz | N4: Den | O4: Seat | P4: Balt | Q4: GB
A5: Baze, Drew | B5: 7 | C5: /14 | D5: Pitt | E5: Atl | F5: NE | G5: Minn | H5: Dallas | I5: Indy | J5: NO | K5: NYJ | L5: Jax | M5: SF | N5: Car | O5: StL | P5: Wash | Q5: GB
A6: Carrasco, Jason | B6: 4 | C6: /14** | D6: N/A | E6: N/A | F6: N/A | G6: N/A | H6: N/A | I6: N/A | J6: N/A | K6: N/A | L6: N/A | M6: N/A | N6: N/A | O6: N/A | P6: N/A | Q6: N/A
A7: Curran, Kevin | B7: 7 | C7: /14 | D7: Pitt | E7: Atl | F7: NE | G7: Houst | H7: NYG | I7: Indy | J7: NO | K7: NYJ | L7: Jax | M7: Ariz | N7: Car | O7: Seat | P7: Balt | Q7: Tenn
A8: Hall, Bernie | B8: 10 | C8: /14 | D8: Pitt | E8: Det | F8: NE | G8: Houst | H8: NYG | I8: Indy | J8: TB | K8: NYJ | L8: SD | M8: SF | N8: Car | O8: StL | P8: Wash | Q8: GB
A9: Hall, Katy | B9: 7 | C9: /14 | D9: Pitt | E9: Atl | F9: NE | G9: Houst | H9: Dallas | I9: Indy | J9: TB | K9: NYJ | L9: Jax | M9: Ariz | N9: Den | O9: Seat | P9: Balt | Q9: GB
A10: Harvey, Chet | B10: 7 | C10: /14 | D10: Pitt | E10: Atl | F10: NE | G10: Minn | H10: Dallas | I10: Indy | J10: NO | K10: Buff | L10: Jax | M10: SF | N10: Car | O10: Seat | P10: Balt | Q10: Tenn
A11: Honea, Randy | B11: 8 | C11: /14 | D11: Pitt | E11: Atl | F11: NE | G11: Minn | H11: NYG | I11: Indy | J11: NO | K11: NYJ | L11: SD | M11: Ariz | N11: Den | O11: Seat | P11: Wash | Q11: GB
A12: Huggins, Jonathan | B12: 5 | C12: /14 | D12: Clev | E12: Atl | F12: NE | G12: Minn | H12: Dallas | I12: Indy | J12: NO | K12: NYJ | L12: SD | M12: Ariz | N12: Car | O12: Seat | P12: Wash | Q12: GB
A13: Manuel, Greg | B13: 6 | C13: /14 | D13: Pitt | E13: Atl | F13: NE | G13: Minn | H13: Dallas | I13: Indy | J13: NO | K13: NYJ | L13: Jax | M13: Ariz | N13: Car | O13: Seat | P13: Balt | Q13: GB
A14: Markel, Lori | B14: 9 | C14: /14 | D14: Pitt | E14: Atl | F14: NE | G14: Minn | H14: NYG | I14: Oak | J14: TB | K14: NYJ | L14: Jax | M14: SF | N14: Den | O14: StL | P14: Wash | Q14: GB
... A28: FPLeague 2004 | B28: 7 | C28: /14 | D28: Pitt | E28: Atl | F28: NE | G28: Minn | H28: Dallas | I28: Indy | J28: NO | K28: NYJ | L28: Jax | M28: Ariz | N28: Den | O28: Seat | P28: Balt | Q28: GB
A29: 25 Total
A30: ** Rule 4 Violation

Sheet W06
A1: 2004 NFL Predictions
A2: WEEK 6
A3: Alsobrook, Luke | B3: 10 | C3: /14 | D3: Phil | E3: Clev | F3: Det | G3: Tenn | H3: KC | I3: Buff | J3: Atl | K3: NE | L3: NYJ | M3: Wash | N3: Den | O3: Dallas | P3: Minn | Q3: StL
A4: Ardill, Scott | B4: 11 | C4: /14 | D4: Phil | E4: Cincy | F4: GB | G4: Tenn | H4: KC | I4: Buff | J4: Atl | K4: NE | L4: NYJ | M4: Wash | N4: Den | O4: Pitt | P4: Minn | Q4: StL
A5: Baze, Drew | B5: 7 | C5: /14 | D5: Phil | E5: Cincy | F5: GB | G5: Tenn | H5: Jax | I5: Miami | J5: SD | K5: NE | L5: SF | M5: Wash | N5: Oak | O5: Pitt | P5: NO | Q5: StL
A6: Carrasco, Jason | B6: 6 | C6: /14** | D6: N/A | E6: N/A | F6: N/A | G6: N/A | H6: N/A | I6: N/A | J6: N/A | K6: N/A | L6: N/A | M6: N/A | N6: N/A | O6: N/A | P6: N/A | Q6: N/A
A7: Curran, Kevin | B7: 9 | C7: /14 | D7: Phil | E7: Clev | F7: Det | G7: Tenn | H7: KC | I7: Miami | J7: SD | K7: NE | L7: NYJ | M7: Wash | N7: Den | O7: Pitt | P7: Minn | Q7: StL
A8: Hall, Bernie | B8: 7 | C8: /14 | D8: Car | E8: Cincy | F8: GB | G8: Houst | H8: Jax | I8: Miami | J8: SD | K8: NE | L8: NYJ | M8: Chic | N8: Oak | O8: Dallas | P8: Minn | Q8: StL
A9: Hall, Katy | B9: 8 | C9: /14 | D9: Car | E9: Cincy | F9: GB | G9: Houst | H9: KC | I9: Miami | J9: Atl | K9: NE | L9: NYJ | M9: Wash | N9: Oak | O9: Dallas | P9: Minn | Q9: StL
A10: Harvey, Chet | B10: 11 | C10: /14 | D10: Phil | E10: Cincy | F10: GB | G10: Houst | H10: Jax | I10: Buff | J10: Atl | K10: NE | L10: NYJ | M10: Chic | N10: Den | O10: Dallas | P10: Minn | Q10: StL
A11: Honea, Randy | B11: 11 | C11: /14 | D11: Phil | E11: Clev | F11: Det | G11: Tenn | H11: Jax | I11: Buff | J11: Atl | K11: NE | L11: NYJ | M11: Chic | N11: Den | O11: Pitt | P11: Minn | Q11: StL
A12: Huggins, Jonathan | B12: 11 | C12: /14 | D12: Phil | E12: Clev | F12: GB | G12: Tenn | H12: KC | I12: Buff | J12: Atl | K12: NE | L12: NYJ | M12: Wash | N12: Den | O12: Dallas | P12: Minn | Q12: StL
A13: Manuel, Greg | B13: 10 | C13: /14 | D13: Phil | E13: Clev | F13: GB | G13: Tenn | H13: KC | I13: Buff | J13: SD | K13: Seat | L13: NYJ | M13: Wash | N13: Den | O13: Pitt | P13: Minn | Q13: StL
A14: Markel, Lori | B14: 10 | C14: /14 | D14: Phil | E14: Cincy | F14: GB | G14: Houst | H14: Jax | I14: Miami | J14: Atl | K14: NE | L14: NYJ | M14: Wash | N14: Den | O14: Pitt | P14: NO | Q14: TB
... A28: FPLeague 2004 | B28: 11 | C28: /14 | D28: Phil | E28: Clev | F28: GB | G28: Tenn | H28: KC | I28: Buff | J28: Atl | K28: NE | L28: NYJ | M28: Wash | N28: Den | O28: Dallas | P28: Minn | Q28: StL
A29: 25 Total
A30: ** Rule 4 Violation

Sheet W07
A1: 2004 NFL Predictions
A2: WEEK 7
A3: Alsobrook, Luke | B3: 6 | C3: /14 | D3: KC | E3: Buff | F3: TB | G3: NYG | H3: Indy | I3: Phil | J3: Car | K3: StL | L3: Minn | M3: NE | N3: GB | O3: Oak | P3: Seat | Q3: Den
A4: Ardill, Scott | B4: 6 | C4: /14 | D4: KC | E4: Buff | F4: TB | G4: NYG | H4: Indy | I4: Phil | J4: Car | K4: StL | L4: Minn | M4: NE | N4: GB | O4: Oak | P4: Seat | Q4: Den
A5: Baze, Drew | B5: 4 | C5: /14 | D5: Atl | E5: Buff | F5: TB | G5: NYG | H5: Jax | I5: Phil | J5: Car | K5: StL | L5: Tenn | M5: NYJ | N5: Dallas | O5: NO | P5: Seat | Q5: Den
A6: Carrasco, Jason | B6: 3 | C6: /14** | D6: N/A | E6: N/A | F6: N/A | G6: N/A | H6: N/A | I6: N/A | J6: N/A | K6: N/A | L6: N/A | M6: N/A | N6: N/A | O6: N/A | P6: N/A | Q6: N/A
A7: Curran, Kevin | B7: 6 | C7: /14 | D7: KC | E7: Balt | F7: Chic | G7: NYG | H7: Indy | I7: Phil | J7: SD | K7: StL | L7: Minn | M7: NYJ | N7: GB | O7: Oak | P7: Seat | Q7: Den
A8: Hall, Bernie | B8: 10 | C8: /14 | D8: Atl | E8: Balt | F8: TB | G8: NYG | H8: Indy | I8: Phil | J8: SD | K8: StL | L8: Minn | M8: NE | N8: GB | O8: NO | P8: Ariz | Q8: Cincy
A9: Hall, Katy | B9: 7 | C9: /14 | D9: Atl | E9: Balt | F9: TB | G9: NYG | H9: Indy | I9: Phil | J9: Car | K9: StL | L9: Minn | M9: NE | N9: GB | O9: Oak | P9: Seat | Q9: Cincy
A10: Harvey, Chet | B10: 7 | C10: /14 | D10: KC | E10: Buff | F10: TB | G10: NYG | H10: Indy | I10: Phil | J10: SD | K10: StL | L10: Minn | M10: NE | N10: Dallas | O10: NO | P10: Seat | Q10: Den
A11: Honea, Randy | B11: 6 | C11: /14 | D11: Atl | E11: Balt | F11: TB | G11: NYG | H11: Indy | I11: Phil | J11: Car | K11: StL | L11: Minn | M11: NE | N11: GB | O11: Oak | P11: Seat | Q11: Den
A12: Huggins, Jonathan | B12: 4 | C12: /14 | D12: KC | E12: Buff | F12: Chic | G12: NYG | H12: Indy | I12: Phil | J12: Car | K12: StL | L12: Minn | M12: NE | N12: Dallas | O12: Oak | P12: Seat | Q12: Den
A13: Manuel, Greg | B13: 8 | C13: /14 | D13: KC | E13: Balt | F13: TB | G13: NYG | H13: Indy | I13: Phil | J13: SD | K13: StL | L13: Minn | M13: NYJ | N13: GB | O13: NO | P13: Seat | Q13: Den
A14: Markel, Lori | B14: 8 | C14: /14 | D14: Atl | E14: Balt | F14: TB | G14: NYG | H14: Indy | I14: Phil | J14: SD | K14: Miami | L14: Tenn | M14: NE | N14: GB | O14: NO | P14: Seat | Q14: Den
... A28: FPLeague 2004 | B28: 6.5 | C28: /14 | D28: Atl | E28: Balt | F28: TB | G28: NYG | H28: Indy | I28: Phil | J28: EVEN | K28: StL | L28: Minn | M28: NE | N28: GB | O28: Oak | P28: Seat | Q28: Den
A29: 25 Total
A30: ** Rule 4 Violation

Sheet W08
A1: 2004 NFL Predictions
A2: WEEK 8
A3: Alsobrook, Luke | B3: 9 | C3: /14 | D3: Buff | E3: Phil | F3: Cincy | G3: Dallas | H3: GB | I3: Indy | J3: Houst | K3: Minn | L3: Den | M3: Seat | N3: NE | O3: SD | P3: Chic | Q3: NYJ
A4: Ardill, Scott | B4: 8 | C4: /14 | D4: Ariz | E4: Phil | F4: Tenn | G4: Dallas | H4: GB | I4: Indy | J4: Jax | K4: Minn | L4: Den | M4: Seat | N4: NE | O4: SD | P4: Chic | Q4: NYJ
A5: Baze, Drew | B5: 8 | C5: /14 | D5: Buff | E5: Phil | F5: Tenn | G5: Dallas | H5: GB | I5: Indy | J5: Jax | K5: Minn | L5: Atl | M5: Car | N5: Pitt | O5: Oak | P5: SF | Q5: NYJ
A6: Carrasco, Jason | B6: 4 | C6: /14** | D6: N/A | E6: N/A | F6: N/A | G6: N/A | H6: N/A | I6: N/A | J6: N/A | K6: N/A | L6: N/A | M6: N/A | N6: N/A | O6: N/A | P6: N/A | Q6: N/A
A7: Curran, Kevin | B7: 5 | C7: /14 | D7: Ariz | E7: Phil | F7: Cincy | G7: Det | H7: GB | I7: Indy | J7: Jax | K7: Minn | L7: Den | M7: Seat | N7: NE | O7: SD | P7: SF | Q7: NYJ
A8: Hall, Bernie | B8: 8 | C8: /14 | D8: Ariz | E8: Phil | F8: Cincy | G8: Det | H8: GB | I8: Indy | J8: Houst | K8: Minn | L8: Atl | M8: Seat | N8: Pitt | O8: SD | P8: SF | Q8: NYJ
A9: Hall, Katy | B9: 9 | C9: /14 | D9: Buff | E9: Balt | F9: Tenn | G9: Dallas | H9: GB | I9: Indy | J9: Houst | K9: Minn | L9: Den | M9: Seat | N9: Pitt | O9: SD | P9: SF | Q9: NYJ
A10: Harvey, Chet | B10: 11 | C10: /14 | D10: Buff | E10: Phil | F10: Cincy | G10: Dallas | H10: GB | I10: Indy | J10: Houst | K10: NYG | L10: Atl | M10: Seat | N10: NE | O10: SD | P10: Chic | Q10: NYJ
A11: Honea, Randy | B11: 11 | C11: /14 | D11: Buff | E11: Phil | F11: Tenn | G11: Dallas | H11: Wash | I11: KC | J11: Houst | K11: Minn | L11: Den | M11: Seat | N11: Pitt | O11: SD | P11: Chic | Q11: NYJ
A12: Huggins, Jonathan | B12: 9 | C12: /14 | D12: Buff | E12: Phil | F12: Cincy | G12: Dallas | H12: Wash | I12: Indy | J12: Houst | K12: Minn | L12: Atl | M12: Seat | N12: NE | O12: SD | P12: Chic | Q12: NYJ
A13: Manuel, Greg | B13: 6 | C13: /14 | D13: Ariz | E13: Phil | F13: Cincy | G13: Det | H13: GB | I13: Indy | J13: Houst | K13: Minn | L13: Den | M13: Seat | N13: NE | O13: SD | P13: SF | Q13: NYJ
A14: Markel, Lori | B14: 6 | C14: /14 | D14: Ariz | E14: Balt | F14: Tenn | G14: Det | H14: GB | I14: KC | J14: Jax | K14: NYG | L14: Den | M14: Seat | N14: NE | O14: Oak | P14: Chic | Q14: Miami
... A28: FPLeague 2004 | B28: 9.5 | C28: /14 | D28: Buff | E28: Phil | F28: Tenn | G28: Dallas | H28: GB | I28: Indy | J28: Houst | K28: Minn | L28: Den | M28: Seat | N28: NE | O28: SD | P28: EVEN | Q28: NYJ
A29: 25 Total
A30: ** Rule 4 Violation

Sheet W09
A1: 2004 NFL Predictions
A2: WEEK 9
A3: Alsobrook, Luke | B3: 3 | C3: /14** | D3: N/A | E3: N/A | F3: N/A | G3: N/A | H3: N/A | I3: N/A | J3: N/A | K3: N/A | L3: N/A | M3: N/A | N3: N/A | O3: N/A | P3: N/A | Q3: N/A
A4: Ardill, Scott | B4: 7 | C4: /14 | D4: Ariz | E4: Dallas | F4: KC | G4: NYJ | H4: Car | I4: Pitt | J4: Det | K4: NYG | L4: SD | M4: Seat | N4: Houst | O4: NE | P4: Balt | Q4: Indy
A5: Baze, Drew | B5: 5 | C5: /14 | D5: Ariz | E5: Dallas | F5: TB | G5: NYJ | H5: Car | I5: Pitt | J5: Wash | K5: Chic | L5: NO | M5: SF | N5: Houst | O5: StL | P5: Clev | Q5: Minn
A6: Curran, Kevin | B6: 9 | C6: /14 | D6: Ariz | E6: Cincy | F6: KC | G6: NYJ | H6: Oak | I6: Pitt | J6: Det | K6: NYG | L6: SD | M6: Seat | N6: Den | O6: NE | P6: Clev | Q6: Indy
A7: Hall, Bernie | B7: 9 | C7: /14 | D7: Ariz | E7: Cincy | F7: KC | G7: Buff | H7: Oak | I7: Pitt | J7: Det | K7: NYG | L7: SD | M7: SF | N7: Houst | O7: NE | P7: Balt | Q7: Indy
A8: Hall, Katy | B8: 7 | C8: /14 | D8: Miami | E8: Dallas | F8: TB | G8: NYJ | H8: Car | I8: Pitt | J8: Wash | K8: NYG | L8: SD | M8: SF | N8: Houst | O8: NE | P8: Balt | Q8: Indy
A9: Harvey, Chet | B9: 4 | C9: /14 | D9: Miami | E9: Dallas | F9: KC | G9: Buff | H9: Car | I9: Phil | J9: Det | K9: NYG | L9: NO | M9: Seat | N9: Houst | O9: StL | P9: Balt | Q9: Indy
A10: Honea, Randy | B10: 8 | C10: /14 | D10: Ariz | E10: Dallas | F10: KC | G10: NYJ | H10: Car | I10: Pitt | J10: Det | K10: NYG | L10: SD | M10: Seat | N10: Den | O10: NE | P10: Balt | Q10: Indy
A11: Huggins, Jonathan | B11: 6 | C11: /14 | D11: Ariz | E11: Dallas | F11: KC | G11: NYJ | H11: Car | I11: Phil | J11: Det | K11: NYG | L11: SD | M11: Seat | N11: Houst | O11: NE | P11: Balt | Q11: Indy
A12: Manuel, Greg | B12: 6 | C12: /14 | D12: Ariz | E12: Dallas | F12: KC | G12: NYJ | H12: Car | I12: Phil | J12: Det | K12: NYG | L12: SD | M12: Seat | N12: Houst | O12: NE | P12: Balt | Q12: Indy
A13: Markel, Lori | B13: 10 | C13: /14 | D13: Miami | E13: Cincy | F13: TB | G13: NYJ | H13: Oak | I13: Pitt | J13: Det | K13: NYG | L13: SD | M13: Seat | N13: Den | O13: NE | P13: Balt | Q13: Indy
A14: McGarr, Elizabeth | B14: 6 | C14: /14 | D14: Miami | E14: Dallas | F14: KC | G14: NYJ | H14: Car | I14: Phil | J14: Det | K14: NYG | L14: SD | M14: Seat | N14: Den | O14: NE | P14: Balt | Q14: Indy
... A27: FPLeague 2004 | B27: 7.5 | C27: /14 | D27: Ariz | E27: Dallas | F27: KC | G27: NYJ | H27: Car | I27: EVEN | J27: Det | K27: NYG | L27: SD | M27: Seat | N27: Den | O27: NE | P27: Balt | Q27: Indy
A28: 24 Total
A29: ** Rule 4 Violation

Sheet W10
A1: 2004 NFL Predictions
A2: WEEK 10
A3: Alsobrook, Luke | B3: 7 | C3: /14 | D3: NYJ | E3: Tenn | F3: Det | G3: Indy | H3: KC | I3: Pitt | J3: Seat | K3: Atl | L3: Wash | M3: Car | N3: GB | O3: NYG | P3: NE | Q3: Phil
A4: Ardill, Scott | B4: 10 | C4: /14 | D4: Balt | E4: Tenn | F4: Jax | G4: Indy | H4: NO | I4: Pitt | J4: Seat | K4: TB | L4: Cincy | M4: Car | N4: GB | O4: NYG | P4: NE | Q4: Phil
A5: Baze, Drew | B5: 6 | C5: /14 | D5: NYJ | E5: Tenn | F5: Jax | G5: Indy | H5: KC | I5: Pitt | J5: StL | K5: TB | L5: Wash | M5: Car | N5: Minn | O5: NYG | P5: Buff | Q5: Phil
A6: Curran, Kevin | B6: 7 | C6: /14 | D6: NYJ | E6: Tenn | F6: Jax | G6: Indy | H6: KC | I6: Pitt | J6: Seat | K6: Atl | L6: Wash | M6: Car | N6: Minn | O6: NYG | P6: NE | Q6: Phil
A7: Hall, Bernie | B7: 9 | C7: /14 | D7: Balt | E7: Tenn | F7: Jax | G7: Houst | H7: NO | I7: Pitt | J7: Seat | K7: Atl | L7: Wash | M7: SF | N7: GB | O7: Ariz | P7: NE | Q7: Phil
A8: Hall, Katy | B8: 7 | C8: /14 | D8: NYJ | E8: Chic | F8: Jax | G8: Houst | H8: NO | I8: Pitt | J8: Seat | K8: Atl | L8: Wash | M8: SF | N8: GB | O8: NYG | P8: NE | Q8: Dallas
A9: Harvey, Chet | B9: 9 | C9: /14 | D9: Balt | E9: Tenn | F9: Jax | G9: Indy | H9: KC | I9: Pitt | J9: StL | K9: Atl | L9: Wash | M9: SF | N9: GB | O9: NYG | P9: NE | Q9: Phil
A10: Honea, Randy | B10: 8 | C10: /14 | D10: NYJ | E10: Tenn | F10: Jax | G10: Indy | H10: KC | I10: Pitt | J10: Seat | K10: TB | L10: Wash | M10: Car | N10: GB | O10: Ariz | P10: NE | Q10: Phil
A11: Huggins, Jonathan | B11: 7 | C11: /14 | D11: NYJ | E11: Tenn | F11: Det | G11: Indy | H11: KC | I11: Pitt | J11: Seat | K11: Atl | L11: Wash | M11: Car | N11: GB | O11: NYG | P11: NE | Q11: Phil
A12: Manuel, Greg | B12: 8 | C12: /14 | D12: NYJ | E12: Tenn | F12: Jax | G12: Houst | H12: KC | I12: Pitt | J12: Seat | K12: Atl | L12: Cincy | M12: Car | N12: GB | O12: NYG | P12: NE | Q12: Phil
A13: Markel, Lori | B13: 7 | C13: /14 | D13: NYJ | E13: Chic | F13: Det | G13: Indy | H13: NO | I13: Clev | J13: Seat | K13: Atl | L13: Wash | M13: SF | N13: GB | O13: NYG | P13: NE | Q13: Phil
A14: McGarr, Elizabeth | B14: 9 | C14: /14 | D14: Balt | E14: Chic | F14: Det | G14: Indy | H14: KC | I14: Pitt | J14: Seat | K14: Atl | L14: Cincy | M14: SF | N14: GB | O14: Ariz | P14: NE | Q14: Dallas
... A26: FPLeague 2004 | B26: 7 | C26: /14 | D26: NYJ | E26: Tenn | F26: Jax | G26: Indy | H26: KC | I26: Pitt | J26: Seat | K26: Atl | L26: Wash | M26: SF | N26: GB | O26: NYG | P26: NE | Q26: Phil
A27: 23 Total
A28: ** Rule 4 Violation

Sheet W11
A1: 2004 NFL Predictions
A2: WEEK 11
A3: Alsobrook, Luke | B3: 12 | C3: /16 | D3: Car | E3: Balt | F3: Den | G3: Minn | H3: Indy | I3: NYJ | J3: Pitt | K3: TB | L3: StL | M3: Jax | N3: Seat | O3: Oak | P3: NYG | Q3: Phil | R3: GB | S3: NE
A4: Ardill, Scott | B4: 13 | C4: /16 | D4: Ariz | E4: Balt | F4: Den | G4: Minn | H4: Indy | I4: NYJ | J4: Pitt | K4: TB | L4: StL | M4: Jax | N4: Seat | O4: SD | P4: Atl | Q4: Phil | R4: GB | S4: NE
A5: Baze, Drew | B5: 14 | C5: /16 | D5: Car | E5: Balt | F5: Den | G5: Minn | H5: Indy | I5: NYJ | J5: Pitt | K5: TB | L5: StL | M5: Jax | N5: Seat | O5: SD | P5: Atl | Q5: Phil | R5: GB | S5: NE
A6: Curran, Kevin | B6: 13 | C6: /16 | D6: Ariz | E6: Balt | F6: Den | G6: Minn | H6: Indy | I6: NYJ | J6: Pitt | K6: TB | L6: StL | M6: Jax | N6: Seat | O6: SD | P6: Atl | Q6: Phil | R6: GB | S6: NE
A7: Hall, Bernie | B7: 11 | C7: /16 | D7: Car | E7: Balt | F7: NO | G7: Minn | H7: Indy | I7: NYJ | J7: Pitt | K7: SF | L7: Buff | M7: Tenn | N7: Miami | O7: Oak | P7: Atl | Q7: Phil | R7: Houst | S7: NE
A8: Hall, Katy | B8: 8 | C8: /16** | D8: N/A | E8: N/A | F8: N/A | G8: N/A | H8: N/A | I8: N/A | J8: N/A | K8: N/A | L8: N/A | M8: N/A | N8: N/A | O8: N/A | P8: N/A | Q8: N/A | R8: N/A | S8: N/A
A9: Harvey, Chet | B9: 11 | C9: /16 | D9: Ariz | E9: Dallas | F9: Den | G9: Minn | H9: Indy | I9: Clev | J9: Pitt | K9: TB | L9: StL | M9: Jax | N9: Seat | O9: SD | P9: Atl | Q9: Phil | R9: GB | S9: NE
A10: Honea, Randy | B10: 14 | C10: /16 | D10: Car | E10: Balt | F10: Den | G10: Minn | H10: Indy | I10: NYJ | J10: Pitt | K10: TB | L10: Buff | M10: Jax | N10: Seat | O10: SD | P10: NYG | Q10: Phil | R10: GB | S10: NE
A11: Huggins, Jonathan | B11: 12 | C11: /16 | D11: Car | E11: Dallas | F11: Den | G11: Minn | H11: Indy | I11: NYJ | J11: Pitt | K11: TB | L11: StL | M11: Jax | N11: Seat | O11: SD | P11: NYG | Q11: Phil | R11: GB | S11: NE
A12: Manuel, Greg | B12: 12 | C12: /16 | D12: Car | E12: Balt | F12: NO | G12: Minn | H12: Indy | I12: NYJ | J12: Pitt | K12: TB | L12: StL | M12: Jax | N12: Seat | O12: SD | P12: Atl | Q12: Phil | R12: Houst | S12: NE
A13: Markel, Lori | B13: 9 | C13: /16 | D13: Car | E13: Balt | F13: Den | G13: Det | H13: Chic | I13: NYJ | J13: Pitt | K13: TB | L13: StL | M13: Jax | N13: Miami | O13: Oak | P13: NYG | Q13: Phil | R13: GB | S13: NE
A14: McGarr, Elizabeth | B14: 11 | C14: /16 | D14: Ariz | E14: Dallas | F14: Den | G14: Det | H14: Indy | I14: NYJ | J14: Pitt | K14: TB | L14: StL | M14: Jax | N14: Seat | O14: SD | P14: Atl | Q14: Phil | R14: GB | S14: NE
... A26: FPLeague 2004 | B26: 14 | C26: /16 | D26: Car | E26: Balt | F26: Den | G26: Minn | H26: Indy | I26: NYJ | J26: Pitt | K26: TB | L26: StL | M26: Jax | N26: Seat | O26: SD | P26: Atl | Q26: Phil | R26: GB | S26: NE
A27: 23 Total
A28: ** Rule 4 Violation

Sheet W12
A1: 2004 NFL Predictions
A2: WEEK 12
A3: Alsobrook, Luke | B3: 5 | C3: /16** | D3: N/A | E3: N/A | F3: N/A | G3: N/A | H3: N/A | I3: N/A | J3: N/A | K3: N/A | L3: N/A | M3: N/A | N3: N/A | O3: N/A | P3: N/A | Q3: N/A | R3: N/A | S3: N/A
A4: Ardill, Scott | B4: 11 | C4: /16 | D4: Indy | E4: Dallas | F4: NE | G4: Cincy | H4: Minn | I4: Phil | J4: SD | K4: TB | L4: Tenn | M4: Pitt | N4: Atl | O4: Seat | P4: Miami | Q4: Ariz | R4: Den | S4: GB
A5: Baze, Drew | B5: 8 | C5: /16 | D5: Indy | E5: Chic | F5: NE | G5: Cincy | H5: Minn | I5: Phil | J5: KC | K5: TB | L5: Tenn | M5: Pitt | N5: NO | O5: Buff | P5: SF | Q5: NYJ | R5: Den | S5: StL
A6: Curran, Kevin | B6: 12 | C6: /16 | D6: Indy | E6: Dallas | F6: NE | G6: Cincy | H6: Jax | I6: Phil | J6: SD | K6: Car | L6: Tenn | M6: Pitt | N6: Atl | O6: Seat | P6: Miami | Q6: NYJ | R6: Den | S6: GB
A7: Hall, Bernie | B7: 5 | C7: /16** | D7: N/A | E7: N/A | F7: N/A | G7: N/A | H7: N/A | I7: N/A | J7: N/A | K7: N/A | L7: N/A | M7: N/A | N7: N/A | O7: N/A | P7: N/A | Q7: N/A | R7: N/A | S7: N/A
A8: Hall, Katy | B8: 5 | C8: /16** | D8: N/A | E8: N/A | F8: N/A | G8: N/A | H8: N/A | I8: N/A | J8: N/A | K8: N/A | L8: N/A | M8: N/A | N8: N/A | O8: N/A | P8: N/A | Q8: N/A | R8: N/A | S8: N/A
A9: Harvey, Chet | B9: 9 | C9: /16 | D9: Indy | E9: Dallas | F9: NE | G9: Clev | H9: Minn | I9: Phil | J9: KC | K9: TB | L9: Houst | M9: Pitt | N9: Atl | O9: Seat | P9: SF | Q9: NYJ | R9: Den | S9: StL
A10: Honea, Randy | B10: 14 | C10: /16 | D10: Indy | E10: Dallas | F10: NE | G10: Cincy | H10: Minn | I10: Phil | J10: SD | K10: Car | L10: Houst | M10: Pitt | N10: Atl | O10: Seat | P10: Miami | Q10: NYJ | R10: Den | S10: GB
A11: Huggins, Jonathan | B11: 11 | C11: /16 | D11: Indy | E11: Dallas | F11: NE | G11: Clev | H11: Minn | I11: Phil | J11: KC | K11: Car | L11: Houst | M11: Pitt | N11: Atl | O11: Seat | P11: SF | Q11: NYJ | R11: Den | S11: GB
A12: Manuel, Greg | B12: 5 | C12: /16** | D12: N/A | E12: N/A | F12: N/A | G12: N/A | H12: N/A | I12: N/A | J12: N/A | K12: N/A | L12: N/A | M12: N/A | N12: N/A | O12: N/A | P12: N/A | Q12: N/A | R12: N/A | S12: N/A
A13: Markel, Lori | B13: 6 | C13: /16 | D13: Det | E13: Chic | F13: NE | G13: Clev | H13: Minn | I13: NYG | J13: KC | K13: TB | L13: Tenn | M13: Pitt | N13: Atl | O13: Seat | P13: SF | Q13: NYJ | R13: Den | S13: GB
A14: McGarr, Elizabeth | B14: 9 | C14: /16 | D14: N/A | E14: N/A | F14: NE | G14: Cincy | H14: Minn | I14: Phil | J14: SD | K14: TB | L14: Tenn | M14: Pitt | N14: Atl | O14: Seat | P14: SF | Q14: NYJ | R14: Den | S14: GB
... A26: FPLeague 2004 | B26: 10 | C26: /16 | D26: Indy | E26: Dallas | F26: NE | G26: Cincy | H26: Minn | I26: Phil | J26: KC | K26: TB | L26: Tenn | M26: Pitt | N26: Atl | O26: Seat | P26: SF | Q26: NYJ | R26: Den | S26: GB
A27: 23 Total
A28: ** Rule 4 Violation

Sheet W13
A1: 2004 NFL Predictions
A2: WEEK 13
A3: Alsobrook, Luke | B3: 5 | C3: /16** | D3: N/A | E3: N/A | F3: N/A | G3: N/A | H3: N/A | I3: N/A | J3: N/A | K3: N/A | L3: N/A | M3: N/A | N3: N/A | O3: N/A | P3: N/A | Q3: N/A | R3: N/A | S3: N/A
A4: Ardill, Scott | B4: 10 | C4: /16 | D4: Det | E4: TB | F4: Buff | G4: NO | H4: Balt | I4: NYJ | J4: Minn | K4: NE | L4: StL | M4: Indy | N4: SD | O4: Oak | P4: Phil | Q4: NYG | R4: Pitt | S4: Seat
A5: Baze, Drew | B5: 11 | C5: /16 | D5: Det | E5: TB | F5: Buff | G5: Car | H5: Cincy | I5: Houst | J5: Minn | K5: Clev | L5: StL | M5: Tenn | N5: SD | O5: KC | P5: GB | Q5: Wash | R5: Pitt | S5: Dallas
A6: Curran, Kevin | B6: 9 | C6: /16 | D6: Det | E6: Atl | F6: Miami | G6: NO | H6: Balt | I6: NYJ | J6: Minn | K6: NE | L6: StL | M6: Indy | N6: SD | O6: Oak | P6: Phil | Q6: Wash | R6: Pitt | S6: Seat
A7: Hall, Bernie | B7: 5 | C7: /16** | D7: N/A | E7: N/A | F7: N/A | G7: N/A | H7: N/A | I7: N/A | J7: N/A | K7: N/A | L7: N/A | M7: N/A | N7: N/A | O7: N/A | P7: N/A | Q7: N/A | R7: N/A | S7: N/A
A8: Hall, Katy | B8: 5 | C8: /16** | D8: N/A | E8: N/A | F8: N/A | G8: N/A | H8: N/A | I8: N/A | J8: N/A | K8: N/A | L8: N/A | M8: N/A | N8: N/A | O8: N/A | P8: N/A | Q8: N/A | R8: N/A | S8: N/A
A9: Harvey, Chet | B9: 11 | C9: /16 | D9: Det | E9: Atl | F9: Buff | G9: Car | H9: Balt | I9: Houst | J9: Minn | K9: NE | L9: StL | M9: Indy | N9: SD | O9: Oak | P9: Phil | Q9: Wash | R9: Pitt | S9: Dallas
A10: Honea, Randy | B10: 11 | C10: /16 | D10: Ariz | E10: TB | F10: Miami | G10: Car | H10: Balt | I10: NYJ | J10: Minn | K10: NE | L10: StL | M10: Indy | N10: SD | O10: KC | P10: Phil | Q10: Wash | R10: Pitt | S10: Seat
A11: Huggins, Jonathan | B11: 11 | C11: /16 | D11: Det | E11: Atl | F11: Buff | G11: Car | H11: Balt | I11: NYJ | J11: Minn | K11: NE | L11: StL | M11: Indy | N11: SD | O11: KC | P11: Phil | Q11: NYG | R11: Pitt | S11: Seat
A12: Manuel, Greg | B12: 8 | C12: /16 | D12: Ariz | E12: Atl | F12: Buff | G12: Car | H12: Balt | I12: Houst | J12: Minn | K12: NE | L12: StL | M12: Indy | N12: SD | O12: KC | P12: GB | Q12: NYG | R12: Pitt | S12: Seat
A13: Markel, Lori | B13: 6 | C13: /16 | D13: Det | E13: Atl | F13: Miami | G13: NO | H13: Balt | I13: NYJ | J13: Minn | K13: NE | L13: SF | M13: Indy | N13: Den | O13: Oak | P13: GB | Q13: NYG | R13: Pitt | S13: Dallas
A14: McGarr, Elizabeth | B14: 12 | C14: /16 | D14: Det | E14: Atl | F14: Buff | G14: Car | H14: Balt | I14: NYJ | J14: Minn | K14: NE | L14: StL | M14: Indy | N14: SD | O14: KC | P14: Phil | Q14: NYG | R14: Pitt | S14: Dallas
... A26: FPLeague 2004 | B26: 11 | C26: /16 | D26: Det | E26: Atl | F26: Buff | G26: Car | H26: Balt | I26: NYJ | J26: Minn | K26: NE | L26: StL | M26: Indy | N26: SD | O26: KC | P26: Phil | Q26: NYG | R26: Pitt | S26: Seat
A27: 23 Total
A28: ** Rule 4 Violation

Sheet W14
A1: 2004 NFL Predictions
A2: WEEK 14
A3: Alsobrook, Luke | B3: 10 | C3: /16** | D3: N/A | E3: N/A | F3: N/A | G3: N/A | H3: N/A | I3: N/A | J3: N/A | K3: N/A | L3: N/A | M3: N/A | N3: N/A | O3: N/A | P3: N/A | Q3: N/A | R3: N/A | S3: N/A
A4: Ardill, Scott | B4: 12 | C4: /16 | D4: Jax | E4: NE | F4: Buff | G4: GB | H4: Indy | I4: Dallas | J4: Balt | K4: Atl | L4: Minn | M4: Den | N4: Pitt | O4: Ariz | P4: Car | Q4: TB | R4: Phil | S4: KC
A5: Baze, Drew | B5: 10 | C5: /16** | D5: N/A | E5: N/A | F5: N/A | G5: N/A | H5: N/A | I5: N/A | J5: N/A | K5: N/A | L5: N/A | M5: N/A | N5: N/A | O5: N/A | P5: N/A | Q5: N/A | R5: N/A | S5: N/A
A6: Curran, Kevin | B6: 12 | C6: /16 | D6: Jax | E6: NE | F6: Buff | G6: GB | H6: Indy | I6: NO | J6: Balt | K6: Atl | L6: Minn | M6: Den | N6: NYJ | O6: Ariz | P6: Car | Q6: SD | R6: Phil | S6: Tenn
A7: Hall, Bernie | B7: 10 | C7: /16** | D7: N/A | E7: N/A | F7: N/A | G7: N/A | H7: N/A | I7: N/A | J7: N/A | K7: N/A | L7: N/A | M7: N/A | N7: N/A | O7: N/A | P7: N/A | Q7: N/A | R7: N/A | S7: N/A
A8: Hall, Katy | B8: 10 | C8: /16** | D8: N/A | E8: N/A | F8: N/A | G8: N/A | H8: N/A | I8: N/A | J8: N/A | K8: N/A | L8: N/A | M8: N/A | N8: N/A | O8: N/A | P8: N/A | Q8: N/A | R8: N/A | S8: N/A
A9: Harvey, Chet | B9: 12 | C9: /16 | D9: Jax | E9: NE | F9: Buff | G9: GB | H9: Indy | I9: Dallas | J9: Balt | K9: Atl | L9: Minn | M9: Den | N9: Pitt | O9: Ariz | P9: StL | Q9: SD | R9: Phil | S9: KC
A10: Honea, Randy | B10: 13 | C10: /16 | D10: Jax | E10: NE | F10: Buff | G10: GB | H10: Indy | I10: Dallas | J10: Balt | K10: Atl | L10: Minn | M10: Den | N10: Pitt | O10: Ariz | P10: Car | Q10: SD | R10: Phil | S10: KC
A11: Huggins, Jonathan | B11: 11 | C11: /16 | D11: Jax | E11: NE | F11: Clev | G11: GB | H11: Indy | I11: Dallas | J11: NYG | K11: Atl | L11: Minn | M11: Den | N11: Pitt | O11: Ariz | P11: Car | Q11: SD | R11: Phil | S11: KC
A12: Manuel, Greg | B12: 14 | C12: /16 | D12: Jax | E12: NE | F12: Buff | G12: GB | H12: Indy | I12: NO | J12: Balt | K12: Atl | L12: Seat | M12: Den | N12: Pitt | O12: Ariz | P12: Car | Q12: TB | R12: Phil | S12: KC
A13: Markel, Lori | B13: 13 | C13: /16 | D13: Jax | E13: NE | F13: Buff | G13: GB | H13: Indy | I13: NO | J13: Balt | K13: Atl | L13: Minn | M13: Den | N13: Pitt | O13: Ariz | P13: Car | Q13: SD | R13: Phil | S13: Tenn
A14: McGarr, Elizabeth | B14: 11 | C14: /16 | D14: Chic | E14: NE | F14: Buff | G14: GB | H14: Indy | I14: Dallas | J14: Balt | K14: Atl | L14: Minn | M14: Den | N14: Pitt | O14: Ariz | P14: StL | Q14: SD | R14: Phil | S14: KC
... A26: FPLeague 2004 | B26: 13 | C26: /16 | D26: Jax | E26: NE | F26: Buff | G26: GB | H26: Indy | I26: Dallas | J26: Balt | K26: Atl | L26: Minn | M26: Den | N26: Pitt | O26: Ariz | P26: Car | Q26: SD | R26: Phil | S26: KC
A27: 23 Total
A28: ** Rule 4 Violation

Sheet W15
A1: 2004 NFL Predictions
A2: WEEK 15
A3: Alsobrook, Luke | B3: 3 | C3: /16** | D3: N/A | E3: N/A | F3: N/A | G3: N/A | H3: N/A | I3: N/A | J3: N/A | K3: N/A | L3: N/A | M3: N/A | N3: N/A | O3: N/A | P3: N/A | Q3: N/A | R3: N/A | S3: N/A
A4: Ardill, Scott | B4: 10 | C4: /16 | D4: Pitt | E4: Wash | F4: Car | G4: Buff | H4: Phil | I4: Houst | J4: GB | K4: Minn | L4: SD | M4: NYJ | N4: TB | O4: StL | P4: KC | Q4: Tenn | R4: Indy | S4: NE
A5: Baze, Drew | B5: 8 | C5: /16 | D5: Pitt | E5: SF | F5: Car | G5: Buff | H5: Phil | I5: Houst | J5: GB | K5: Minn | L5: Clev | M5: Seat | N5: TB | O5: StL | P5: KC | Q5: Oak | R5: Indy | S5: NE
A6: Curran, Kevin | B6: 11 | C6: /16 | D6: Pitt | E6: Wash | F6: Car | G6: Buff | H6: Phil | I6: Houst | J6: Jax | K6: Minn | L6: SD | M6: NYJ | N6: TB | O6: Ariz | P6: Den | Q6: Tenn | R6: Indy | S6: NE
A7: Hall, Bernie | B7: 3 | C7: /16** | D7: N/A | E7: N/A | F7: N/A | G7: N/A | H7: N/A | I7: N/A | J7: N/A | K7: N/A | L7: N/A | M7: N/A | N7: N/A | O7: N/A | P7: N/A | Q7: N/A | R7: N/A | S7: N/A
A8: Harvey, Chet | B8: 11 | C8: /16 | D8: Pitt | E8: Wash | F8: Atl | G8: Buff | H8: Phil | I8: Houst | J8: GB | K8: Minn | L8: SD | M8: NYJ | N8: TB | O8: StL | P8: KC | Q8: Tenn | R8: Indy | S8: NE
A9: Honea, Randy | B9: 10 | C9: /16 | D9: Pitt | E9: Wash | F9: Car | G9: Cincy | H9: Phil | I9: Chic | J9: GB | K9: Minn | L9: SD | M9: NYJ | N9: TB | O9: Ariz | P9: KC | Q9: Oak | R9: Indy | S9: NE
A10: Huggins, Jonathan | B10: 11 | C10: /16 | D10: Pitt | E10: Wash | F10: Car | G10: Buff | H10: Phil | I10: Houst | J10: GB | K10: Minn | L10: SD | M10: NYJ | N10: TB | O10: StL | P10: KC | Q10: Oak | R10: Indy | S10: NE
A11: Manuel, Greg | B11: 11 | C11: /16 | D11: Pitt | E11: Wash | F11: Car | G11: Buff | H11: Phil | I11: Houst | J11: GB | K11: Minn | L11: SD | M11: NYJ | N11: NO | O11: StL | P11: KC | Q11: Tenn | R11: Indy | S11: NE
A12: Markel, Lori | B12: 4 | C12: /16 | D12: NYG | E12: SF | F12: Atl | G12: Buff | H12: Phil | I12: Chic | J12: GB | K12: Det | L12: Clev | M12: NYJ | N12: TB | O12: StL | P12: Den | Q12: Tenn | R12: Balt | S12: NE
A13: McGarr, Elizabeth | B13: 7 | C13: /16 | D13: N/A | E13: N/A | F13: N/A | G13: Buff | H13: Dallas | I13: Chic | J13: GB | K13: Det | L13: SD | M13: NYJ | N13: TB | O13: Ariz | P13: KC | Q13: Oak | R13: Indy | S13: NE
A14: Pasumarthy, Praveen | B14: 3 | C14: /16** | D14: N/A | E14: N/A | F14: N/A | G14: N/A | H14: N/A | I14: N/A | J14: N/A | K14: N/A | L14: N/A | M14: N/A | N14: N/A | O14: N/A | P14: N/A | Q14: N/A | R14: N/A | S14: N/A
... A25: FPLeague 2004 | B25: 12 | C25: /16 | D25: Pitt | E25: Wash | F25: Atl | G25: Buff | H25: Phil | I25: Houst | J25: GB | K25: Minn | L25: SD | M25: NYJ | N25: TB | O25: StL | P25: KC | Q25: Oak | R25: Indy | S25: NE
A26: 22 Total
A27: ** Rule 4 Violation

Sheet W16
A1: 2004 NFL Predictions
A2: WEEK 16
A3: Ardill, Scott | B3: 13 | C3: /16 | D3: Minn | E3: KC | F3: Den | G3: NO | H3: Pitt | I3: Car | J3: Det | K3: Jax | L3: Cincy | M3: Indy | N3: Buff | O3: NE | P3: Seat | Q3: Dallas | R3: Miami | S3: Phil
A4: Baze, Drew | B4: 7 | C4: /16 | D4: GB | E4: KC | F4: Tenn | G4: Atl | H4: Pitt | I4: Car | J4: Det | K4: Jax | L4: NYG | M4: Indy | N4: SF | O4: NYJ | P4: Ariz | Q4: Dallas | R4: Clev | S4: Phil
A5: Curran, Kevin | B5: 7 | C5: /16 | D5: GB | E5: KC | F5: Tenn | G5: Atl | H5: Balt | I5: TB | J5: Chic | K5: Jax | L5: Cincy | M5: Indy | N5: Buff | O5: NYJ | P5: Seat | Q5: Dallas | R5: Clev | S5: Phil
A6: Harvey, Chet | B6: 9 | C6: /16 | D6: Minn | E6: KC | F6: Tenn | G6: Atl | H6: Balt | I6: Car | J6: Det | K6: Jax | L6: NYG | M6: Indy | N6: Buff | O6: NE | P6: Seat | Q6: Dallas | R6: Miami | S6: Phil
A7: Honea, Randy | B7: 11 | C7: /16 | D7: Minn | E7: KC | F7: Den | G7: NO | H7: Pitt | I7: TB | J7: Det | K7: Jax | L7: Cincy | M7: Indy | N7: Buff | O7: NYJ | P7: Seat | Q7: Dallas | R7: Miami | S7: Phil
A8: Huggins, Jonathan | B8: 12 | C8: /16 | D8: GB | E8: KC | F8: Tenn | G8: Atl | H8: Pitt | I8: Car | J8: Det | K8: Houst | L8: Cincy | M8: Indy | N8: Buff | O8: NE | P8: Seat | Q8: Dallas | R8: Clev | S8: Phil
A9: Manuel, Greg | B9: 6 | C9: /16** | D9: N/A | E9: N/A | F9: N/A | G9: N/A | H9: N/A | I9: N/A | J9: N/A | K9: N/A | L9: N/A | M9: N/A | N9: N/A | O9: N/A | P9: N/A | Q9: N/A | R9: N/A | S9: N/A
A10: Markel, Lori | B10: 8 | C10: /16 | D10: GB | E10: KC | F10: Den | G10: Atl | H10: Balt | I10: TB | J10: Det | K10: Jax | L10: NYG | M10: Indy | N10: SF | O10: NE | P10: Ariz | Q10: Wash | R10: Miami | S10: StL
A11: McGarr, Elizabeth | B11: 11 | C11: /16 | D11: N/A | E11: KC | F11: Den | G11: Atl | H11: Pitt | I11: TB | J11: Det | K11: Jax | L11: Cincy | M11: Indy | N11: Buff | O11: NYJ | P11: Seat | Q11: Dallas | R11: Miami | S11: StL
A12: Pasumarthy, Praveen | B12: 6 | C12: /16** | D12: N/A | E12: N/A | F12: N/A | G12: N/A | H12: N/A | I12: N/A | J12: N/A | K12: N/A | L12: N/A | M12: N/A | N12: N/A | O12: N/A | P12: N/A | Q12: N/A | R12: N/A | S12: N/A
A13: Prothro, Evan | B13: 14 | C13: /16 | D13: GB | E13: KC | F13: Den | G13: NO | H13: Pitt | I13: Car | J13: Det | K13: Jax | L13: Cincy | M13: Indy | N13: Buff | O13: NE | P13: Seat | Q13: Dallas | R13: Miami | S13: Phil
A14: Prothro, Kim | B14: 8 | C14: /16 | D14: N/A | E14: N/A | F14: N/A | G14: NO | H14: Pitt | I14: TB | J14: Det | K14: Jax | L14: NYG | M14: Indy | N14: Buff | O14: NE | P14: Seat | Q14: Dallas | R14: Clev | S14: Phil
... A22: FPLeague 2004 | B22: 13 | C22: /16 | D22: GB | E22: KC | F22: Den | G22: Atl | H22: Pitt | I22: Car | J22: Det | K22: Jax | L22: Cincy | M22: Indy | N22: Buff | O22: NE | P22: Seat | Q22: Dallas | R22: Miami | S22: Phil
A23: 19 Total
A24: ** Rule 4 Violation

Sheet W17
A1: 2004 NFL Predictions
A2: WEEK 17
A3: Ardill, Scott | B3: 9 | C3: /16 | D3: Cincy | E3: Houst | F3: Tenn | G3: GB | H3: Balt | I3: Minn | J3: Car | K3: NYJ | L3: Buff | M3: NE | N3: Seat | O3: Ariz | P3: Indy | Q3: Jax | R3: KC | S3: NYG
A4: Baze, Drew | B4: 5 | C4: /16 | D4: Phil | E4: Houst | F4: Tenn | G4: GB | H4: Balt | I4: Minn | J4: Car | K4: NYJ | L4: Pitt | M4: SF | N4: Atl | O4: TB | P4: Indy | Q4: Oak | R4: KC | S4: NYG
A5: Curran, Kevin | B5: 8 | C5: /16 | D5: Cincy | E5: Houst | F5: Det | G5: GB | H5: Balt | I5: Minn | J5: Car | K5: NYJ | L5: Buff | M5: NE | N5: Seat | O5: TB | P5: Indy | Q5: Jax | R5: SD | S5: NYG
A6: Harvey, Chet | B6: 4 | C6: /16** | D6: N/A | E6: N/A | F6: N/A | G6: N/A | H6: N/A | I6: N/A | J6: N/A | K6: N/A | L6: N/A | M6: N/A | N6: N/A | O6: N/A | P6: N/A | Q6: N/A | R6: N/A | S6: N/A
A7: Honea, Randy | B7: 7 | C7: /16 | D7: Cincy | E7: Houst | F7: Tenn | G7: Chic | H7: Balt | I7: Minn | J7: Car | K7: NYJ | L7: Buff | M7: NE | N7: Seat | O7: TB | P7: Den | Q7: Oak | R7: SD | S7: Dallas
A8: Huggins, Jonathan | B8: 6 | C8: /16 | D8: Phil | E8: Houst | F8: Det | G8: GB | H8: Balt | I8: Minn | J8: Car | K8: NYJ | L8: Pitt | M8: NE | N8: Seat | O8: TB | P8: Indy | Q8: Oak | R8: SD | S8: Dallas
A9: Manuel, Greg | B9: 8 | C9: /16 | D9: Cincy | E9: Houst | F9: Tenn | G9: GB | H9: Balt | I9: Minn | J9: Car | K9: NYJ | L9: Buff | M9: NE | N9: Seat | O9: TB | P9: Indy | Q9: Jax | R9: KC | S9: NYG
A10: Markel, Lori | B10: 8 | C10: /16 | D10: Phil | E10: Clev | F10: Det | G10: GB | H10: Balt | I10: Minn | J10: Car | K10: StL | L10: Pitt | M10: NE | N10: Atl | O10: TB | P10: Den | Q10: Oak | R10: KC | S10: NYG
A11: McGarr, Elizabeth | B11: 8 | C11: /16 | D11: Phil | E11: Houst | F11: Det | G11: GB | H11: Balt | I11: Minn | J11: Car | K11: StL | L11: Buff | M11: NE | N11: Seat | O11: Ariz | P11: Indy | Q11: Jax | R11: SD | S11: Dallas
A12: Pasumarthy, Praveen | B12: 4 | C12: /16** | D12: N/A | E12: N/A | F12: N/A | G12: N/A | H12: N/A | I12: N/A | J12: N/A | K12: N/A | L12: N/A | M12: N/A | N12: N/A | O12: N/A | P12: N/A | Q12: N/A | R12: N/A | S12: N/A
A13: Prothro, Evan | B13: 4 | C13: /16** | D13: N/A | E13: N/A | F13: N/A | G13: N/A | H13: N/A | I13: N/A | J13: N/A | K13: N/A | L13: N/A | M13: N/A | N13: N/A | O13: N/A | P13: N/A | Q13: N/A | R13: N/A | S13: N/A
A14: Prothro, Kim | B14: 8 | C14: /16 | D14: Phil | E14: Houst | F14: Tenn | G14: GB | H14: Balt | I14: Minn | J14: Car | K14: NYJ | L14: Pitt | M14: NE | N14: Seat | O14: Ariz | P14: Indy | Q14: Oak | R14: SD | S14: Dallas
... A22: FPLeague 2004 | B22: 6.5 | C22: /16 | D22: EVEN | E22: Houst | F22: Det | G22: GB | H22: Balt | I22: Minn | J22: Car | K22: NYJ | L22: Buff | M22: NE | N22: Seat | O22: TB | P22: Indy | Q22: EVEN | R22: SD | S22: EVEN
A23: 19 Total
A24: ** Rule 4 Violation

Sheet W18
A1: 2004 FPLeague Predictions
A2: POST SEASON
A3: Ardill, Scott | B3: 8 | C3: /11 | D3: StL | E3: SD | F3: Indy | G3: GB | H3: Pitt | I3: Atl | J3: Phil | K3: Indy | L3: Phil | M3: NE | N3: NE
A4: Baze, Drew | B4: 1 | C4: /11** | D4: N/A | E4: N/A | F4: N/A | G4: N/A | H4: N/A | I4: N/A | J4: N/A | K4: N/A | L4: Phil | M4: Pitt | N4: Phil
A5: Curran, Kevin | B5: 8 | C5: /11 | D5: StL | E5: SD | F5: Indy | G5: Minn | H5: Pitt | I5: Atl | J5: Phil | K5: Indy | L5: Phil | M5: NE | N5: Phil
A6: Harvey, Chet | B6: 0 | C6: /11** | D6: N/A | E6: N/A | F6: N/A | G6: N/A | H6: N/A | I6: N/A | J6: N/A | K6: N/A | L6: N/A | M6: N/A | N6: N/A
A7: Honea, Randy | B7: 7 | C7: /11 | D7: StL | E7: SD | F7: Indy | G7: GB | H7: Pitt | I7: Atl | J7: Phil | K7: NE | L7: Phil | M7: Pitt | N7: Phil
A8: Huggins, Jonathan | B8: 7 | C8: /11 | D8: Seat | E8: NYJ | F8: Indy | G8: GB | H8: Pitt | I8: Atl | J8: Phil | K8: Indy | L8: Phil | M8: Pitt | N8: NE
A9: Manuel, Greg | B9: 6 | C9: /11 | D9: Seat | E9: NYJ | F9: Indy | G9: Minn | H9: NYJ | I9: Atl | J9: Minn | K9: NE | L9: Atl | M9: NE | N9: Phil
A10: Markel, Lori | B10: 2 | C10: /11** | D10: N/A | E10: N/A | F10: N/A | G10: N/A | H10: N/A | I10: N/A | J10: N/A | K10: N/A | L10: Atl | M10: NE | N10: NE
A11: McGarr, Elizabeth | B11: 6 | C11: /11 | D11: StL | E11: SD | F11: Indy | G11: GB | H11: Pitt | I11: StL | J11: Phil | K11: Indy | L11: Phil | M11: NE | N11: Phil
A12: Prothro, Kim | B12: 3 | C12: /11 | D12: Seat | E12: SD | F12: Indy | G12: GB | H12: N/A | I12: N/A | J12: N/A | K12: N/A | L12: Phil | M12: Pitt | N12: NE
A13: Prothro, Tom | B13: 6 | C13: /11 | D13: Seat | E13: SD | F13: Indy | G13: GB | H13: Pitt | I13: Atl | J13: Phil | K13: Indy | L13: Phil | M13: Pitt | N13: NE
A14: Seamands, Jorden | B14: 7 | C14: /11 | D14: Seat | E14: SD | F14: Indy | G14: GB | H14: Pitt | I14: Atl | J14: Phil | K14: Indy | L14: Phil | M14: NE | N14: NE
... A20: FPLeague 2004 | B20: 7 | C20: /11 | D20: Seat | E20: SD | F20: Indy | G20: GB | H20: Pitt | I20: Atl | J20: Phil | K20: Indy | L20: Phil | M20: NE | N20: NE
A21: 17 Total
A22: ** Rule 4 Violation
